BEGIN:VCALENDAR
VERSION:2.0
PRODID:-//ACA WSO - ECPv6.15.20//NONSGML v1.0//EN
CALSCALE:GREGORIAN
METHOD:PUBLISH
X-WR-CALNAME:ACA WSO
X-ORIGINAL-URL:https://acawso.org
X-WR-CALDESC:Events for ACA WSO
REFRESH-INTERVAL;VALUE=DURATION:PT1H
X-Robots-Tag:noindex
X-PUBLISHED-TTL:PT1H
BEGIN:VTIMEZONE
TZID:America/New_York
BEGIN:DAYLIGHT
TZOFFSETFROM:-0500
TZOFFSETTO:-0400
TZNAME:EDT
DTSTART:20230312T070000
END:DAYLIGHT
BEGIN:STANDARD
TZOFFSETFROM:-0400
TZOFFSETTO:-0500
TZNAME:EST
DTSTART:20231105T060000
END:STANDARD
BEGIN:DAYLIGHT
TZOFFSETFROM:-0500
TZOFFSETTO:-0400
TZNAME:EDT
DTSTART:20240310T070000
END:DAYLIGHT
BEGIN:STANDARD
TZOFFSETFROM:-0400
TZOFFSETTO:-0500
TZNAME:EST
DTSTART:20241103T060000
END:STANDARD
BEGIN:DAYLIGHT
TZOFFSETFROM:-0500
TZOFFSETTO:-0400
TZNAME:EDT
DTSTART:20250309T070000
END:DAYLIGHT
BEGIN:STANDARD
TZOFFSETFROM:-0400
TZOFFSETTO:-0500
TZNAME:EST
DTSTART:20251102T060000
END:STANDARD
END:VTIMEZONE
BEGIN:VEVENT
DTSTART;TZID=America/New_York:20240413T100000
DTEND;TZID=America/New_York:20240413T160000
DTSTAMP:20260425T143005
CREATED:20240321T113104Z
LAST-MODIFIED:20240321T113104Z
UID:10012584-1713002400-1713024000@acawso.org
SUMMARY:Building a Foundation Together - ACA Step 1\, 2\, 3 Workshop
DESCRIPTION:Building a Foundation Together\nACA Step 1\, 2\, 3 Workshop\nSaturday\, April 13th\, 9am – 3pm\n(In-Person Event) \nThe Wauwatosa Friday Night Lights group is sponsoring a free STEPS 1\, 2\, 3 in-person workshop on Saturday\, April 13\, from 9am to 3pm CT. \nThis workshop is for those who want to get started working the steps and those who want a refresher. There will be three roundtables of 3 panelists\, each covering a step\, Q&A\, and table time to work the step. There will also be a fun skit illustrating some of the common traits as well as lunch\, snacks\, refreshments and more. \nLocation:\nHoly Trinity Lutheran Church\n11709 W Cleveland Ave\nWest Allis\, WI 53227 \nSponsored by WI0149 \nDownloadable flyer.
URL:https://acawso.org/calendar/building-a-foundation-together-aca-step-1-2-3-workshop/
CATEGORIES:events
END:VEVENT
BEGIN:VEVENT
DTSTART;TZID=America/New_York:20240413T100000
DTEND;TZID=America/New_York:20240413T180000
DTSTAMP:20260425T143005
CREATED:20240328T171244Z
LAST-MODIFIED:20240328T171244Z
UID:10012656-1713002400-1713031200@acawso.org
SUMMARY:One Day Ready Set GO!! Workshop in Toronto
DESCRIPTION:The ACA Regional Intergroup Greater Toronto and Area (IG# 558) is inviting you to: \nREADY SET GO!! ONE DAY WORKSHOP \nSaturday\, April 13\, 2024 10am—6pm EST \nSt. Andrew’s United Church\n117 Bloor St E\, Toronto\, ON M4W 1A9 \nReady Set GO! is an interactive\, experiential introduction to the 12 Steps of ACA and the ACA Solution:\nBecoming your own Loving Parent and developing a healing relationship with your Inner Child. \nRegistration opens at 9:30 am\nThere will be a 60-minute break for lunch \nFor more information and to register\, visit https://acatoronto.org/ready-set-go-workshop/\nQuestions? Contact us at acatorontoevents@gmail.com \nSponsored by IG#558 \nDownloadable flyer.
URL:https://acawso.org/calendar/one-day-ready-set-go-workshop-in-toronto/
CATEGORIES:events
END:VEVENT
BEGIN:VEVENT
DTSTART;TZID=America/New_York:20240413T120000
DTEND;TZID=America/New_York:20240413T130000
DTSTAMP:20260425T143005
CREATED:20240113T130000Z
LAST-MODIFIED:20240113T130001Z
UID:10005299-1713009600-1713013200@acawso.org
SUMMARY:Content Development Collaboration Committee- Not meeting until April 2024
DESCRIPTION:Content Development CC is not going to hold any meetings until April 2024. \nZoom Meeting ID: 898 9458 7779\nPasscode: 345350
URL:https://acawso.org/calendar/content-development-collaboration-committee-2-2/2024-04-13/
CATEGORIES:committees
END:VEVENT
BEGIN:VEVENT
DTSTART;TZID=America/New_York:20240413T133000
DTEND;TZID=America/New_York:20240413T135500
DTSTAMP:20260425T143005
CREATED:20240408T181905Z
LAST-MODIFIED:20240408T181906Z
UID:10012660-1713015000-1713016500@acawso.org
SUMMARY:Meet & Greet with the Volunteer Resource Committee
DESCRIPTION:Meet & Greet\, with the Volunteer Resource Committee\nOur purpose is to provide a casual space to ask questions about volunteering within various WSO Committees\, finding clarity in each others’ experience\, strength and hope; and to promote healthy functioning in WSO committees.When will we meet?\n\nIf a Board Teleconference is planned for that month\, we will meet 20 minutes before the meeting\, from 1:30 – 1:55 pm ET\, or\nIf a Board Teleconference is canceled that month\, we will meet for 30 minutes beginning at the usual Teleconference time\, from 2:00 – 2:30 pm ET\n\nWhere do we meet?\nZoom 3\nMeeting ID: 869 3807 5882\nPasscode: 656656
URL:https://acawso.org/calendar/meet-greet-with-the-volunteer-resource-committee-3/2024-04-13/
CATEGORIES:committees,events
END:VEVENT
BEGIN:VEVENT
DTSTART;TZID=America/New_York:20240413T200000
DTEND;TZID=America/New_York:20240413T213000
DTSTAMP:20260425T143005
CREATED:20240212T162611Z
LAST-MODIFIED:20240212T162820Z
UID:10012510-1713038400-1713043800@acawso.org
SUMMARY:Big Red Book Working Group
DESCRIPTION:Zoom 2 ACAWSO is inviting you to a scheduled Zoom meeting.\nTopic: BRB Revision Working Group- Global East\nTime: Every month on the second and fourth Saturday at 8 PM Eastern US \nJoin Zoom Meeting\nhttps://zoom.us/j/92423141348\nMeeting ID: 924 2314 1348\nPasscode: 112358 \nPlease download and import the following iCalendar (.ics) files to your calendar system.\nMonthly: https://zoom.us/meeting/tJYpdeqpqjopHtwsBMOyTO0tAY5XaN4QYv7-/ics?icsToken=98tyKuCqqjkpG9CUsx2PRowQBojob-vwiH5egrdKjz3ILDlnTVPiF9sXCrNRROnp
URL:https://acawso.org/calendar/brb-revision-working-group-global-east-3/2024-04-13/
CATEGORIES:committees
END:VEVENT
END:VCALENDAR