BEGIN:VCALENDAR
VERSION:2.0
PRODID:-//ACA WSO - ECPv6.15.20//NONSGML v1.0//EN
CALSCALE:GREGORIAN
METHOD:PUBLISH
X-WR-CALNAME:ACA WSO
X-ORIGINAL-URL:https://acawso.org
X-WR-CALDESC:Events for ACA WSO
REFRESH-INTERVAL;VALUE=DURATION:PT1H
X-Robots-Tag:noindex
X-PUBLISHED-TTL:PT1H
BEGIN:VTIMEZONE
TZID:America/New_York
BEGIN:DAYLIGHT
TZOFFSETFROM:-0500
TZOFFSETTO:-0400
TZNAME:EDT
DTSTART:20230312T070000
END:DAYLIGHT
BEGIN:STANDARD
TZOFFSETFROM:-0400
TZOFFSETTO:-0500
TZNAME:EST
DTSTART:20231105T060000
END:STANDARD
BEGIN:DAYLIGHT
TZOFFSETFROM:-0500
TZOFFSETTO:-0400
TZNAME:EDT
DTSTART:20240310T070000
END:DAYLIGHT
BEGIN:STANDARD
TZOFFSETFROM:-0400
TZOFFSETTO:-0500
TZNAME:EST
DTSTART:20241103T060000
END:STANDARD
BEGIN:DAYLIGHT
TZOFFSETFROM:-0500
TZOFFSETTO:-0400
TZNAME:EDT
DTSTART:20250309T070000
END:DAYLIGHT
BEGIN:STANDARD
TZOFFSETFROM:-0400
TZOFFSETTO:-0500
TZNAME:EST
DTSTART:20251102T060000
END:STANDARD
END:VTIMEZONE
BEGIN:VEVENT
DTSTART;TZID=America/New_York:20240518T103000
DTEND;TZID=America/New_York:20240518T120000
DTSTAMP:20260425T225551
CREATED:20230524T174507Z
LAST-MODIFIED:20230524T174507Z
UID:10007681-1716028200-1716033600@acawso.org
SUMMARY:ABC/AWC Committee
DESCRIPTION:The ABC/AWC committee meets first and third Saturday at 10:30AM EDT \nJoin Zoom Meeting\nhttps://us02web.zoom.us/j/87582913615?pwd=dWpPNVJPcVNiVjJxbGgzbFVwY05EZz09 \nMeeting ID: 875 8291 3615\nPasscode: ABC2022 \nContact abc@adultchildren.org for more details. \nMonthly reports posted at https://acawso.org/category/abc-committee/
URL:https://acawso.org/calendar/abc-awc-committee-4/2024-05-18/
CATEGORIES:committees
END:VEVENT
BEGIN:VEVENT
DTSTART;TZID=America/New_York:20240518T140000
DTEND;TZID=America/New_York:20240518T150000
DTSTAMP:20260425T225551
CREATED:20210628T210848Z
LAST-MODIFIED:20221215T110738Z
UID:10004780-1716040800-1716044400@acawso.org
SUMMARY:Comline SubCommittee
DESCRIPTION:Comline Subcommittee meets the third Saturday of the month at 2:00pm ET (US) \nWe are currently working on developing an ACA blog. \nJoin Zoom Meeting\nhttps://us02web.zoom.us/j/85733515540?pwd=amV0K0ZIVXAwWDltdkViVEFnczlUQT09 \nMeeting ID: 857 3351 5540\nPasscode: comline \nFind your local number: https://us02web.zoom.us/u/kz0Qm1NB6
URL:https://acawso.org/calendar/comline-subcommittee/2024-05-18/
CATEGORIES:committees
END:VEVENT
END:VCALENDAR