BEGIN:VCALENDAR
VERSION:2.0
PRODID:-//ACA WSO - ECPv6.15.20//NONSGML v1.0//EN
CALSCALE:GREGORIAN
METHOD:PUBLISH
X-WR-CALNAME:ACA WSO
X-ORIGINAL-URL:https://acawso.org
X-WR-CALDESC:Events for ACA WSO
REFRESH-INTERVAL;VALUE=DURATION:PT1H
X-Robots-Tag:noindex
X-PUBLISHED-TTL:PT1H
BEGIN:VTIMEZONE
TZID:America/New_York
BEGIN:DAYLIGHT
TZOFFSETFROM:-0500
TZOFFSETTO:-0400
TZNAME:EDT
DTSTART:20230312T070000
END:DAYLIGHT
BEGIN:STANDARD
TZOFFSETFROM:-0400
TZOFFSETTO:-0500
TZNAME:EST
DTSTART:20231105T060000
END:STANDARD
BEGIN:DAYLIGHT
TZOFFSETFROM:-0500
TZOFFSETTO:-0400
TZNAME:EDT
DTSTART:20240310T070000
END:DAYLIGHT
BEGIN:STANDARD
TZOFFSETFROM:-0400
TZOFFSETTO:-0500
TZNAME:EST
DTSTART:20241103T060000
END:STANDARD
BEGIN:DAYLIGHT
TZOFFSETFROM:-0500
TZOFFSETTO:-0400
TZNAME:EDT
DTSTART:20250309T070000
END:DAYLIGHT
BEGIN:STANDARD
TZOFFSETFROM:-0400
TZOFFSETTO:-0500
TZNAME:EST
DTSTART:20251102T060000
END:STANDARD
END:VTIMEZONE
BEGIN:VEVENT
DTSTART;TZID=America/New_York:20240601T080000
DTEND;TZID=America/New_York:20240601T093000
DTSTAMP:20260422T111154
CREATED:20201031T134047Z
LAST-MODIFIED:20230107T130017Z
UID:10004374-1717228800-1717234200@acawso.org
SUMMARY:European Committee
DESCRIPTION:The monthly meeting is hosted by Zoom the First Saturday of the month 14:00 (2pm) CET (GMT+1) \nhttps://us02web.zoom.us/j/83834372326 \nMeeting ID: 838 3437 2326\nPasscode: 437668 \nMore information about the European Committee can be found at https://acawso.org/category/european-connection/
URL:https://acawso.org/calendar/european-committee/2024-06-01/
CATEGORIES:committees
END:VEVENT
BEGIN:VEVENT
DTSTART;TZID=America/New_York:20240601T103000
DTEND;TZID=America/New_York:20240601T120000
DTSTAMP:20260422T111154
CREATED:20230718T154707Z
LAST-MODIFIED:20230718T154707Z
UID:10007646-1717237800-1717243200@acawso.org
SUMMARY:ABC/AWC Committee
DESCRIPTION:The ABC/AWC committee meets first and third Saturday at 10:30AM EDT \nJoin Zoom Meeting\nhttps://us02web.zoom.us/j/87582913615?pwd=dWpPNVJPcVNiVjJxbGgzbFVwY05EZz09 \nMeeting ID: 875 8291 3615\nPasscode: ABC2022 \nContact abc@adultchildren.org for more details. \nMonthly reports posted at https://acawso.org/category/abc-committee/
URL:https://acawso.org/calendar/abc-awc-committee-4-2-2/2024-06-01/
CATEGORIES:committees
END:VEVENT
BEGIN:VEVENT
DTSTART;TZID=America/New_York:20240601T124500
DTEND;TZID=America/New_York:20240601T134500
DTSTAMP:20260422T111154
CREATED:20210626T131806Z
LAST-MODIFIED:20260115T115550Z
UID:10007261-1717245900-1717249500@acawso.org
SUMMARY:Lit Evaluation Subcommittee
DESCRIPTION:Literature Evaluation meets the 1st Saturday of each month\, 12:45pm-1:45pm ET. \ncontact: liteval@acawso.org \nhttps://us02web.zoom.us/j/86113897454?pwd=UitVN2tHb1E1STJ5YXlWYU1mZXZ5Zz09 \nMeeting ID: 861 1389 7454\nPasscode: 127253
URL:https://acawso.org/calendar/lit-evaluation-subcommittee-3/2024-06-01/
CATEGORIES:committees
END:VEVENT
BEGIN:VEVENT
DTSTART;TZID=America/New_York:20240601T130000
DTEND;TZID=America/New_York:20240601T130000
DTSTAMP:20260422T111154
CREATED:20240607T103940Z
LAST-MODIFIED:20240607T104135Z
UID:10005503-1717246800-1717246800@acawso.org
SUMMARY:Fellowship & Public Engagement Collaboration Committee
DESCRIPTION:Fellowship & Public Engagement Collaboration Committee meets monthly on the 1st Saturday of each month at 1:00 – 2:30pm ET. \nhttps://us02web.zoom.us/j/87603226267\nMeeting ID: 87603226267\nPasscode: 90755 \nFind your local number: https://us02web.zoom.us/u/kejKdWCRE9
URL:https://acawso.org/calendar/fellowship-public-engagement-collaboration-committee-2-2-2/2024-06-01/
CATEGORIES:committees
END:VEVENT
BEGIN:VEVENT
DTSTART;TZID=America/New_York:20240601T160000
DTEND;TZID=America/New_York:20240601T173000
DTSTAMP:20260422T111154
CREATED:20220716T210629Z
LAST-MODIFIED:20231031T133925Z
UID:10011406-1717257600-1717263000@acawso.org
SUMMARY:SRC Committee Meeting
DESCRIPTION:Service Resources Committee meets on the 1st and 3rd Saturday of the month at 4pm ET. \nZoom 2 ACAWSO is inviting you to a scheduled Zoom meeting. \nTopic: SRC Committee Meeting\nJoin Zoom Meeting\nhttps://us02web.zoom.us/j/82077851277 \nMeeting ID: 820 7785 1277\nPasscode: 987321 \n  \nPlease download and import the following iCalendar (.ics) files to your calendar system.\nWeekly: https://us02web.zoom.us/meeting/tZYtcO6gqzooHdN_nSsMjGe-HFnItRpAbjLl/ics?icsToken=98tyKuGqrjwtEtGUsh6ARpwQAo_CKPzwmH5BgqdzoxHWEA1ZRQa7HsRMG6ZNAPnS
URL:https://acawso.org/calendar/mssc-committee-meeting-2/2024-06-01/
CATEGORIES:committees
END:VEVENT
END:VCALENDAR