BEGIN:VCALENDAR
VERSION:2.0
PRODID:-//ACA WSO - ECPv6.15.20//NONSGML v1.0//EN
CALSCALE:GREGORIAN
METHOD:PUBLISH
X-WR-CALNAME:ACA WSO
X-ORIGINAL-URL:https://acawso.org
X-WR-CALDESC:Events for ACA WSO
REFRESH-INTERVAL;VALUE=DURATION:PT1H
X-Robots-Tag:noindex
X-PUBLISHED-TTL:PT1H
BEGIN:VTIMEZONE
TZID:America/New_York
BEGIN:DAYLIGHT
TZOFFSETFROM:-0500
TZOFFSETTO:-0400
TZNAME:EDT
DTSTART:20230312T070000
END:DAYLIGHT
BEGIN:STANDARD
TZOFFSETFROM:-0400
TZOFFSETTO:-0500
TZNAME:EST
DTSTART:20231105T060000
END:STANDARD
BEGIN:DAYLIGHT
TZOFFSETFROM:-0500
TZOFFSETTO:-0400
TZNAME:EDT
DTSTART:20240310T070000
END:DAYLIGHT
BEGIN:STANDARD
TZOFFSETFROM:-0400
TZOFFSETTO:-0500
TZNAME:EST
DTSTART:20241103T060000
END:STANDARD
BEGIN:DAYLIGHT
TZOFFSETFROM:-0500
TZOFFSETTO:-0400
TZNAME:EDT
DTSTART:20250309T070000
END:DAYLIGHT
BEGIN:STANDARD
TZOFFSETFROM:-0400
TZOFFSETTO:-0500
TZNAME:EST
DTSTART:20251102T060000
END:STANDARD
END:VTIMEZONE
BEGIN:VEVENT
DTSTART;TZID=America/New_York:20240609T160000
DTEND;TZID=America/New_York:20240609T173000
DTSTAMP:20260422T183841
CREATED:20240521T195256Z
LAST-MODIFIED:20240521T195342Z
UID:10012937-1717948800-1717954200@acawso.org
SUMMARY:Volunteer Resources Committee
DESCRIPTION:Starting on October\, the VRC meets on the second Sunday of the month at 4pm ET on Zoom 3. \nJoin Zoom Meeting\nhttps://us02web.zoom.us/j/86938075882?pwd=MzlFV0RYUkc2UUt4dGRid3dqN1FNdz09 \nMeeting ID: 869 3807 5882\nPasscode: 656656 \nPlease contact us at vrc@acawso.org if you would like more information.
URL:https://acawso.org/calendar/volunteer-resources-committee-2-2-2-2/2024-06-09/
CATEGORIES:committees
END:VEVENT
END:VCALENDAR