BEGIN:VCALENDAR
VERSION:2.0
PRODID:-//ACA WSO - ECPv6.15.20//NONSGML v1.0//EN
CALSCALE:GREGORIAN
METHOD:PUBLISH
X-ORIGINAL-URL:https://acawso.org
X-WR-CALDESC:Events for ACA WSO
REFRESH-INTERVAL;VALUE=DURATION:PT1H
X-Robots-Tag:noindex
X-PUBLISHED-TTL:PT1H
BEGIN:VTIMEZONE
TZID:America/New_York
BEGIN:DAYLIGHT
TZOFFSETFROM:-0500
TZOFFSETTO:-0400
TZNAME:EDT
DTSTART:20230312T070000
END:DAYLIGHT
BEGIN:STANDARD
TZOFFSETFROM:-0400
TZOFFSETTO:-0500
TZNAME:EST
DTSTART:20231105T060000
END:STANDARD
BEGIN:DAYLIGHT
TZOFFSETFROM:-0500
TZOFFSETTO:-0400
TZNAME:EDT
DTSTART:20240310T070000
END:DAYLIGHT
BEGIN:STANDARD
TZOFFSETFROM:-0400
TZOFFSETTO:-0500
TZNAME:EST
DTSTART:20241103T060000
END:STANDARD
BEGIN:DAYLIGHT
TZOFFSETFROM:-0500
TZOFFSETTO:-0400
TZNAME:EDT
DTSTART:20250309T070000
END:DAYLIGHT
BEGIN:STANDARD
TZOFFSETFROM:-0400
TZOFFSETTO:-0500
TZNAME:EST
DTSTART:20251102T060000
END:STANDARD
END:VTIMEZONE
BEGIN:VEVENT
DTSTART;TZID=America/New_York:20240615T103000
DTEND;TZID=America/New_York:20240615T120000
DTSTAMP:20260422T073554
CREATED:20230524T174507Z
LAST-MODIFIED:20230524T174507Z
UID:10007682-1718447400-1718452800@acawso.org
SUMMARY:ABC/AWC Committee
DESCRIPTION:The ABC/AWC committee meets first and third Saturday at 10:30AM EDT \nJoin Zoom Meeting\nhttps://us02web.zoom.us/j/87582913615?pwd=dWpPNVJPcVNiVjJxbGgzbFVwY05EZz09 \nMeeting ID: 875 8291 3615\nPasscode: ABC2022 \nContact abc@adultchildren.org for more details. \nMonthly reports posted at https://acawso.org/category/abc-committee/
URL:https://acawso.org/calendar/abc-awc-committee-4/2024-06-15/
CATEGORIES:committees
END:VEVENT
BEGIN:VEVENT
DTSTART;TZID=America/New_York:20240615T130000
DTEND;TZID=America/New_York:20240615T143000
DTSTAMP:20260422T073554
CREATED:20240611T164547Z
LAST-MODIFIED:20240611T164547Z
UID:10013211-1718456400-1718461800@acawso.org
SUMMARY:ACA Teen facilitator Speaker & Q&A
DESCRIPTION:You are invited to attend an ACA Zoom speaker meeting series focused on the experience of adult ACA members who have created and coordinated ACA Teen meetings for the benefit of sharing ideas\, best practices\, and inspiring other ACA members who may be interested to start more ACA Teen meetings. \nWe’ll open the meetings with ACA readings followed by a welcome to attendees and introduction of our ACA speaker who will share for 30-40 minutes followed by an approximately 30 minute Question & Answer session. With the permission of our speakers\, we hope to create an archive of audio recordings for the benefit of our fellowship and ACA Teen efforts moving forward. We’ll hope to share fellowship time after the meetings for more connection and discussion. \nSponsored by Young Adults and Teens Subcommittee. \nInfo on how to attend on the flyer below.
URL:https://acawso.org/calendar/aca-teen-facilitator-speaker-qa/
CATEGORIES:events
END:VEVENT
BEGIN:VEVENT
DTSTART;TZID=America/New_York:20240615T140000
DTEND;TZID=America/New_York:20240615T150000
DTSTAMP:20260422T073554
CREATED:20210628T210848Z
LAST-MODIFIED:20221215T110738Z
UID:10004781-1718460000-1718463600@acawso.org
SUMMARY:Comline SubCommittee
DESCRIPTION:Comline Subcommittee meets the third Saturday of the month at 2:00pm ET (US) \nWe are currently working on developing an ACA blog. \nJoin Zoom Meeting\nhttps://us02web.zoom.us/j/85733515540?pwd=amV0K0ZIVXAwWDltdkViVEFnczlUQT09 \nMeeting ID: 857 3351 5540\nPasscode: comline \nFind your local number: https://us02web.zoom.us/u/kz0Qm1NB6
URL:https://acawso.org/calendar/comline-subcommittee/2024-06-15/
CATEGORIES:committees
END:VEVENT
END:VCALENDAR