BEGIN:VCALENDAR
VERSION:2.0
PRODID:-//ACA WSO - ECPv6.15.20//NONSGML v1.0//EN
CALSCALE:GREGORIAN
METHOD:PUBLISH
X-WR-CALNAME:ACA WSO
X-ORIGINAL-URL:https://acawso.org
X-WR-CALDESC:Events for ACA WSO
REFRESH-INTERVAL;VALUE=DURATION:PT1H
X-Robots-Tag:noindex
X-PUBLISHED-TTL:PT1H
BEGIN:VTIMEZONE
TZID:America/New_York
BEGIN:DAYLIGHT
TZOFFSETFROM:-0500
TZOFFSETTO:-0400
TZNAME:EDT
DTSTART:20230312T070000
END:DAYLIGHT
BEGIN:STANDARD
TZOFFSETFROM:-0400
TZOFFSETTO:-0500
TZNAME:EST
DTSTART:20231105T060000
END:STANDARD
BEGIN:DAYLIGHT
TZOFFSETFROM:-0500
TZOFFSETTO:-0400
TZNAME:EDT
DTSTART:20240310T070000
END:DAYLIGHT
BEGIN:STANDARD
TZOFFSETFROM:-0400
TZOFFSETTO:-0500
TZNAME:EST
DTSTART:20241103T060000
END:STANDARD
BEGIN:DAYLIGHT
TZOFFSETFROM:-0500
TZOFFSETTO:-0400
TZNAME:EDT
DTSTART:20250309T070000
END:DAYLIGHT
BEGIN:STANDARD
TZOFFSETFROM:-0400
TZOFFSETTO:-0500
TZNAME:EST
DTSTART:20251102T060000
END:STANDARD
END:VTIMEZONE
BEGIN:VEVENT
DTSTART;TZID=America/New_York:20240625T193000
DTEND;TZID=America/New_York:20240625T203000
DTSTAMP:20260423T064417
CREATED:20240205T042704Z
LAST-MODIFIED:20240205T043322Z
UID:10012311-1719343800-1719347400@acawso.org
SUMMARY:Learning to Embrace My Inner Child
DESCRIPTION:Download the Flyer \n\n		\n			\n			\n		\n\n		\n  \nWomen Of Worth Recovering In ACA Quarterly Speaker Meeting\nHear from four different ACA women as they share their journeys to connection with their inner child. \nListen as they share about:\n❖ How the disconnect with their inner child started\n❖ How they found ACA\n❖ How they reconnected with their inner child\n❖ How they love and care for their inner child today \nWe hope you can join us to hear these stories of experience\, strength and hope. \nPlease email Wowinrecovery@gmail.com with questions and for Zoom meeting information. \nHosted by WEB0151 – WOW – Women of Worth Recovering in ACA
URL:https://acawso.org/calendar/learning-to-embrace-my-inner-child-3/
CATEGORIES:events
END:VEVENT
END:VCALENDAR