BEGIN:VCALENDAR
VERSION:2.0
PRODID:-//ACA WSO - ECPv6.15.20//NONSGML v1.0//EN
CALSCALE:GREGORIAN
METHOD:PUBLISH
X-WR-CALNAME:ACA WSO
X-ORIGINAL-URL:https://acawso.org
X-WR-CALDESC:Events for ACA WSO
REFRESH-INTERVAL;VALUE=DURATION:PT1H
X-Robots-Tag:noindex
X-PUBLISHED-TTL:PT1H
BEGIN:VTIMEZONE
TZID:America/New_York
BEGIN:DAYLIGHT
TZOFFSETFROM:-0500
TZOFFSETTO:-0400
TZNAME:EDT
DTSTART:20230312T070000
END:DAYLIGHT
BEGIN:STANDARD
TZOFFSETFROM:-0400
TZOFFSETTO:-0500
TZNAME:EST
DTSTART:20231105T060000
END:STANDARD
BEGIN:DAYLIGHT
TZOFFSETFROM:-0500
TZOFFSETTO:-0400
TZNAME:EDT
DTSTART:20240310T070000
END:DAYLIGHT
BEGIN:STANDARD
TZOFFSETFROM:-0400
TZOFFSETTO:-0500
TZNAME:EST
DTSTART:20241103T060000
END:STANDARD
BEGIN:DAYLIGHT
TZOFFSETFROM:-0500
TZOFFSETTO:-0400
TZNAME:EDT
DTSTART:20250309T070000
END:DAYLIGHT
BEGIN:STANDARD
TZOFFSETFROM:-0400
TZOFFSETTO:-0500
TZNAME:EST
DTSTART:20251102T060000
END:STANDARD
END:VTIMEZONE
BEGIN:VEVENT
DTSTART;TZID=America/New_York:20240627T143000
DTEND;TZID=America/New_York:20240627T160000
DTSTAMP:20260422T055546
CREATED:20221215T201448Z
LAST-MODIFIED:20221215T201448Z
UID:10005756-1719498600-1719504000@acawso.org
SUMMARY:Finance Committee
DESCRIPTION:The finance committee meets Thursdays from 2:30 pm ET – 4:00pm ET.  We are looking for members with business\, finance\, or bookkeeping experience. \n  \nPlease contact treasurer@adultchildren.org or finance@acawso.org if you are interested in visiting or joining the finance committee.
URL:https://acawso.org/calendar/finance-committee/2024-06-27/
CATEGORIES:committees
END:VEVENT
BEGIN:VEVENT
DTSTART;TZID=America/New_York:20240627T150000
DTEND;TZID=America/New_York:20240627T163000
DTSTAMP:20260422T055546
CREATED:20231022T055357Z
LAST-MODIFIED:20231022T055358Z
UID:10013598-1719500400-1719505800@acawso.org
SUMMARY:Ballot Prep Committee
DESCRIPTION:Ballot Prep Committee meets on the first and third Thursday of each month at 3:00pm ET \nAdditional meetings may be scheduled during October and November. \nFor more information\, contact the committee at bpc@adultchildren.org \nZoom 2 ACAWSO is inviting you to a scheduled Zoom meeting. \nhttps://zoom.us/j/81531189155 \nMeeting ID: 815 3118 9155\nPasscode: 90755
URL:https://acawso.org/calendar/ballot-prep-committee-2-2-2-2/2024-06-27/
CATEGORIES:committees
END:VEVENT
BEGIN:VEVENT
DTSTART;TZID=America/New_York:20240627T180000
DTEND;TZID=America/New_York:20240627T193000
DTSTAMP:20260422T055546
CREATED:20240714T194456Z
LAST-MODIFIED:20240714T194614Z
UID:10013602-1719511200-1719516600@acawso.org
SUMMARY:Ballot Prep Committee
DESCRIPTION:Ballot Prep Committee meets on the first and third Thursday of each month at 3:00pm ET \nAdditional meetings may be scheduled during October and November. \nFor more information\, contact the committee at bpc@adultchildren.org \nZoom 2 ACAWSO is inviting you to a scheduled Zoom meeting. \nhttps://zoom.us/j/81531189155 \nMeeting ID: 815 3118 9155\nPasscode: 90755
URL:https://acawso.org/calendar/ballot-prep-committee-2-2-2-2-3/2024-06-27/
CATEGORIES:committees
END:VEVENT
END:VCALENDAR