BEGIN:VCALENDAR
VERSION:2.0
PRODID:-//ACA WSO - ECPv6.15.20//NONSGML v1.0//EN
CALSCALE:GREGORIAN
METHOD:PUBLISH
X-WR-CALNAME:ACA WSO
X-ORIGINAL-URL:https://acawso.org
X-WR-CALDESC:Events for ACA WSO
REFRESH-INTERVAL;VALUE=DURATION:PT1H
X-Robots-Tag:noindex
X-PUBLISHED-TTL:PT1H
BEGIN:VTIMEZONE
TZID:America/New_York
BEGIN:DAYLIGHT
TZOFFSETFROM:-0500
TZOFFSETTO:-0400
TZNAME:EDT
DTSTART:20230312T070000
END:DAYLIGHT
BEGIN:STANDARD
TZOFFSETFROM:-0400
TZOFFSETTO:-0500
TZNAME:EST
DTSTART:20231105T060000
END:STANDARD
BEGIN:DAYLIGHT
TZOFFSETFROM:-0500
TZOFFSETTO:-0400
TZNAME:EDT
DTSTART:20240310T070000
END:DAYLIGHT
BEGIN:STANDARD
TZOFFSETFROM:-0400
TZOFFSETTO:-0500
TZNAME:EST
DTSTART:20241103T060000
END:STANDARD
BEGIN:DAYLIGHT
TZOFFSETFROM:-0500
TZOFFSETTO:-0400
TZNAME:EDT
DTSTART:20250309T070000
END:DAYLIGHT
BEGIN:STANDARD
TZOFFSETFROM:-0400
TZOFFSETTO:-0500
TZNAME:EST
DTSTART:20251102T060000
END:STANDARD
END:VTIMEZONE
BEGIN:VEVENT
DTSTART;TZID=America/New_York:20240725T110000
DTEND;TZID=America/New_York:20240725T120000
DTSTAMP:20260423T064519
CREATED:20240723T111055Z
LAST-MODIFIED:20240723T111200Z
UID:10013695-1721905200-1721908800@acawso.org
SUMMARY:The QDM Agenda Planning Group
DESCRIPTION:The QDM agenda planning group will be meeting on Thursday 7/25/24 from 8:00-9:00 am pt. All are welcome. \nJoin Zoom Meeting \nID: 875 8291 3615\nPasscode: ABC2022
URL:https://acawso.org/calendar/the-qdm-agenda-planning-group/
CATEGORIES:committees
END:VEVENT
BEGIN:VEVENT
DTSTART;TZID=America/New_York:20240725T143000
DTEND;TZID=America/New_York:20240725T160000
DTSTAMP:20260423T064519
CREATED:20221215T201448Z
LAST-MODIFIED:20221215T201448Z
UID:10005760-1721917800-1721923200@acawso.org
SUMMARY:Finance Committee
DESCRIPTION:The finance committee meets Thursdays from 2:30 pm ET – 4:00pm ET.  We are looking for members with business\, finance\, or bookkeeping experience. \n  \nPlease contact treasurer@adultchildren.org or finance@acawso.org if you are interested in visiting or joining the finance committee.
URL:https://acawso.org/calendar/finance-committee/2024-07-25/
CATEGORIES:committees
END:VEVENT
BEGIN:VEVENT
DTSTART;TZID=America/New_York:20240725T180000
DTEND;TZID=America/New_York:20240725T193000
DTSTAMP:20260423T064519
CREATED:20240711T234230Z
LAST-MODIFIED:20240801T220648Z
UID:10013606-1721930400-1721935800@acawso.org
SUMMARY:Ballot Prep Committee
DESCRIPTION:During the month of July the Ballot Prep Committee will meet on the 11th\, 18th\, and 25th.  During the month of August 2024 we will meet on meets on the 1st\, the 8th\, and the 22nd. \nWe meet from 6 to 7:30 pm ET. \nFor more information\, contact the committee at bpc@adultchildren.org \nZoom 2 ACAWSO is inviting you to a scheduled Zoom meeting. \nhttps://zoom.us/j/81531189155 \nMeeting ID: 815 3118 9155\nPasscode: 90755
URL:https://acawso.org/calendar/ballot-prep-committee-2-2-2-2-2/2024-07-25/
CATEGORIES:committees
END:VEVENT
BEGIN:VEVENT
DTSTART;TZID=America/New_York:20240725T190000
DTEND;TZID=America/New_York:20240725T210000
DTSTAMP:20260423T064519
CREATED:20240603T040757Z
LAST-MODIFIED:20240603T040757Z
UID:10013023-1721934000-1721941200@acawso.org
SUMMARY:Ready Set GO!!  Evening Series
DESCRIPTION:Download Flyer Here \n\n		\n			\n			\n		\n\n		\n  \nReady Set GO!! is a 6-week introductory program of the ACA program\, the ACA 12 Steps and an introductory Inner Child Workshop “Awakening My Little One”. \nRSG is a meeting/workshop with: \n\nMembers volunteering to be the leader will read the leader’s parts of the RSG material while other volunteer members will read the other parts as we screen share the RSG script.\nMembers will have 2 fifteen minute sharing times with 3 minute shares for each member using breakout rooms.\n\nOccasionally the leader will ask members for brief questions about the readings and the leader or others at the meeting may respond with brief answers. (Time is limited) \nRSG’s weekly schedule:\nWeek 1: Introduction\, Steps 1\, 2\, 3\nWeek 2: Steps 4\, 5\nWeek 3: Steps 6\, 7\, 8\, 9\nWeek 4: Steps 10\, 11\, 12\nWeek 5: RSG Inner Child Workshop\nWeek 6: RSG Inner Child Workshop \nClick on the link and then click on: open the link\, or copy and paste \nHere is the link for your RSG material: including dated flyers for: https://drive.google.com/drive/folders/1pAjkUD35MtBbKZzRG2Jmyhh1BLxaaFpA?ths=true \nPlease read the PARTICIPANT_PREPARATION_RSG_pdf first\, then the flyer. \nThe first week after the closing of the meeting we will discuss RSG Sharing Partner/ Outreach List. Time permitting\, we will have a Q&A of ACA and RSG. \nAll RSG introductory meetings/workshop are registered and closed meetings (ACA members only). \nRSG has been developed especially to support newcomers\, while also being beneficial to the experienced member. \nOur RSG online/telephone meeting ID# for this session is WEB1120. \nIn accordance with the 7th Tradition: \nTo contribute directly to WSO: \n\nBy Venmo to @acawso\nOnline at https://adultchildren.org/7th-tradition/\nBy calling 562-595-7831\nBy mail\, check payable to ACA WSO\, PO Box 811 Lakewood\, CA 90714\n\nPlease also consider contributing to our sponsoring intergroup WEST GREAT LAKES ACA INTERGROUP\, IG#70 at westgreatlakesaca.org \nThank you for supporting ACA and the World Service Organization. Contribute only what you can afford. All amounts\, no matter the size\, are important to our tradition of self-support through our own contributions and to your own recovery. \nNewcomers are encouraged to buy literature or books and are welcome to contribute to the 7th tradition when they are ready. \nContacts: \nToni P: acatoni5617@comcast.net\nMargaret H: readysetgo.pa19@gmail.com\nComments: acatoni5617@comcast.net \n  \nOur RSG online/phone Meeting ID# for this sessions is WEB1120. \nThursdays\, \n6:00pm CT\, 7:00pm ET\, 4:00pm PT\, 5:00pm MT \nJuly 11\, 18\, 25\, August 1\, 8 15 – 2024 \nClick here -> LINK to find your own time zone.
URL:https://acawso.org/calendar/ready-set-go-evening-series-14/2024-07-25/
CATEGORIES:events
END:VEVENT
END:VCALENDAR