BEGIN:VCALENDAR
VERSION:2.0
PRODID:-//ACA WSO - ECPv6.15.20//NONSGML v1.0//EN
CALSCALE:GREGORIAN
METHOD:PUBLISH
X-WR-CALNAME:ACA WSO
X-ORIGINAL-URL:https://acawso.org
X-WR-CALDESC:Events for ACA WSO
REFRESH-INTERVAL;VALUE=DURATION:PT1H
X-Robots-Tag:noindex
X-PUBLISHED-TTL:PT1H
BEGIN:VTIMEZONE
TZID:America/New_York
BEGIN:DAYLIGHT
TZOFFSETFROM:-0500
TZOFFSETTO:-0400
TZNAME:EDT
DTSTART:20230312T070000
END:DAYLIGHT
BEGIN:STANDARD
TZOFFSETFROM:-0400
TZOFFSETTO:-0500
TZNAME:EST
DTSTART:20231105T060000
END:STANDARD
BEGIN:DAYLIGHT
TZOFFSETFROM:-0500
TZOFFSETTO:-0400
TZNAME:EDT
DTSTART:20240310T070000
END:DAYLIGHT
BEGIN:STANDARD
TZOFFSETFROM:-0400
TZOFFSETTO:-0500
TZNAME:EST
DTSTART:20241103T060000
END:STANDARD
BEGIN:DAYLIGHT
TZOFFSETFROM:-0500
TZOFFSETTO:-0400
TZNAME:EDT
DTSTART:20250309T070000
END:DAYLIGHT
BEGIN:STANDARD
TZOFFSETFROM:-0400
TZOFFSETTO:-0500
TZNAME:EST
DTSTART:20251102T060000
END:STANDARD
END:VTIMEZONE
BEGIN:VEVENT
DTSTART;TZID=America/New_York:20240901T070000
DTEND;TZID=America/New_York:20240901T083000
DTSTAMP:20260422T050806
CREATED:20240825T031228Z
LAST-MODIFIED:20240825T031406Z
UID:10014038-1725174000-1725179400@acawso.org
SUMMARY:Ballot Prep Q&A - 7 AM ET
DESCRIPTION:If your group\, intergroup or region has a suggestion for how to improve ACA/DF\, now is the time to craft it into a Ballot Proposal.   \nAnd if you have questions about how to do that\, or even just the process in general\, join us. \nIf you are unable to join us and you have questions\, please email us at bpc@acawso.org and/or visit our web page: https://acawso.org/bpc/ for more information. \nZoom information for 7 am ET:  https://zoom.us/j/94818637830 \nMeeting ID: 948 1863 7830\nPasscode: Ballot \n— \nOne tap mobile\n+13092053325\,\,94818637830#\,\,\,\,*178005# US\n+13126266799\,\,94818637830#\,\,\,\,*178005# US (Chicago) \nFind your local number to dial in by phone:  https://zoom.us/u/aciURkSNbk \nMeeting ID: 948 1863 7830\nPasscode: 178005
URL:https://acawso.org/calendar/ballot-prep-qa-7-am-et/
CATEGORIES:events
END:VEVENT
BEGIN:VEVENT
DTSTART;TZID=America/New_York:20240901T190000
DTEND;TZID=America/New_York:20240901T203000
DTSTAMP:20260422T050806
CREATED:20240825T031905Z
LAST-MODIFIED:20240825T031905Z
UID:10014039-1725217200-1725222600@acawso.org
SUMMARY:Ballot Prep Q&A 7 PM ET
DESCRIPTION:If your group\, intergroup or region has a suggestion for how to improve ACA/DF\, now is the time to craft it into a Ballot Proposal.   \nAnd if you have questions about how to do that\, or even just the process in general\, join us. \nIf you are unable to join us and you have questions\, please email us at bpc@acawso.org and/or visit our web page: https://acawso.org/bpc/ for more information. \nZoom information for 7 PM ET: https://zoom.us/j/91035544258 \nMeeting ID: 910 3554 4258\nPasscode: Ballot \n  \nFind your local number to dial in by phone: https://zoom.us/u/ab9vrRMpac \nMeeting ID: 910 3554 4258\nPasscode: 728645 \n 
URL:https://acawso.org/calendar/ballot-prep-qa-7-pm-et/
CATEGORIES:events
END:VEVENT
END:VCALENDAR