BEGIN:VCALENDAR
VERSION:2.0
PRODID:-//ACA WSO - ECPv6.15.20//NONSGML v1.0//EN
CALSCALE:GREGORIAN
METHOD:PUBLISH
X-ORIGINAL-URL:https://acawso.org
X-WR-CALDESC:Events for ACA WSO
REFRESH-INTERVAL;VALUE=DURATION:PT1H
X-Robots-Tag:noindex
X-PUBLISHED-TTL:PT1H
BEGIN:VTIMEZONE
TZID:America/New_York
BEGIN:DAYLIGHT
TZOFFSETFROM:-0500
TZOFFSETTO:-0400
TZNAME:EDT
DTSTART:20230312T070000
END:DAYLIGHT
BEGIN:STANDARD
TZOFFSETFROM:-0400
TZOFFSETTO:-0500
TZNAME:EST
DTSTART:20231105T060000
END:STANDARD
BEGIN:DAYLIGHT
TZOFFSETFROM:-0500
TZOFFSETTO:-0400
TZNAME:EDT
DTSTART:20240310T070000
END:DAYLIGHT
BEGIN:STANDARD
TZOFFSETFROM:-0400
TZOFFSETTO:-0500
TZNAME:EST
DTSTART:20241103T060000
END:STANDARD
BEGIN:DAYLIGHT
TZOFFSETFROM:-0500
TZOFFSETTO:-0400
TZNAME:EDT
DTSTART:20250309T070000
END:DAYLIGHT
BEGIN:STANDARD
TZOFFSETFROM:-0400
TZOFFSETTO:-0500
TZNAME:EST
DTSTART:20251102T060000
END:STANDARD
END:VTIMEZONE
BEGIN:VEVENT
DTSTART;TZID=America/New_York:20240905T123000
DTEND;TZID=America/New_York:20240905T140000
DTSTAMP:20260421T035659
CREATED:20230524T174025Z
LAST-MODIFIED:20230524T174025Z
UID:10004719-1725539400-1725544800@acawso.org
SUMMARY:Board Executive Committee
DESCRIPTION:The WSO Board’s Executive committee meets twice a month on the 1st and 3rd Thursdays at 12:30pm Eastern Time
URL:https://acawso.org/calendar/board-executive-committee/2024-09-05/
END:VEVENT
BEGIN:VEVENT
DTSTART;TZID=America/New_York:20240905T143000
DTEND;TZID=America/New_York:20240905T160000
DTSTAMP:20260421T035659
CREATED:20221215T201448Z
LAST-MODIFIED:20221215T201448Z
UID:10005766-1725546600-1725552000@acawso.org
SUMMARY:Finance Committee
DESCRIPTION:The finance committee meets Thursdays from 2:30 pm ET – 4:00pm ET.  We are looking for members with business\, finance\, or bookkeeping experience. \n  \nPlease contact treasurer@adultchildren.org or finance@acawso.org if you are interested in visiting or joining the finance committee.
URL:https://acawso.org/calendar/finance-committee/2024-09-05/
CATEGORIES:committees
END:VEVENT
BEGIN:VEVENT
DTSTART;TZID=America/New_York:20240905T173000
DTEND;TZID=America/New_York:20240905T190000
DTSTAMP:20260421T035659
CREATED:20240710T202917Z
LAST-MODIFIED:20240710T202917Z
UID:10009758-1725557400-1725562800@acawso.org
SUMMARY:Concepts Study
DESCRIPTION:This ad hoc committee was created by the 2022 ABC. \nAll ACA’s are welcome \nZoom information: \nhttps://zoom.us/j/83429248013 \nMeeting ID: 834 2924 8013\nPasscode: 90755 \nCommittee’s page
URL:https://acawso.org/calendar/concepts-ii-and-vi-study-2-2-2/2024-09-05/
CATEGORIES:committees
END:VEVENT
BEGIN:VEVENT
DTSTART;TZID=America/New_York:20240905T180000
DTEND;TZID=America/New_York:20240905T193000
DTSTAMP:20260421T035659
CREATED:20240826T044921Z
LAST-MODIFIED:20241213T193038Z
UID:10014042-1725559200-1725564600@acawso.org
SUMMARY:Ballot Prep Committee
DESCRIPTION:All are welcome. \nFor more information\, contact the committee at bpc@adultchildren.org \nZoom 2 ACAWSO is inviting you to a scheduled Zoom meeting. \nhttps://zoom.us/j/81531189155 \nMeeting ID: 815 3118 9155\nPasscode: 90755 \n  \nNote: We will not meet on December 26\, 2024
URL:https://acawso.org/calendar/ballot-prep-committee-4/2024-09-05/
CATEGORIES:committees
END:VEVENT
BEGIN:VEVENT
DTSTART;TZID=America/New_York:20240905T183000
DTEND;TZID=America/New_York:20240905T200000
DTSTAMP:20260421T035659
CREATED:20240627T102334Z
LAST-MODIFIED:20240627T102335Z
UID:10011578-1725561000-1725566400@acawso.org
SUMMARY:Policy and Structure Collaboration Committee
DESCRIPTION:We meet on the 1st Thursday of each month. \nJoin Zoom Meeting\nhttps://us02web.zoom.us/j/86310639509 \nMeeting ID: 863 1063 9509\nPasscode: 747740
URL:https://acawso.org/calendar/policy-and-structure-collaboration-committee-2-2-2/2024-09-05/
CATEGORIES:committees
END:VEVENT
END:VCALENDAR