BEGIN:VCALENDAR
VERSION:2.0
PRODID:-//ACA WSO - ECPv6.15.20//NONSGML v1.0//EN
CALSCALE:GREGORIAN
METHOD:PUBLISH
X-WR-CALNAME:ACA WSO
X-ORIGINAL-URL:https://acawso.org
X-WR-CALDESC:Events for ACA WSO
REFRESH-INTERVAL;VALUE=DURATION:PT1H
X-Robots-Tag:noindex
X-PUBLISHED-TTL:PT1H
BEGIN:VTIMEZONE
TZID:America/New_York
BEGIN:DAYLIGHT
TZOFFSETFROM:-0500
TZOFFSETTO:-0400
TZNAME:EDT
DTSTART:20230312T070000
END:DAYLIGHT
BEGIN:STANDARD
TZOFFSETFROM:-0400
TZOFFSETTO:-0500
TZNAME:EST
DTSTART:20231105T060000
END:STANDARD
BEGIN:DAYLIGHT
TZOFFSETFROM:-0500
TZOFFSETTO:-0400
TZNAME:EDT
DTSTART:20240310T070000
END:DAYLIGHT
BEGIN:STANDARD
TZOFFSETFROM:-0400
TZOFFSETTO:-0500
TZNAME:EST
DTSTART:20241103T060000
END:STANDARD
BEGIN:DAYLIGHT
TZOFFSETFROM:-0500
TZOFFSETTO:-0400
TZNAME:EDT
DTSTART:20250309T070000
END:DAYLIGHT
BEGIN:STANDARD
TZOFFSETFROM:-0400
TZOFFSETTO:-0500
TZNAME:EST
DTSTART:20251102T060000
END:STANDARD
END:VTIMEZONE
BEGIN:VEVENT
DTSTART;TZID=America/New_York:20240908T160000
DTEND;TZID=America/New_York:20240908T173000
DTSTAMP:20260421T212006
CREATED:20240521T195256Z
LAST-MODIFIED:20240521T195342Z
UID:10012940-1725811200-1725816600@acawso.org
SUMMARY:Volunteer Resources Committee
DESCRIPTION:Starting on October\, the VRC meets on the second Sunday of the month at 4pm ET on Zoom 3. \nJoin Zoom Meeting\nhttps://us02web.zoom.us/j/86938075882?pwd=MzlFV0RYUkc2UUt4dGRid3dqN1FNdz09 \nMeeting ID: 869 3807 5882\nPasscode: 656656 \nPlease contact us at vrc@acawso.org if you would like more information.
URL:https://acawso.org/calendar/volunteer-resources-committee-2-2-2-2/2024-09-08/
CATEGORIES:committees
END:VEVENT
BEGIN:VEVENT
DTSTART;TZID=America/New_York:20240908T220000
DTEND;TZID=America/New_York:20240908T230000
DTSTAMP:20260421T212006
CREATED:20240902T201618Z
LAST-MODIFIED:20240903T143049Z
UID:10014239-1725832800-1725836400@acawso.org
SUMMARY:ACA Fun Night
DESCRIPTION:This month’s Fun Night will be a virtual Scavenger Hunt.\nFind objects in your own space and share the treasures.\nMany times\, objects are very touching memories and others are hilarious when shared with humor.\nAll are welcome as participants or spectators. \nSponsored by WEB1329
URL:https://acawso.org/calendar/aca-fun-night/
CATEGORIES:events
END:VEVENT
END:VCALENDAR