BEGIN:VCALENDAR
VERSION:2.0
PRODID:-//ACA WSO - ECPv6.15.20//NONSGML v1.0//EN
CALSCALE:GREGORIAN
METHOD:PUBLISH
X-WR-CALNAME:ACA WSO
X-ORIGINAL-URL:https://acawso.org
X-WR-CALDESC:Events for ACA WSO
REFRESH-INTERVAL;VALUE=DURATION:PT1H
X-Robots-Tag:noindex
X-PUBLISHED-TTL:PT1H
BEGIN:VTIMEZONE
TZID:America/New_York
BEGIN:DAYLIGHT
TZOFFSETFROM:-0500
TZOFFSETTO:-0400
TZNAME:EDT
DTSTART:20230312T070000
END:DAYLIGHT
BEGIN:STANDARD
TZOFFSETFROM:-0400
TZOFFSETTO:-0500
TZNAME:EST
DTSTART:20231105T060000
END:STANDARD
BEGIN:DAYLIGHT
TZOFFSETFROM:-0500
TZOFFSETTO:-0400
TZNAME:EDT
DTSTART:20240310T070000
END:DAYLIGHT
BEGIN:STANDARD
TZOFFSETFROM:-0400
TZOFFSETTO:-0500
TZNAME:EST
DTSTART:20241103T060000
END:STANDARD
BEGIN:DAYLIGHT
TZOFFSETFROM:-0500
TZOFFSETTO:-0400
TZNAME:EDT
DTSTART:20250309T070000
END:DAYLIGHT
BEGIN:STANDARD
TZOFFSETFROM:-0400
TZOFFSETTO:-0500
TZNAME:EST
DTSTART:20251102T060000
END:STANDARD
END:VTIMEZONE
BEGIN:VEVENT
DTSTART;TZID=America/New_York:20240929T100000
DTEND;TZID=America/New_York:20240929T110000
DTSTAMP:20260420T204323
CREATED:20240921T195114Z
LAST-MODIFIED:20240921T195114Z
UID:10014242-1727604000-1727607600@acawso.org
SUMMARY:Easing Into Service (Zoom Workshop)
DESCRIPTION:=========\nACA MassIG\nMonthly Workshop Series \nEasing Into Service at Your ACA Home Group (Zoom Workshop) \n***New Start Time: Both Days start at 10am \nSame Workshop\nDifferent Times\nHeld on Two Days \nSat\, 9/28/24 (10am-11am)\nSun\, 9/29/24 (10am-11am) \n* * * * *\nHOW TO ATTEND: \nGo to:\nLink: zoom.us/join\nMtg ID: 899 6326 6242\nPasscode: <none> \nOr use:\nhttps://us02web.zoom.us/j/89963266242 \n– – – – – – – –\nHere’s a Link to convert to your local time:\nhttps://24timezones.com/difference/boston/ \nSponsored by IG#634
URL:https://acawso.org/calendar/easing-into-service-zoom-workshop/2024-09-29/
CATEGORIES:events
END:VEVENT
END:VCALENDAR