BEGIN:VCALENDAR
VERSION:2.0
PRODID:-//ACA WSO - ECPv6.15.20//NONSGML v1.0//EN
CALSCALE:GREGORIAN
METHOD:PUBLISH
X-ORIGINAL-URL:https://acawso.org
X-WR-CALDESC:Events for ACA WSO
REFRESH-INTERVAL;VALUE=DURATION:PT1H
X-Robots-Tag:noindex
X-PUBLISHED-TTL:PT1H
BEGIN:VTIMEZONE
TZID:America/New_York
BEGIN:DAYLIGHT
TZOFFSETFROM:-0500
TZOFFSETTO:-0400
TZNAME:EDT
DTSTART:20230312T070000
END:DAYLIGHT
BEGIN:STANDARD
TZOFFSETFROM:-0400
TZOFFSETTO:-0500
TZNAME:EST
DTSTART:20231105T060000
END:STANDARD
BEGIN:DAYLIGHT
TZOFFSETFROM:-0500
TZOFFSETTO:-0400
TZNAME:EDT
DTSTART:20240310T070000
END:DAYLIGHT
BEGIN:STANDARD
TZOFFSETFROM:-0400
TZOFFSETTO:-0500
TZNAME:EST
DTSTART:20241103T060000
END:STANDARD
BEGIN:DAYLIGHT
TZOFFSETFROM:-0500
TZOFFSETTO:-0400
TZNAME:EDT
DTSTART:20250309T070000
END:DAYLIGHT
BEGIN:STANDARD
TZOFFSETFROM:-0400
TZOFFSETTO:-0500
TZNAME:EST
DTSTART:20251102T060000
END:STANDARD
END:VTIMEZONE
BEGIN:VEVENT
DTSTART;TZID=America/New_York:20241010T130000
DTEND;TZID=America/New_York:20241010T140000
DTSTAMP:20260420T154709
CREATED:20230524T174119Z
LAST-MODIFIED:20240521T193905Z
UID:10012932-1728565200-1728568800@acawso.org
SUMMARY:Public Services with H&I Committee
DESCRIPTION:The Public Services Committee is now meeting on the 2nd Thursday monthly at 1:00 PM Eastern. \nJoin Zoom Meeting\nhttps://us02web.zoom.us/j/84770678588 \nMeeting ID: 847 7067 8588\nPasscode: 1978 \nFind your local number: https://us02web.zoom.us/u/kelv4LyGf0 \nWe are holding a combined meeting with the Hospitals and Intuitions subcommittee. https://acawso.org/category/public-information/
URL:https://acawso.org/calendar/public-services-with-hi-committee-2/2024-10-10/
CATEGORIES:committees
END:VEVENT
BEGIN:VEVENT
DTSTART;TZID=America/New_York:20241010T143000
DTEND;TZID=America/New_York:20241010T160000
DTSTAMP:20260420T154709
CREATED:20221215T201448Z
LAST-MODIFIED:20221215T201448Z
UID:10005771-1728570600-1728576000@acawso.org
SUMMARY:Finance Committee
DESCRIPTION:The finance committee meets Thursdays from 2:30 pm ET – 4:00pm ET.  We are looking for members with business\, finance\, or bookkeeping experience. \n  \nPlease contact treasurer@adultchildren.org or finance@acawso.org if you are interested in visiting or joining the finance committee.
URL:https://acawso.org/calendar/finance-committee/2024-10-10/
CATEGORIES:committees
END:VEVENT
BEGIN:VEVENT
DTSTART;TZID=America/New_York:20241010T180000
DTEND;TZID=America/New_York:20241010T193000
DTSTAMP:20260420T154709
CREATED:20240826T044921Z
LAST-MODIFIED:20241213T193038Z
UID:10014047-1728583200-1728588600@acawso.org
SUMMARY:Ballot Prep Committee
DESCRIPTION:All are welcome. \nFor more information\, contact the committee at bpc@adultchildren.org \nZoom 2 ACAWSO is inviting you to a scheduled Zoom meeting. \nhttps://zoom.us/j/81531189155 \nMeeting ID: 815 3118 9155\nPasscode: 90755 \n  \nNote: We will not meet on December 26\, 2024
URL:https://acawso.org/calendar/ballot-prep-committee-4/2024-10-10/
CATEGORIES:committees
END:VEVENT
BEGIN:VEVENT
DTSTART;TZID=America/New_York:20241010T190000
DTEND;TZID=America/New_York:20241010T210000
DTSTAMP:20260420T154709
CREATED:20240821T042151Z
LAST-MODIFIED:20240822T012540Z
UID:10014035-1728586800-1728594000@acawso.org
SUMMARY:Ready Set Go!! Evening Series
DESCRIPTION:Ready Set GO!! is a 6-week introductory program of the ACA program\, the ACA 12 Steps and an introductory Inner Child Workshop “Awakening My Little One”. \nStarts September 12th and runs through October 17th. Each session lasts 2 hours. \nClick HERE to view all of the information you will need for Ready Set Go! (RSG) \nNote that our Tuesday Morning series starts September 10th and runs through October 15th.
URL:https://acawso.org/calendar/ready-set-go-evening-series-15/2024-10-10/
CATEGORIES:events
END:VEVENT
END:VCALENDAR