BEGIN:VCALENDAR
VERSION:2.0
PRODID:-//ACA WSO - ECPv6.15.20//NONSGML v1.0//EN
CALSCALE:GREGORIAN
METHOD:PUBLISH
X-ORIGINAL-URL:https://acawso.org
X-WR-CALDESC:Events for ACA WSO
REFRESH-INTERVAL;VALUE=DURATION:PT1H
X-Robots-Tag:noindex
X-PUBLISHED-TTL:PT1H
BEGIN:VTIMEZONE
TZID:America/New_York
BEGIN:DAYLIGHT
TZOFFSETFROM:-0500
TZOFFSETTO:-0400
TZNAME:EDT
DTSTART:20230312T070000
END:DAYLIGHT
BEGIN:STANDARD
TZOFFSETFROM:-0400
TZOFFSETTO:-0500
TZNAME:EST
DTSTART:20231105T060000
END:STANDARD
BEGIN:DAYLIGHT
TZOFFSETFROM:-0500
TZOFFSETTO:-0400
TZNAME:EDT
DTSTART:20240310T070000
END:DAYLIGHT
BEGIN:STANDARD
TZOFFSETFROM:-0400
TZOFFSETTO:-0500
TZNAME:EST
DTSTART:20241103T060000
END:STANDARD
BEGIN:DAYLIGHT
TZOFFSETFROM:-0500
TZOFFSETTO:-0400
TZNAME:EDT
DTSTART:20250309T070000
END:DAYLIGHT
BEGIN:STANDARD
TZOFFSETFROM:-0400
TZOFFSETTO:-0500
TZNAME:EST
DTSTART:20251102T060000
END:STANDARD
END:VTIMEZONE
BEGIN:VEVENT
DTSTART;TZID=America/New_York:20241011T150000
DTEND;TZID=America/New_York:20241013T150000
DTSTAMP:20260420T205400
CREATED:20240518T123409Z
LAST-MODIFIED:20240718T102504Z
UID:10012920-1728658800-1728831600@acawso.org
SUMMARY:Adult Children of Alcoholics 12 Step Retreat
DESCRIPTION:The 35th Fall Mountain Retreat @ Camp de Benneville Pines is being held Oct 11-13\, 2024 ! \nOur theme this year is\nMoving From Fear to Freedom. Bring your inner child and join us in the San Bernardino Mountains for fun\, fellowship\, 12 step meetings\, workshops\, a Talent No Talent Show\, dance with a DJ\, art& crafts activities and so much more! \nRegistration Link\nhttps://sites.google.com/view/aca-fall-mountain-retreat/home \nSponsored by IG625 \n 
URL:https://acawso.org/calendar/adult-children-of-alcoholics-12-step-retreat/
CATEGORIES:events
END:VEVENT
BEGIN:VEVENT
DTSTART;TZID=America/New_York:20241011T180000
DTEND;TZID=America/New_York:20241013T130000
DTSTAMP:20260420T205400
CREATED:20240930T130338Z
LAST-MODIFIED:20240930T130338Z
UID:10014250-1728669600-1728824400@acawso.org
SUMMARY:Annual Fall Retreat
DESCRIPTION:Annual Fall Retreat Weekend at Burdette Park Evansville\, IN Three meetings chaired by ACA members (Wholeness\, Balance\, the 3 As – Awareness\, Acceptance\, Action) and a speaker. Activities\, meals\, fellowship \nSponsored by IN075
URL:https://acawso.org/calendar/annual-fall-retreat/
CATEGORIES:events
END:VEVENT
END:VCALENDAR