BEGIN:VCALENDAR
VERSION:2.0
PRODID:-//ACA WSO - ECPv6.15.20//NONSGML v1.0//EN
CALSCALE:GREGORIAN
METHOD:PUBLISH
X-ORIGINAL-URL:https://acawso.org
X-WR-CALDESC:Events for ACA WSO
REFRESH-INTERVAL;VALUE=DURATION:PT1H
X-Robots-Tag:noindex
X-PUBLISHED-TTL:PT1H
BEGIN:VTIMEZONE
TZID:America/New_York
BEGIN:DAYLIGHT
TZOFFSETFROM:-0500
TZOFFSETTO:-0400
TZNAME:EDT
DTSTART:20230312T070000
END:DAYLIGHT
BEGIN:STANDARD
TZOFFSETFROM:-0400
TZOFFSETTO:-0500
TZNAME:EST
DTSTART:20231105T060000
END:STANDARD
BEGIN:DAYLIGHT
TZOFFSETFROM:-0500
TZOFFSETTO:-0400
TZNAME:EDT
DTSTART:20240310T070000
END:DAYLIGHT
BEGIN:STANDARD
TZOFFSETFROM:-0400
TZOFFSETTO:-0500
TZNAME:EST
DTSTART:20241103T060000
END:STANDARD
BEGIN:DAYLIGHT
TZOFFSETFROM:-0500
TZOFFSETTO:-0400
TZNAME:EDT
DTSTART:20250309T070000
END:DAYLIGHT
BEGIN:STANDARD
TZOFFSETFROM:-0400
TZOFFSETTO:-0500
TZNAME:EST
DTSTART:20251102T060000
END:STANDARD
END:VTIMEZONE
BEGIN:VEVENT
DTSTART;TZID=America/New_York:20241016T130000
DTEND;TZID=America/New_York:20241016T140000
DTSTAMP:20260420T184845
CREATED:20220618T101140Z
LAST-MODIFIED:20240326T160315Z
UID:10005453-1729083600-1729087200@acawso.org
SUMMARY:Translations Subcommittee
DESCRIPTION:Translation Subcommittee meets every 3rd Wednesday of the month at 1 pm ET/7 pm CET/ 6 pm GMT \n  \nMeeting ID: 879 0590 2057\nPasscode: 969814 \nAll are welcome!
URL:https://acawso.org/calendar/translations-subcommittee/2024-10-16/
CATEGORIES:committees
END:VEVENT
BEGIN:VEVENT
DTSTART;TZID=America/New_York:20241016T193000
DTEND;TZID=America/New_York:20241016T203000
DTSTAMP:20260420T184845
CREATED:20241014T183154Z
LAST-MODIFIED:20241014T183154Z
UID:10014332-1729107000-1729110600@acawso.org
SUMMARY:PSCC Purpose Working Session/renaming of the CC
DESCRIPTION:Wednesday\, 10/16 at 7:30-8:30pm ET \nMeeting ID: 985 6030 4755\nPasscode: 658839
URL:https://acawso.org/calendar/pscc-purpose-working-session-renaming-of-the-cc/
CATEGORIES:committees
END:VEVENT
END:VCALENDAR