BEGIN:VCALENDAR
VERSION:2.0
PRODID:-//ACA WSO - ECPv6.15.20//NONSGML v1.0//EN
CALSCALE:GREGORIAN
METHOD:PUBLISH
X-WR-CALNAME:ACA WSO
X-ORIGINAL-URL:https://acawso.org
X-WR-CALDESC:Events for ACA WSO
REFRESH-INTERVAL;VALUE=DURATION:PT1H
X-Robots-Tag:noindex
X-PUBLISHED-TTL:PT1H
BEGIN:VTIMEZONE
TZID:America/New_York
BEGIN:DAYLIGHT
TZOFFSETFROM:-0500
TZOFFSETTO:-0400
TZNAME:EDT
DTSTART:20230312T070000
END:DAYLIGHT
BEGIN:STANDARD
TZOFFSETFROM:-0400
TZOFFSETTO:-0500
TZNAME:EST
DTSTART:20231105T060000
END:STANDARD
BEGIN:DAYLIGHT
TZOFFSETFROM:-0500
TZOFFSETTO:-0400
TZNAME:EDT
DTSTART:20240310T070000
END:DAYLIGHT
BEGIN:STANDARD
TZOFFSETFROM:-0400
TZOFFSETTO:-0500
TZNAME:EST
DTSTART:20241103T060000
END:STANDARD
BEGIN:DAYLIGHT
TZOFFSETFROM:-0500
TZOFFSETTO:-0400
TZNAME:EDT
DTSTART:20250309T070000
END:DAYLIGHT
BEGIN:STANDARD
TZOFFSETFROM:-0400
TZOFFSETTO:-0500
TZNAME:EST
DTSTART:20251102T060000
END:STANDARD
END:VTIMEZONE
BEGIN:VEVENT
DTSTART;TZID=America/New_York:20241019T093000
DTEND;TZID=America/New_York:20241019T170000
DTSTAMP:20260420T171328
CREATED:20240822T011044Z
LAST-MODIFIED:20240822T011044Z
UID:10014037-1729330200-1729357200@acawso.org
SUMMARY:ACA Share-A-Day
DESCRIPTION:Adult Children of Alcoholic and Dysfunctional Families\nShare-a-Day \nSaturday\, October 19\, 2024\nTime: 9:30 am – 5:00 pm. \nMercy University\n1200 Waters Place\nBronx\, NY \nGreat Speakers\, Excellent Workshops\, Fantastic Meetings \nSuggested Contribution $20/person.\nNo one will be turned away.*\n*Government issued identification is required to enter Mercy University.* \nTheme: Reclaiming Our Authentic or Real Self \nSponsored by The Bronx Mamaroneck ACA Intergroup (IG# 667) \nContact us at BronxIntergroup@yahoo.com is you have questions. \n*Preregistration is strongly suggested.
URL:https://acawso.org/calendar/aca-share-a-day/
CATEGORIES:events
END:VEVENT
BEGIN:VEVENT
DTSTART;TZID=America/New_York:20241019T103000
DTEND;TZID=America/New_York:20241019T120000
DTSTAMP:20260420T171328
CREATED:20230524T174507Z
LAST-MODIFIED:20230524T174507Z
UID:10007686-1729333800-1729339200@acawso.org
SUMMARY:ABC/AWC Committee
DESCRIPTION:The ABC/AWC committee meets first and third Saturday at 10:30AM EDT \nJoin Zoom Meeting\nhttps://us02web.zoom.us/j/87582913615?pwd=dWpPNVJPcVNiVjJxbGgzbFVwY05EZz09 \nMeeting ID: 875 8291 3615\nPasscode: ABC2022 \nContact abc@adultchildren.org for more details. \nMonthly reports posted at https://acawso.org/category/abc-committee/
URL:https://acawso.org/calendar/abc-awc-committee-4/2024-10-19/
CATEGORIES:committees
END:VEVENT
BEGIN:VEVENT
DTSTART;TZID=America/New_York:20241019T140000
DTEND;TZID=America/New_York:20241019T150000
DTSTAMP:20260420T171328
CREATED:20210628T210848Z
LAST-MODIFIED:20221215T110738Z
UID:10004785-1729346400-1729350000@acawso.org
SUMMARY:Comline SubCommittee
DESCRIPTION:Comline Subcommittee meets the third Saturday of the month at 2:00pm ET (US) \nWe are currently working on developing an ACA blog. \nJoin Zoom Meeting\nhttps://us02web.zoom.us/j/85733515540?pwd=amV0K0ZIVXAwWDltdkViVEFnczlUQT09 \nMeeting ID: 857 3351 5540\nPasscode: comline \nFind your local number: https://us02web.zoom.us/u/kz0Qm1NB6
URL:https://acawso.org/calendar/comline-subcommittee/2024-10-19/
CATEGORIES:committees
END:VEVENT
END:VCALENDAR