BEGIN:VCALENDAR
VERSION:2.0
PRODID:-//ACA WSO - ECPv6.15.20//NONSGML v1.0//EN
CALSCALE:GREGORIAN
METHOD:PUBLISH
X-WR-CALNAME:ACA WSO
X-ORIGINAL-URL:https://acawso.org
X-WR-CALDESC:Events for ACA WSO
REFRESH-INTERVAL;VALUE=DURATION:PT1H
X-Robots-Tag:noindex
X-PUBLISHED-TTL:PT1H
BEGIN:VTIMEZONE
TZID:America/New_York
BEGIN:DAYLIGHT
TZOFFSETFROM:-0500
TZOFFSETTO:-0400
TZNAME:EDT
DTSTART:20230312T070000
END:DAYLIGHT
BEGIN:STANDARD
TZOFFSETFROM:-0400
TZOFFSETTO:-0500
TZNAME:EST
DTSTART:20231105T060000
END:STANDARD
BEGIN:DAYLIGHT
TZOFFSETFROM:-0500
TZOFFSETTO:-0400
TZNAME:EDT
DTSTART:20240310T070000
END:DAYLIGHT
BEGIN:STANDARD
TZOFFSETFROM:-0400
TZOFFSETTO:-0500
TZNAME:EST
DTSTART:20241103T060000
END:STANDARD
BEGIN:DAYLIGHT
TZOFFSETFROM:-0500
TZOFFSETTO:-0400
TZNAME:EDT
DTSTART:20250309T070000
END:DAYLIGHT
BEGIN:STANDARD
TZOFFSETFROM:-0400
TZOFFSETTO:-0500
TZNAME:EST
DTSTART:20251102T060000
END:STANDARD
END:VTIMEZONE
BEGIN:VEVENT
DTSTART;TZID=America/New_York:20241026T200000
DTEND;TZID=America/New_York:20241026T213000
DTSTAMP:20260421T005343
CREATED:20240212T162730Z
LAST-MODIFIED:20240212T162730Z
UID:10012395-1729972800-1729978200@acawso.org
SUMMARY:Big Red Book Working Group
DESCRIPTION:Zoom 2 ACAWSO is inviting you to a scheduled Zoom meeting.\nTopic: BRB Revision Working Group- Global East\nTime: Every month on the second and fourth Saturday at 8 PM Eastern US \nJoin Zoom Meeting\nhttps://zoom.us/j/92423141348\nMeeting ID: 924 2314 1348\nPasscode: 112358 \nPlease download and import the following iCalendar (.ics) files to your calendar system.\nMonthly: https://zoom.us/meeting/tJYpdeqpqjopHtwsBMOyTO0tAY5XaN4QYv7-/ics?icsToken=98tyKuCqqjkpG9CUsx2PRowQBojob-vwiH5egrdKjz3ILDlnTVPiF9sXCrNRROnp
URL:https://acawso.org/calendar/big-red-book-working-group/2024-10-26/
CATEGORIES:committees
END:VEVENT
BEGIN:VEVENT
DTSTART;TZID=America/New_York:20241026T203000
DTEND;TZID=America/New_York:20241026T220000
DTSTAMP:20260421T005343
CREATED:20240924T110019Z
LAST-MODIFIED:20241007T175255Z
UID:10014245-1729974600-1729980000@acawso.org
SUMMARY:IG648- In Person Speaker Meeting
DESCRIPTION:This Fall In-Person Speaker Meeting is hosted by the Greater East Bay ACA Intergroup\, Danville Sunday “The Solution Group\,” and Pleasant Hill Monday “One Day at a Time” Meeting. \nDate/Time: Saturday\, October 26\, 2025 from 5-7:30pm PT.\nLocation: St Mark’s Lutheran Church at 3051 Putnam Blvd. Pleasant Hill\, CA 94523 \nSpeakers: Rosie (Pleasant Hill) and Danny (Marin County). \nFellowship\, Literature Table\, Raffle\, Light Food\, Refreshments.\nALL ARE WELCOME to this in-person event\nFor information: <communications@gebaca.org> \nSponsored by IG#648
URL:https://acawso.org/calendar/ig648-in-person-speaker-meeting/
CATEGORIES:events
END:VEVENT
END:VCALENDAR