BEGIN:VCALENDAR
VERSION:2.0
PRODID:-//ACA WSO - ECPv6.15.20//NONSGML v1.0//EN
CALSCALE:GREGORIAN
METHOD:PUBLISH
X-WR-CALNAME:ACA WSO
X-ORIGINAL-URL:https://acawso.org
X-WR-CALDESC:Events for ACA WSO
REFRESH-INTERVAL;VALUE=DURATION:PT1H
X-Robots-Tag:noindex
X-PUBLISHED-TTL:PT1H
BEGIN:VTIMEZONE
TZID:America/New_York
BEGIN:DAYLIGHT
TZOFFSETFROM:-0500
TZOFFSETTO:-0400
TZNAME:EDT
DTSTART:20230312T070000
END:DAYLIGHT
BEGIN:STANDARD
TZOFFSETFROM:-0400
TZOFFSETTO:-0500
TZNAME:EST
DTSTART:20231105T060000
END:STANDARD
BEGIN:DAYLIGHT
TZOFFSETFROM:-0500
TZOFFSETTO:-0400
TZNAME:EDT
DTSTART:20240310T070000
END:DAYLIGHT
BEGIN:STANDARD
TZOFFSETFROM:-0400
TZOFFSETTO:-0500
TZNAME:EST
DTSTART:20241103T060000
END:STANDARD
BEGIN:DAYLIGHT
TZOFFSETFROM:-0500
TZOFFSETTO:-0400
TZNAME:EDT
DTSTART:20250309T070000
END:DAYLIGHT
BEGIN:STANDARD
TZOFFSETFROM:-0400
TZOFFSETTO:-0500
TZNAME:EST
DTSTART:20251102T060000
END:STANDARD
END:VTIMEZONE
BEGIN:VEVENT
DTSTART;TZID=America/New_York:20241028T120000
DTEND;TZID=America/New_York:20241028T130000
DTSTAMP:20260420T191826
CREATED:20240812T161857Z
LAST-MODIFIED:20240812T161858Z
UID:10012086-1730116800-1730120400@acawso.org
SUMMARY:IT Website Redesign Working Group
DESCRIPTION:IT website redesign working group meetings every Monday at 12:00pm ET (US) \nContact:  itchair@acawso.org \nJoin Zoom Meeting\nhttps://us02web.zoom.us/j/83771567325 \nMeeting ID: 837 7156 7325\nPasscode: 088655
URL:https://acawso.org/calendar/it-website-redesign-working-group-2-2-2/2024-10-28/
CATEGORIES:committees
END:VEVENT
BEGIN:VEVENT
DTSTART;TZID=America/New_York:20241028T123000
DTEND;TZID=America/New_York:20241028T133000
DTSTAMP:20260420T191826
CREATED:20241106T110717Z
LAST-MODIFIED:20241106T110719Z
UID:10010687-1730118600-1730122200@acawso.org
SUMMARY:Young Adults & Teens Subcommittee
DESCRIPTION:YAT SC meeting is on every 4th Monday of the month on Zoom 2 – from 12:30pm ET to 1:30pm ET \nThere will be no meeting in November. \nhttps://zoom.us/j/96414155183\nMeeting ID: 964 1415 5183\nPasscode: 308405
URL:https://acawso.org/calendar/young-adults-teens-subcommittee-2-2-2-2/
CATEGORIES:committees
END:VEVENT
BEGIN:VEVENT
DTSTART;TZID=America/New_York:20241028T123000
DTEND;TZID=America/New_York:20241028T133000
DTSTAMP:20260420T191826
CREATED:20241106T110819Z
LAST-MODIFIED:20241106T110820Z
UID:10010417-1730118600-1730122200@acawso.org
SUMMARY:Members Services Committee
DESCRIPTION:The WSO Member Services Committee (MSC) is looking for volunteers to help assist\, support\, and communicate with the worldwide ACA membership. \nWe meet every month on the fourth Monday for approximately one hour by Zoom teleconference at 12:30pm Eastern Time. \nThere will be no meeting in November. \n\n\n\n\n\n\n\n\n\n\n\n\n\n\n\n\n\n\n\n\nJoin Zoom Meeting\nhttps://zoom.us/j/96414155183\nMeeting ID: 964 1415 5183\nPasscode: 308405
URL:https://acawso.org/calendar/members-services-re-vision-3-2-2/
CATEGORIES:committees
END:VEVENT
BEGIN:VEVENT
DTSTART;TZID=America/New_York:20241028T123000
DTEND;TZID=America/New_York:20241028T133000
DTSTAMP:20260420T191826
CREATED:20241106T110945Z
LAST-MODIFIED:20241106T111039Z
UID:10010538-1730118600-1730122200@acawso.org
SUMMARY:Regions Intergroups Subcommittee
DESCRIPTION:Regions Intergroups Subcommittee meets every month on the fourth Monday for approximately one hour by Zoom teleconference at 12:30pm Eastern Time. \nThere will be no meeting in November. \nhttps://zoom.us/j/96414155183\nMeeting ID: 964 1415 5183\nPasscode: 308405
URL:https://acawso.org/calendar/regions-subcommittee-2-2-2-2/
CATEGORIES:committees
END:VEVENT
BEGIN:VEVENT
DTSTART;TZID=America/New_York:20241028T160000
DTEND;TZID=America/New_York:20241028T173000
DTSTAMP:20260420T191826
CREATED:20240812T161937Z
LAST-MODIFIED:20240812T161938Z
UID:10007495-1730131200-1730136600@acawso.org
SUMMARY:IT Committee
DESCRIPTION:IT Committee meets weekly on Monday at 4:00pm ET (US) \ncontact: itchair@acawso.org \nJoin Zoom Meeting \nhttps://us02web.zoom.us/j/89520227175 \nMeeting ID: 895 2022 7175\nPasscode: 90755\nOne tap mobile\n+19292056099\,\,89520227175# US (New York)\n+13126266799\,\,89520227175# US (Chicago) \nDial by your location\n+1 929 205 6099 US (New York)\n+1 312 626 6799 US (Chicago)\n+1 301 715 8592 US (Washington DC)\n+1 253 215 8782 US (Tacoma)\n+1 346 248 7799 US (Houston)\n+1 669 900 6833 US (San Jose)\nMeeting ID: 895 2022 7175\nFind your local number: https://us02web.zoom.us/u/kdrkCQ8UuT
URL:https://acawso.org/calendar/it-committee-2023-07-19-2-2-2/2024-10-28/
CATEGORIES:committees
END:VEVENT
END:VCALENDAR