BEGIN:VCALENDAR
VERSION:2.0
PRODID:-//ACA WSO - ECPv6.15.20//NONSGML v1.0//EN
CALSCALE:GREGORIAN
METHOD:PUBLISH
X-ORIGINAL-URL:https://acawso.org
X-WR-CALDESC:Events for ACA WSO
REFRESH-INTERVAL;VALUE=DURATION:PT1H
X-Robots-Tag:noindex
X-PUBLISHED-TTL:PT1H
BEGIN:VTIMEZONE
TZID:America/New_York
BEGIN:DAYLIGHT
TZOFFSETFROM:-0500
TZOFFSETTO:-0400
TZNAME:EDT
DTSTART:20230312T070000
END:DAYLIGHT
BEGIN:STANDARD
TZOFFSETFROM:-0400
TZOFFSETTO:-0500
TZNAME:EST
DTSTART:20231105T060000
END:STANDARD
BEGIN:DAYLIGHT
TZOFFSETFROM:-0500
TZOFFSETTO:-0400
TZNAME:EDT
DTSTART:20240310T070000
END:DAYLIGHT
BEGIN:STANDARD
TZOFFSETFROM:-0400
TZOFFSETTO:-0500
TZNAME:EST
DTSTART:20241103T060000
END:STANDARD
BEGIN:DAYLIGHT
TZOFFSETFROM:-0500
TZOFFSETTO:-0400
TZNAME:EDT
DTSTART:20250309T070000
END:DAYLIGHT
BEGIN:STANDARD
TZOFFSETFROM:-0400
TZOFFSETTO:-0500
TZNAME:EST
DTSTART:20251102T060000
END:STANDARD
END:VTIMEZONE
BEGIN:VEVENT
DTSTART;TZID=America/New_York:20241109T133000
DTEND;TZID=America/New_York:20241109T135500
DTSTAMP:20260421T020719
CREATED:20241010T184358Z
LAST-MODIFIED:20241010T184359Z
UID:10012667-1731159000-1731160500@acawso.org
SUMMARY:Meet & Greet with the Volunteer Resource Committee
DESCRIPTION:Meet & Greet\, with the Volunteer Resource Committee\nOur purpose is to provide a casual space to ask questions about volunteering within various WSO Committees\, finding clarity in each others’ experience\, strength and hope; and to promote healthy functioning in WSO committees.When will we meet?\n\nIf a Board Teleconference is planned for that month\, we will meet 20 minutes before the meeting\, from 1:30 – 1:55 pm ET\, or\n\nWhere do we meet?\nZoom 3\nMeeting ID: 869 3807 5882\nPasscode: 656656
URL:https://acawso.org/calendar/meet-greet-with-the-volunteer-resource-committee-3-2/2024-11-09/
CATEGORIES:committees,events
END:VEVENT
BEGIN:VEVENT
DTSTART;TZID=America/New_York:20241109T160000
DTEND;TZID=America/New_York:20241109T200000
DTSTAMP:20260421T020719
CREATED:20241014T112241Z
LAST-MODIFIED:20241014T112241Z
UID:10014330-1731168000-1731182400@acawso.org
SUMMARY:2024 Unity in Diversity: The Many Faces of ACA
DESCRIPTION:This online event\, hosted by the Diversity & Inclusion Committee of GEBACA Intergroup\, will include a panel\, main speaker\, and meeting. Fellow Travelers will share their experience\, strength and hope with a focus on stereotyping and labeling. Marginalized people are often negatively stereotyped by the dominant culture. We also may be unfairly labeled in our families of origin. Join other Fellow Travelers to share about what we have experienced and internalized\, and the impact of ACA recovery. \nACA is one fellowship united in our primary purpose to carry the message to the adult child who still suffers. Our fellowship is diverse and many of us have experienced trauma and neglect both in our families and society. Familial and societal dysfunction impacted us then and affect us today. In ACA\, we heal and recover together\, one day at a time.\nThere will be time for participant sharing following the panel and main speaker\, and during the closing meeting. \nZoom Meeting ID: 820 0922 5980 / Passcode: 187428\nhttps://us06web.zoom.us/j/82009225980?pwd=x3FJbhE24v6C9kuasfVU133H4zTHuH.1 \nFor more information\, email <diversity@gebaca.org> or go to gebaca.org . For an event schedule\, please see the flyer. \nSponsored by IG#648
URL:https://acawso.org/calendar/2024-unity-in-diversity-the-many-faces-of-aca/
CATEGORIES:events
END:VEVENT
END:VCALENDAR