BEGIN:VCALENDAR
VERSION:2.0
PRODID:-//ACA WSO - ECPv6.15.20//NONSGML v1.0//EN
CALSCALE:GREGORIAN
METHOD:PUBLISH
X-ORIGINAL-URL:https://acawso.org
X-WR-CALDESC:Events for ACA WSO
REFRESH-INTERVAL;VALUE=DURATION:PT1H
X-Robots-Tag:noindex
X-PUBLISHED-TTL:PT1H
BEGIN:VTIMEZONE
TZID:America/New_York
BEGIN:DAYLIGHT
TZOFFSETFROM:-0500
TZOFFSETTO:-0400
TZNAME:EDT
DTSTART:20230312T070000
END:DAYLIGHT
BEGIN:STANDARD
TZOFFSETFROM:-0400
TZOFFSETTO:-0500
TZNAME:EST
DTSTART:20231105T060000
END:STANDARD
BEGIN:DAYLIGHT
TZOFFSETFROM:-0500
TZOFFSETTO:-0400
TZNAME:EDT
DTSTART:20240310T070000
END:DAYLIGHT
BEGIN:STANDARD
TZOFFSETFROM:-0400
TZOFFSETTO:-0500
TZNAME:EST
DTSTART:20241103T060000
END:STANDARD
BEGIN:DAYLIGHT
TZOFFSETFROM:-0500
TZOFFSETTO:-0400
TZNAME:EDT
DTSTART:20250309T070000
END:DAYLIGHT
BEGIN:STANDARD
TZOFFSETFROM:-0400
TZOFFSETTO:-0500
TZNAME:EST
DTSTART:20251102T060000
END:STANDARD
END:VTIMEZONE
BEGIN:VEVENT
DTSTART;TZID=America/New_York:20241121T190000
DTEND;TZID=America/New_York:20241124T160000
DTSTAMP:20260420T205259
CREATED:20240930T125429Z
LAST-MODIFIED:20241014T113505Z
UID:10014249-1732215600-1732464000@acawso.org
SUMMARY:40th biannual Pacific Northwest ACA Retreat
DESCRIPTION:Pacific Northwest Fall Retreat is coming up in November. The flyer has a QR code to the registration form. \nYou can come Thursday thru Sunday\, Friday thru Sunday or for the dar Friday or Saturday. Please see the flyer for details of what is offered. We hope to see you there! If you have questions there is contact information. \nSponsored by WEB0912
URL:https://acawso.org/calendar/40th-biannual-pacific-northwest-aca-retreat/
CATEGORIES:events
END:VEVENT
BEGIN:VEVENT
DTSTART;TZID=America/New_York:20241123T100000
DTEND;TZID=America/New_York:20241123T110000
DTSTAMP:20260420T205259
CREATED:20241104T121525Z
LAST-MODIFIED:20241104T121525Z
UID:10014335-1732356000-1732359600@acawso.org
SUMMARY:Energizing Your Recovery with a Gratitude Practice
DESCRIPTION:=========\nACA MassIG\nMonthly Workshop Series \nEnergizing Your Recovery with a Gratitude Practice\n(Zoom Workshop) \n***New Start Time: Both Days start at 10am \nSame Workshop\nDifferent Times\nHeld on Two Days \nSat\, 11/23/24 (10am-11am)\nSun\, 11/24/24 (10am-11am) \n* * * * *\nHOW TO ATTEND: \nGo to:\nLink: zoom.us/join\nMtg ID: 882 5822 6595\nPasscode: <none> \nOr use:\nhttps://us02web.zoom.us/j/88258226595 \n– – – – – – – –\nHere’s a Link to convert to your local time:\nhttps://24timezones.com/difference/boston/ \n======== \nSponsored by IG#634
URL:https://acawso.org/calendar/energizing-your-recovery-with-a-gratitude-practice/2024-11-23/
CATEGORIES:events
END:VEVENT
BEGIN:VEVENT
DTSTART;TZID=America/New_York:20241123T200000
DTEND;TZID=America/New_York:20241123T213000
DTSTAMP:20260420T205259
CREATED:20240212T162730Z
LAST-MODIFIED:20240212T162730Z
UID:10012396-1732392000-1732397400@acawso.org
SUMMARY:Big Red Book Working Group
DESCRIPTION:Zoom 2 ACAWSO is inviting you to a scheduled Zoom meeting.\nTopic: BRB Revision Working Group- Global East\nTime: Every month on the second and fourth Saturday at 8 PM Eastern US \nJoin Zoom Meeting\nhttps://zoom.us/j/92423141348\nMeeting ID: 924 2314 1348\nPasscode: 112358 \nPlease download and import the following iCalendar (.ics) files to your calendar system.\nMonthly: https://zoom.us/meeting/tJYpdeqpqjopHtwsBMOyTO0tAY5XaN4QYv7-/ics?icsToken=98tyKuCqqjkpG9CUsx2PRowQBojob-vwiH5egrdKjz3ILDlnTVPiF9sXCrNRROnp
URL:https://acawso.org/calendar/big-red-book-working-group/2024-11-23/
CATEGORIES:committees
END:VEVENT
END:VCALENDAR