BEGIN:VCALENDAR
VERSION:2.0
PRODID:-//ACA WSO - ECPv6.15.20//NONSGML v1.0//EN
CALSCALE:GREGORIAN
METHOD:PUBLISH
X-ORIGINAL-URL:https://acawso.org
X-WR-CALDESC:Events for ACA WSO
REFRESH-INTERVAL;VALUE=DURATION:PT1H
X-Robots-Tag:noindex
X-PUBLISHED-TTL:PT1H
BEGIN:VTIMEZONE
TZID:America/New_York
BEGIN:DAYLIGHT
TZOFFSETFROM:-0500
TZOFFSETTO:-0400
TZNAME:EDT
DTSTART:20230312T070000
END:DAYLIGHT
BEGIN:STANDARD
TZOFFSETFROM:-0400
TZOFFSETTO:-0500
TZNAME:EST
DTSTART:20231105T060000
END:STANDARD
BEGIN:DAYLIGHT
TZOFFSETFROM:-0500
TZOFFSETTO:-0400
TZNAME:EDT
DTSTART:20240310T070000
END:DAYLIGHT
BEGIN:STANDARD
TZOFFSETFROM:-0400
TZOFFSETTO:-0500
TZNAME:EST
DTSTART:20241103T060000
END:STANDARD
BEGIN:DAYLIGHT
TZOFFSETFROM:-0500
TZOFFSETTO:-0400
TZNAME:EDT
DTSTART:20250309T070000
END:DAYLIGHT
BEGIN:STANDARD
TZOFFSETFROM:-0400
TZOFFSETTO:-0500
TZNAME:EST
DTSTART:20251102T060000
END:STANDARD
END:VTIMEZONE
BEGIN:VEVENT
DTSTART;TZID=America/New_York:20241128T050000
DTEND;TZID=America/New_York:20241129T030000
DTSTAMP:20260420T204554
CREATED:20241112T114336Z
LAST-MODIFIED:20241112T114336Z
UID:10014367-1732770000-1732849200@acawso.org
SUMMARY:Thanksgiving Marathon Meeting
DESCRIPTION:Thanksgiving Marathon Meeting\nGroup Tel 0427\nHolidays can be a difficult time for adult children. For Thanksgiving\, there will be 22 hours of back to back meetings. Please share this phone meeting in your groups and fellow travelers. \nTo Attend:\nThe call-in number is 712-432-8808 access code 247676# \nWant to boost your recovery? Consider doing service as a Moderator\, Back-Up Moderator\, or Timekeeper.\nFor the signup link please text Tim at 773-510-0622\, aca.service2023@gmail.com \nFor a moderator script please text Tim (We’re using the same script as previous meetings)\nPlease do not hesitate to contact us with any questions. Moderator code will be sent out 24hrs before the marathon starts.\nXO\nIn-Service\,\nTim & Christa \nSponsored by TEL0427
URL:https://acawso.org/calendar/thanksgiving-marathon-meeting/
CATEGORIES:events
END:VEVENT
BEGIN:VEVENT
DTSTART;TZID=America/New_York:20241128T100000
DTEND;TZID=America/New_York:20241128T111500
DTSTAMP:20260420T204554
CREATED:20241014T113917Z
LAST-MODIFIED:20241014T113917Z
UID:10014331-1732788000-1732792500@acawso.org
SUMMARY:First Annual ACA Thanksgiving Meeting
DESCRIPTION:Topic:\nCultivating a sense of gratitude for our recovery journey while highlighting the significance of leaning on our ACA family for support\, especially during the often challenging holiday season. \nSponsored by IG#599
URL:https://acawso.org/calendar/first-annual-aca-thanksgiving-meeting/
CATEGORIES:events
END:VEVENT
BEGIN:VEVENT
DTSTART;TZID=America/New_York:20241128T143000
DTEND;TZID=America/New_York:20241128T160000
DTSTAMP:20260420T204554
CREATED:20221215T201448Z
LAST-MODIFIED:20221215T201448Z
UID:10005778-1732804200-1732809600@acawso.org
SUMMARY:Finance Committee
DESCRIPTION:The finance committee meets Thursdays from 2:30 pm ET – 4:00pm ET.  We are looking for members with business\, finance\, or bookkeeping experience. \n  \nPlease contact treasurer@adultchildren.org or finance@acawso.org if you are interested in visiting or joining the finance committee.
URL:https://acawso.org/calendar/finance-committee/2024-11-28/
CATEGORIES:committees
END:VEVENT
BEGIN:VEVENT
DTSTART;TZID=America/New_York:20241128T180000
DTEND;TZID=America/New_York:20241128T193000
DTSTAMP:20260420T204554
CREATED:20240826T044921Z
LAST-MODIFIED:20241213T193038Z
UID:10014054-1732816800-1732822200@acawso.org
SUMMARY:Ballot Prep Committee
DESCRIPTION:All are welcome. \nFor more information\, contact the committee at bpc@adultchildren.org \nZoom 2 ACAWSO is inviting you to a scheduled Zoom meeting. \nhttps://zoom.us/j/81531189155 \nMeeting ID: 815 3118 9155\nPasscode: 90755 \n  \nNote: We will not meet on December 26\, 2024
URL:https://acawso.org/calendar/ballot-prep-committee-4/2024-11-28/
CATEGORIES:committees
END:VEVENT
END:VCALENDAR