BEGIN:VCALENDAR
VERSION:2.0
PRODID:-//ACA WSO - ECPv6.15.20//NONSGML v1.0//EN
CALSCALE:GREGORIAN
METHOD:PUBLISH
X-ORIGINAL-URL:https://acawso.org
X-WR-CALDESC:Events for ACA WSO
REFRESH-INTERVAL;VALUE=DURATION:PT1H
X-Robots-Tag:noindex
X-PUBLISHED-TTL:PT1H
BEGIN:VTIMEZONE
TZID:America/New_York
BEGIN:DAYLIGHT
TZOFFSETFROM:-0500
TZOFFSETTO:-0400
TZNAME:EDT
DTSTART:20240310T070000
END:DAYLIGHT
BEGIN:STANDARD
TZOFFSETFROM:-0400
TZOFFSETTO:-0500
TZNAME:EST
DTSTART:20241103T060000
END:STANDARD
BEGIN:DAYLIGHT
TZOFFSETFROM:-0500
TZOFFSETTO:-0400
TZNAME:EDT
DTSTART:20250309T070000
END:DAYLIGHT
BEGIN:STANDARD
TZOFFSETFROM:-0400
TZOFFSETTO:-0500
TZNAME:EST
DTSTART:20251102T060000
END:STANDARD
BEGIN:DAYLIGHT
TZOFFSETFROM:-0500
TZOFFSETTO:-0400
TZNAME:EDT
DTSTART:20260308T070000
END:DAYLIGHT
BEGIN:STANDARD
TZOFFSETFROM:-0400
TZOFFSETTO:-0500
TZNAME:EST
DTSTART:20261101T060000
END:STANDARD
END:VTIMEZONE
BEGIN:VEVENT
DTSTART;TZID=America/New_York:20250116T233000
DTEND;TZID=America/New_York:20250118T213000
DTSTAMP:20260425T235438
CREATED:20241127T172704Z
LAST-MODIFIED:20241127T172704Z
UID:10014470-1737070200-1737235800@acawso.org
SUMMARY:ACA SA Annual Retreat
DESCRIPTION:A fully catered\, residential retreat for ACA members.\nTheme : Higher Power\, ACA Community\, Higher Power.\nArriving 3pm Friday the 17th of January 2025 and ending at 1pm Sunday the 19th of January 2025.\nTime table will be available at aca-sa.org \nSponsored by IG#672
URL:https://acawso.org/calendar/aca-sa-annual-retreat/
CATEGORIES:events
END:VEVENT
BEGIN:VEVENT
DTSTART;TZID=America/New_York:20250118T103000
DTEND;TZID=America/New_York:20250118T120000
DTSTAMP:20260425T235438
CREATED:20250108T155403Z
LAST-MODIFIED:20250108T155404Z
UID:10015007-1737196200-1737201600@acawso.org
SUMMARY:ABC Sustainability Study Sub-Committee
DESCRIPTION:We are currently meeting the 1st & 3rd Saturday of (generally) every month\, at 12:30AM-2 EDT (always check with the WSO Committee Calendar) \nZoom URL: https://zoom.us/j/91045736882  \n    -or- \nMeeting ID: 910 4573 6882  \n    -and use- \nPasscode: 992748
URL:https://acawso.org/calendar/abc-sustainability-study-sub-committee-2-2-2/2025-01-18/
CATEGORIES:committees
END:VEVENT
BEGIN:VEVENT
DTSTART;TZID=America/New_York:20250118T123000
DTEND;TZID=America/New_York:20250118T140000
DTSTAMP:20260425T235438
CREATED:20250108T155957Z
LAST-MODIFIED:20250129T193322Z
UID:10007689-1737203400-1737208800@acawso.org
SUMMARY:ABC/QDM Committee
DESCRIPTION:The ABC/AWC committee meets first and third Saturday from 12:30 to 2 pm EDT \nJoin Zoom Meeting\nhttps://us02web.zoom.us/j/87582913615?pwd=dWpPNVJPcVNiVjJxbGgzbFVwY05EZz09 \nMeeting ID: 875 8291 3615\nPasscode: ABC2022 \nContact abc@adultchildren.org for more details. \n 
URL:https://acawso.org/calendar/abc-awc-committee-4-2/2025-01-18/
CATEGORIES:committees
END:VEVENT
BEGIN:VEVENT
DTSTART;TZID=America/New_York:20250118T150000
DTEND;TZID=America/New_York:20250118T160000
DTSTAMP:20260425T235438
CREATED:20250111T174302Z
LAST-MODIFIED:20250111T174341Z
UID:10014820-1737212400-1737216000@acawso.org
SUMMARY:Literature in Development Subcommittee
DESCRIPTION:The subcommittee meets once a month on the second Saturday of the month from 3-4 pm eastern time. Meetings will start on 11 January 2025. \nMeeting on the 11th January had to be rescheduled for 18th January \nMeeting ID: 987 7225 8902\nPasscode: 744657
URL:https://acawso.org/calendar/literature-in-development-subcommittee-2-2/
CATEGORIES:committees
END:VEVENT
END:VCALENDAR