BEGIN:VCALENDAR
VERSION:2.0
PRODID:-//ACA WSO - ECPv6.15.20//NONSGML v1.0//EN
CALSCALE:GREGORIAN
METHOD:PUBLISH
X-ORIGINAL-URL:https://acawso.org
X-WR-CALDESC:Events for ACA WSO
REFRESH-INTERVAL;VALUE=DURATION:PT1H
X-Robots-Tag:noindex
X-PUBLISHED-TTL:PT1H
BEGIN:VTIMEZONE
TZID:America/New_York
BEGIN:DAYLIGHT
TZOFFSETFROM:-0500
TZOFFSETTO:-0400
TZNAME:EDT
DTSTART:20240310T070000
END:DAYLIGHT
BEGIN:STANDARD
TZOFFSETFROM:-0400
TZOFFSETTO:-0500
TZNAME:EST
DTSTART:20241103T060000
END:STANDARD
BEGIN:DAYLIGHT
TZOFFSETFROM:-0500
TZOFFSETTO:-0400
TZNAME:EDT
DTSTART:20250309T070000
END:DAYLIGHT
BEGIN:STANDARD
TZOFFSETFROM:-0400
TZOFFSETTO:-0500
TZNAME:EST
DTSTART:20251102T060000
END:STANDARD
BEGIN:DAYLIGHT
TZOFFSETFROM:-0500
TZOFFSETTO:-0400
TZNAME:EDT
DTSTART:20260308T070000
END:DAYLIGHT
BEGIN:STANDARD
TZOFFSETFROM:-0400
TZOFFSETTO:-0500
TZNAME:EST
DTSTART:20261101T060000
END:STANDARD
END:VTIMEZONE
BEGIN:VEVENT
DTSTART;TZID=America/New_York:20250214T050000
DTEND;TZID=America/New_York:20250215T030000
DTSTAMP:20260425T160444
CREATED:20250201T152703Z
LAST-MODIFIED:20250201T152703Z
UID:10015774-1739509200-1739588400@acawso.org
SUMMARY:Valentine's Day Marathon
DESCRIPTION:Valentine’s Day Marathon\nGroup Tel 0427\nHolidays can be a difficult time for adult children. On Valentine’s Day\, there will be 22 hours of back to back meetings. Please share this phone meeting in your groups and fellow travelers.\nTo Attend:\nTime: 5:00 am EST February 14 until. 3:00 am EST February 15.\nCall-in number: 712-432-8808 access code 247676#\nWant to boost your recovery? Consider doing service as a Moderator\, Back-Up Moderator\, or Timekeeper.\nFor the signup link or a moderator script please text Tim (see contact info below).\nPlease do not hesitate to contact us with any questions. Moderator code will be sent out 24hrs before the marathon starts.\nXO\nIn-Service\,\nTim & Christa\n773-510-0622 email: aca.service2023@gmail.com
URL:https://acawso.org/calendar/valentines-day-marathon/
CATEGORIES:events
END:VEVENT
END:VCALENDAR