BEGIN:VCALENDAR
VERSION:2.0
PRODID:-//ACA WSO - ECPv6.15.20//NONSGML v1.0//EN
CALSCALE:GREGORIAN
METHOD:PUBLISH
X-ORIGINAL-URL:https://acawso.org
X-WR-CALDESC:Events for ACA WSO
REFRESH-INTERVAL;VALUE=DURATION:PT1H
X-Robots-Tag:noindex
X-PUBLISHED-TTL:PT1H
BEGIN:VTIMEZONE
TZID:America/New_York
BEGIN:DAYLIGHT
TZOFFSETFROM:-0500
TZOFFSETTO:-0400
TZNAME:EDT
DTSTART:20240310T070000
END:DAYLIGHT
BEGIN:STANDARD
TZOFFSETFROM:-0400
TZOFFSETTO:-0500
TZNAME:EST
DTSTART:20241103T060000
END:STANDARD
BEGIN:DAYLIGHT
TZOFFSETFROM:-0500
TZOFFSETTO:-0400
TZNAME:EDT
DTSTART:20250309T070000
END:DAYLIGHT
BEGIN:STANDARD
TZOFFSETFROM:-0400
TZOFFSETTO:-0500
TZNAME:EST
DTSTART:20251102T060000
END:STANDARD
BEGIN:DAYLIGHT
TZOFFSETFROM:-0500
TZOFFSETTO:-0400
TZNAME:EDT
DTSTART:20260308T070000
END:DAYLIGHT
BEGIN:STANDARD
TZOFFSETFROM:-0400
TZOFFSETTO:-0500
TZNAME:EST
DTSTART:20261101T060000
END:STANDARD
BEGIN:DAYLIGHT
TZOFFSETFROM:-0500
TZOFFSETTO:-0400
TZNAME:EDT
DTSTART:20270314T070000
END:DAYLIGHT
BEGIN:STANDARD
TZOFFSETFROM:-0400
TZOFFSETTO:-0500
TZNAME:EST
DTSTART:20271107T060000
END:STANDARD
END:VTIMEZONE
BEGIN:VEVENT
DTSTART;TZID=America/New_York:20251231T050000
DTEND;TZID=America/New_York:20260101T030000
DTSTAMP:20260425T192434
CREATED:20251117T114535Z
LAST-MODIFIED:20251117T114535Z
UID:10017765-1767157200-1767236400@acawso.org
SUMMARY:New Years Eve and Day Marathon
DESCRIPTION:Holidays can be a difficult time for adult children. For New Years\, there will be 46 hours of back to back meetings. Please share this phone meeting in your groups and fellow travelers \nTo Attend:\n5:00 am EST December 31 to 3:00 am EST January 2.\nCall-in number is 712-432-8808 access code 247676# \nWant to boost your recovery? Consider doing service as a Moderator\, Back-Up Moderator\, or Timekeeper. \nFor the signup link please text Tim at 773-510-0622\, aca.service2023@gmail.com \nFor a moderator script please text Tim (We’re using the same script as previous meetings) \nPlease do not hesitate to contact us with any questions. Moderator code will be sent out 24hrs before the marathon starts.\nXO\nIn-Service\,\nTim \nSponsored by TEL0427
URL:https://acawso.org/calendar/new-years-eve-and-day-marathon/
CATEGORIES:events
END:VEVENT
END:VCALENDAR