BEGIN:VCALENDAR
VERSION:2.0
PRODID:-//ACA WSO - ECPv6.15.20//NONSGML v1.0//EN
CALSCALE:GREGORIAN
METHOD:PUBLISH
X-WR-CALNAME:ACA WSO
X-ORIGINAL-URL:https://acawso.org
X-WR-CALDESC:Events for ACA WSO
REFRESH-INTERVAL;VALUE=DURATION:PT1H
X-Robots-Tag:noindex
X-PUBLISHED-TTL:PT1H
BEGIN:VTIMEZONE
TZID:America/New_York
BEGIN:DAYLIGHT
TZOFFSETFROM:-0500
TZOFFSETTO:-0400
TZNAME:EDT
DTSTART:20250309T070000
END:DAYLIGHT
BEGIN:STANDARD
TZOFFSETFROM:-0400
TZOFFSETTO:-0500
TZNAME:EST
DTSTART:20251102T060000
END:STANDARD
BEGIN:DAYLIGHT
TZOFFSETFROM:-0500
TZOFFSETTO:-0400
TZNAME:EDT
DTSTART:20260308T070000
END:DAYLIGHT
BEGIN:STANDARD
TZOFFSETFROM:-0400
TZOFFSETTO:-0500
TZNAME:EST
DTSTART:20261101T060000
END:STANDARD
BEGIN:DAYLIGHT
TZOFFSETFROM:-0500
TZOFFSETTO:-0400
TZNAME:EDT
DTSTART:20270314T070000
END:DAYLIGHT
BEGIN:STANDARD
TZOFFSETFROM:-0400
TZOFFSETTO:-0500
TZNAME:EST
DTSTART:20271107T060000
END:STANDARD
END:VTIMEZONE
BEGIN:VEVENT
DTSTART;TZID=America/New_York:20260720T073000
DTEND;TZID=America/New_York:20260725T090000
DTSTAMP:20260422T215925
CREATED:20260321T125053Z
LAST-MODIFIED:20260321T125053Z
UID:10019054-1784532600-1784970000@acawso.org
SUMMARY:ACA Special Meetings during the world's largest air show in Oshkosh WI
DESCRIPTION:EAA AirVenture Oshkosh 2026\, the world’s largest air show hosted by the Experimental Aircraft Association\, will take place July 20–26\, 2026 in Oshkosh\, Wisconsin. Each year the event draws more than 700\,000 people from around the world.\nIn celebration of AirVenture week\, our local Adult Children of Alcoholics groups\, WI0151\, will be hosting special ACA meetings at 8:00 AM each morning\, Monday\, July 20 through Saturday\, July 25.\nWe are asking for your help in sharing this information with the ACA fellowship so that those visiting for AirVenture—or anyone in need of a meeting—will know there is a place to find support during the week.\nThank you for helping us carry the ACA message and extend fellowship to those who may need it. \nSponsored by WI0151
URL:https://acawso.org/calendar/aca-special-meetings-during-the-worlds-largest-air-show-in-oshkosh-wi/
CATEGORIES:events
END:VEVENT
END:VCALENDAR