BEGIN:VCALENDAR
VERSION:2.0
PRODID:-//ACA WSO - ECPv6.15.20//NONSGML v1.0//EN
CALSCALE:GREGORIAN
METHOD:PUBLISH
X-ORIGINAL-URL:https://acawso.org
X-WR-CALDESC:Events for ACA WSO
REFRESH-INTERVAL;VALUE=DURATION:PT1H
X-Robots-Tag:noindex
X-PUBLISHED-TTL:PT1H
BEGIN:VTIMEZONE
TZID:America/New_York
BEGIN:DAYLIGHT
TZOFFSETFROM:-0500
TZOFFSETTO:-0400
TZNAME:EDT
DTSTART:20250309T070000
END:DAYLIGHT
BEGIN:STANDARD
TZOFFSETFROM:-0400
TZOFFSETTO:-0500
TZNAME:EST
DTSTART:20251102T060000
END:STANDARD
BEGIN:DAYLIGHT
TZOFFSETFROM:-0500
TZOFFSETTO:-0400
TZNAME:EDT
DTSTART:20260308T070000
END:DAYLIGHT
BEGIN:STANDARD
TZOFFSETFROM:-0400
TZOFFSETTO:-0500
TZNAME:EST
DTSTART:20261101T060000
END:STANDARD
BEGIN:DAYLIGHT
TZOFFSETFROM:-0500
TZOFFSETTO:-0400
TZNAME:EDT
DTSTART:20270314T070000
END:DAYLIGHT
BEGIN:STANDARD
TZOFFSETFROM:-0400
TZOFFSETTO:-0500
TZNAME:EST
DTSTART:20271107T060000
END:STANDARD
END:VTIMEZONE
BEGIN:VEVENT
DTSTART;TZID=America/New_York:20261010T120000
DTEND;TZID=America/New_York:20261010T130000
DTSTAMP:20260424T054842
CREATED:20260101T175833Z
LAST-MODIFIED:20260217T160844Z
UID:10018412-1791633600-1791637200@acawso.org
SUMMARY:Sponsorship
DESCRIPTION:Sponsorship Workshop invites newcomers and old timers to meet. Newcomers can ask questions and Old timers can offer suggestions. The Sponsorship Workshop will be held every 2nd Saturday at 9 am PST noon EST. \nSponsored by Region 6 and IG#640
URL:https://acawso.org/calendar/sponsorship/2026-10-10/
CATEGORIES:events
END:VEVENT
BEGIN:VEVENT
DTSTART;TZID=America/New_York:20261114T120000
DTEND;TZID=America/New_York:20261114T130000
DTSTAMP:20260424T054842
CREATED:20260101T175833Z
LAST-MODIFIED:20260217T160844Z
UID:10018413-1794657600-1794661200@acawso.org
SUMMARY:Sponsorship
DESCRIPTION:Sponsorship Workshop invites newcomers and old timers to meet. Newcomers can ask questions and Old timers can offer suggestions. The Sponsorship Workshop will be held every 2nd Saturday at 9 am PST noon EST. \nSponsored by Region 6 and IG#640
URL:https://acawso.org/calendar/sponsorship/2026-11-14/
CATEGORIES:events
END:VEVENT
BEGIN:VEVENT
DTSTART;TZID=America/New_York:20261212T120000
DTEND;TZID=America/New_York:20261212T130000
DTSTAMP:20260424T054842
CREATED:20260101T175833Z
LAST-MODIFIED:20260217T160844Z
UID:10018414-1797076800-1797080400@acawso.org
SUMMARY:Sponsorship
DESCRIPTION:Sponsorship Workshop invites newcomers and old timers to meet. Newcomers can ask questions and Old timers can offer suggestions. The Sponsorship Workshop will be held every 2nd Saturday at 9 am PST noon EST. \nSponsored by Region 6 and IG#640
URL:https://acawso.org/calendar/sponsorship/2026-12-12/
CATEGORIES:events
END:VEVENT
BEGIN:VEVENT
DTSTART;TZID=America/New_York:20261212T140000
DTEND;TZID=America/New_York:20261212T160000
DTSTAMP:20260424T054842
CREATED:20260101T172857Z
LAST-MODIFIED:20260119T165415Z
UID:10018107-1797084000-1797091200@acawso.org
SUMMARY:Board Meetings with Fellowship
DESCRIPTION:The WSO Board holds an open Board Meeting with the Fellowship(TC)\, via video conference\, each quarter. All ACA members are invited to attend these meetings. \nThese meetings are held quarterly on the second Saturday of the month from 2:00 – 4:00 PM ET. \n2026 DATES: \n\nMarch 14\nJune 13\nSept. 12\nDec. 12\n\nMeeting ID: 228 809 511 Passcode: 90755 \nor call in via phone at: +1 305 224 1968 (US) or see: Outside US Phone #’s \nFor more information please see this page.
URL:https://acawso.org/calendar/board-meetings-with-fellowship/2026-12-12/
CATEGORIES:events
END:VEVENT
END:VCALENDAR