BEGIN:VCALENDAR
VERSION:2.0
PRODID:-//ACA WSO - ECPv6.15.20//NONSGML v1.0//EN
CALSCALE:GREGORIAN
METHOD:PUBLISH
X-WR-CALNAME:ACA WSO
X-ORIGINAL-URL:https://acawso.org
X-WR-CALDESC:Events for ACA WSO
REFRESH-INTERVAL;VALUE=DURATION:PT1H
X-Robots-Tag:noindex
X-PUBLISHED-TTL:PT1H
BEGIN:VTIMEZONE
TZID:America/New_York
BEGIN:DAYLIGHT
TZOFFSETFROM:-0500
TZOFFSETTO:-0400
TZNAME:EDT
DTSTART:20250309T070000
END:DAYLIGHT
BEGIN:STANDARD
TZOFFSETFROM:-0400
TZOFFSETTO:-0500
TZNAME:EST
DTSTART:20251102T060000
END:STANDARD
BEGIN:DAYLIGHT
TZOFFSETFROM:-0500
TZOFFSETTO:-0400
TZNAME:EDT
DTSTART:20260308T070000
END:DAYLIGHT
BEGIN:STANDARD
TZOFFSETFROM:-0400
TZOFFSETTO:-0500
TZNAME:EST
DTSTART:20261101T060000
END:STANDARD
BEGIN:DAYLIGHT
TZOFFSETFROM:-0500
TZOFFSETTO:-0400
TZNAME:EDT
DTSTART:20270314T070000
END:DAYLIGHT
BEGIN:STANDARD
TZOFFSETFROM:-0400
TZOFFSETTO:-0500
TZNAME:EST
DTSTART:20271107T060000
END:STANDARD
END:VTIMEZONE
BEGIN:VEVENT
DTSTART;TZID=America/New_York:20260228T200000
DTEND;TZID=America/New_York:20260228T213000
DTSTAMP:20260420T050318
CREATED:20240212T162730Z
LAST-MODIFIED:20240212T162730Z
UID:10012411-1772308800-1772314200@acawso.org
SUMMARY:Big Red Book Working Group
DESCRIPTION:Zoom 2 ACAWSO is inviting you to a scheduled Zoom meeting.\nTopic: BRB Revision Working Group- Global East\nTime: Every month on the second and fourth Saturday at 8 PM Eastern US \nJoin Zoom Meeting\nhttps://zoom.us/j/92423141348\nMeeting ID: 924 2314 1348\nPasscode: 112358 \nPlease download and import the following iCalendar (.ics) files to your calendar system.\nMonthly: https://zoom.us/meeting/tJYpdeqpqjopHtwsBMOyTO0tAY5XaN4QYv7-/ics?icsToken=98tyKuCqqjkpG9CUsx2PRowQBojob-vwiH5egrdKjz3ILDlnTVPiF9sXCrNRROnp
URL:https://acawso.org/calendar/big-red-book-working-group/2026-02-28/
CATEGORIES:committees
END:VEVENT
BEGIN:VEVENT
DTSTART;TZID=America/New_York:20260227T093000
DTEND;TZID=America/New_York:20260227T113000
DTSTAMP:20260420T050318
CREATED:20260227T201004Z
LAST-MODIFIED:20260227T201206Z
UID:10017992-1772184600-1772191800@acawso.org
SUMMARY:Publishing Committee
DESCRIPTION:Publishing Committee (Zoom 7) \nWe meet on Fridays once a month on the 4th Friday of each month. \n \nTime: 6:30 am PDT\, 9:30 am EDT\, 2:30 pm UK/GBST\, 3:30 pm CET \, 3:30 pm SAST\, 7:00 pm India \nMeeting ID: 857 7189 3168\nPasscode: 382777 \nAny questions\, contact Sue V at publishingchair@acawso.org  or on slack \n 
URL:https://acawso.org/calendar/publishing-committee-3-2-3-2-3-2/
CATEGORIES:committees
END:VEVENT
BEGIN:VEVENT
DTSTART;TZID=America/New_York:20260226T180000
DTEND;TZID=America/New_York:20260226T193000
DTSTAMP:20260420T050318
CREATED:20250731T160916Z
LAST-MODIFIED:20260213T010306Z
UID:10016975-1772128800-1772134200@acawso.org
SUMMARY:Ballot Prep Committee
DESCRIPTION:All are welcome. \nFor more information\, contact the committee at bpc@adultchildren.org \nZoom 2 ACAWSO is inviting you to a scheduled Zoom meeting. \nMeeting ID: 815 3118 9155\nPasscode: 90755
URL:https://acawso.org/calendar/ballot-prep-committee-10-3/2026-02-26/
CATEGORIES:committees
END:VEVENT
BEGIN:VEVENT
DTSTART;TZID=America/New_York:20260226T110000
DTEND;TZID=America/New_York:20260226T123000
DTSTAMP:20260420T050318
CREATED:20251127T112704Z
LAST-MODIFIED:20260314T033456Z
UID:10017270-1772103600-1772109000@acawso.org
SUMMARY:MSC Global Fellowship Meeting
DESCRIPTION:Meeting times: Americas 11am ET New York\, 8am PT California\, 4pm England\, 5pm France\, 5pm Spain\, 6pm Lithuania\, 6pm South Africa\, 6pm Egypt\, 7pm Moscow\, Russia \nTopic: MSC Western Fellowship Meeting \nJoin Zoom Meeting \nhttps://zoom.us/j/93603824987 \nMeeting ID: 936 0382 4987\nPasscode: 163248
URL:https://acawso.org/calendar/western-global-fellowship-meeting-msc-2-2-2/2026-02-26/
CATEGORIES:committees
END:VEVENT
BEGIN:VEVENT
DTSTART;TZID=America/New_York:20260224T170000
DTEND;TZID=America/New_York:20260224T183000
DTSTAMP:20260420T050318
CREATED:20260206T175655Z
LAST-MODIFIED:20260206T175656Z
UID:10013861-1771952400-1771957800@acawso.org
SUMMARY:Charter Ad Hoc Committee
DESCRIPTION:Please see our Committee homepage for more information \nThis Study Group meets weekly on Tuesdays at 5:00 pm Eastern. \nMeeting ID: 993 7036 0615\nPasscode: 182011 \nIf you have questions\, please email us at abcstudy@acawso.org.
URL:https://acawso.org/calendar/abc-study-4-2-2-2/2026-02-24/
CATEGORIES:committees
END:VEVENT
BEGIN:VEVENT
DTSTART;TZID=America/New_York:20260223T160000
DTEND;TZID=America/New_York:20260223T173000
DTSTAMP:20260420T050318
CREATED:20251119T192005Z
LAST-MODIFIED:20251119T192007Z
UID:10010206-1771862400-1771867800@acawso.org
SUMMARY:IT Committee
DESCRIPTION:IT Committee meets as and when needed on Mondays at 4:00pm ET (US). Please contact the IT Chair before attending the meeting to find out if it meets in a given week. \ncontact: itchair@acawso.org \nJoin Zoom Meeting \nhttps://us02web.zoom.us/j/89520227175 \nMeeting ID: 895 2022 7175\nPasscode: 90755
URL:https://acawso.org/calendar/it-committee-2023-07-19-2-2-2-2/2026-02-23/
CATEGORIES:committees
END:VEVENT
BEGIN:VEVENT
DTSTART;TZID=America/New_York:20260223T120000
DTEND;TZID=America/New_York:20260223T133000
DTSTAMP:20260420T050318
CREATED:20250801T144133Z
LAST-MODIFIED:20250801T144134Z
UID:10012155-1771848000-1771853400@acawso.org
SUMMARY:IT Website Redesign Working Group
DESCRIPTION:IT website redesign working group meetings every Monday at 12:00pm ET (US) \nContact:  itchair@acawso.org \nJoin Zoom Meeting\nhttps://us02web.zoom.us/j/83771567325 \nMeeting ID: 837 7156 7325\nPasscode: 088655
URL:https://acawso.org/calendar/it-website-redesign-working-group-2-2-2-2/2026-02-23/
CATEGORIES:committees
END:VEVENT
BEGIN:VEVENT
DTSTART;TZID=America/New_York:20260222T130000
DTEND;TZID=America/New_York:20260222T143000
DTSTAMP:20260420T050318
CREATED:20260131T144600Z
LAST-MODIFIED:20260131T144600Z
UID:10018374-1771765200-1771770600@acawso.org
SUMMARY:Honor Your Pet Day
DESCRIPTION:In ACA we spend a lot of time talking about our “relationships” – relationships with our families\, friends\, coworkers\, partners…but what about our non-human relationships? \nThe connections that we make with our pets are some of the most heartwarming\, joyous\, helpful\, and heartbreaking relationships we will have in our lives. \nWe invite you to join us to spend a few minutes talking about and celebrating any of the animal friends you have had in your life. We’d love to hear a little bit about them and the love\, joy\, and comfort they’ve given you. \nAll are welcome – hope to see you there! \nSunday February 22\, 1pm – 2:30pm (EST) \nMeeting ID: 869 5390 7432 \nPasscode: 841150 \nSponsored by IG#634
URL:https://acawso.org/calendar/honor-your-pet-day/
CATEGORIES:events
END:VEVENT
BEGIN:VEVENT
DTSTART;TZID=America/New_York:20260221T123000
DTEND;TZID=America/New_York:20260221T140000
DTSTAMP:20260420T050318
CREATED:20250426T032033Z
LAST-MODIFIED:20250827T230724Z
UID:10017597-1771677000-1771682400@acawso.org
SUMMARY:ABC/QDM Committee
DESCRIPTION:The ABC/AWC committee meets first and third Saturday from 12:30 to 2 pm EDT \nJoin Zoom Meeting\nhttps://us02web.zoom.us/j/87582913615?pwd=dWpPNVJPcVNiVjJxbGgzbFVwY05EZz09 \nMeeting ID: 875 8291 3615\nPasscode: ABC2022 \nContact abc@adultchildren.org for more details. \n 
URL:https://acawso.org/calendar/abc-awc-committee-4-2-3/2026-02-21/
CATEGORIES:committees
END:VEVENT
BEGIN:VEVENT
DTSTART;TZID=America/New_York:20260221T103000
DTEND;TZID=America/New_York:20260221T120000
DTSTAMP:20260420T050318
CREATED:20260117T154318Z
LAST-MODIFIED:20260119T114552Z
UID:10016688-1771669800-1771675200@acawso.org
SUMMARY:ABC Sustainability Study Sub-Committee
DESCRIPTION:NOTE:  In January we are meeting on the 18th instead of the 17th. \nWe usually meet on the 1st & 3rd Saturday of each month from 10:30AM to Noon EDT. We recommend that you check the WSO Committee Calendar for any changes to this schedule. \nZoom URL: https://zoom.us/j/91045736882  \nMeeting ID: 910 4573 6882 \nPasscode: 992748
URL:https://acawso.org/calendar/abc-sustainability-study-sub-committee-6-3/2026-02-21/
CATEGORIES:committees
END:VEVENT
BEGIN:VEVENT
DTSTART;TZID=America/New_York:20260221T090000
DTEND;TZID=America/New_York:20260221T160000
DTSTAMP:20260420T050318
CREATED:20251027T214631Z
LAST-MODIFIED:20260207T113924Z
UID:10017672-1771664400-1771689600@acawso.org
SUMMARY:Feel Your Feelings – 3rd Annual ACA Workshop
DESCRIPTION:Final/Updated Flyer\nFeel Your Feelings – 3rd Annual ACA Workshop\n9-4:00pm\nPresbyterian Church of Newtown Square\n3600 Goshen Road\, Newtown Square\, PA\nKeynote Speaker Workshops/Share Groups Chair Yoga ACA Meeting Fun Games Fellowship Potluck Closing Circle\nFundraiser for WSO! \nSponsored by IG#105 \n 
URL:https://acawso.org/calendar/feel-your-feelings/
CATEGORIES:events
END:VEVENT
BEGIN:VEVENT
DTSTART;TZID=America/New_York:20260220T180000
DTEND;TZID=America/New_York:20260220T190000
DTSTAMP:20260420T050318
CREATED:20250816T110018Z
LAST-MODIFIED:20260302T110304Z
UID:10009449-1771610400-1771614000@acawso.org
SUMMARY:Data Analysis Committee
DESCRIPTION:  \nData Analysis Committee meets every third Friday the month at  3 PM PDT\, 4 PM MDT\, 5 PM CDT\, 6 PM EDT\, Saturday at 5 AM Thailand/Vietnam\, 6 AM Singapore/Taiwan/China\, 7 AM Japan \nFor information how to attend please contact the committee.
URL:https://acawso.org/calendar/data-analysis-committee-2-2-2-2-3/2026-02-20/
CATEGORIES:committees
END:VEVENT
BEGIN:VEVENT
DTSTART;TZID=America/New_York:20260219T161500
DTEND;TZID=America/New_York:20260219T171500
DTSTAMP:20260420T050318
CREATED:20240610T105549Z
LAST-MODIFIED:20240722T102939Z
UID:10013174-1771517700-1771521300@acawso.org
SUMMARY:Oral History Committee
DESCRIPTION:Oral History Committee meets on third Thursday of each month at 4:15pm Eastern. \nhttps://zoom.us/j/87931864867 \nMeeting ID: 879 3186 4867 \nPasscode: 076406
URL:https://acawso.org/calendar/oral-history-committee-2-2/2026-02-19/
CATEGORIES:committees
END:VEVENT
BEGIN:VEVENT
DTSTART;TZID=America/New_York:20260219T160000
DTEND;TZID=America/New_York:20260219T173000
DTSTAMP:20260420T050318
CREATED:20260115T121051Z
LAST-MODIFIED:20260115T121052Z
UID:10017705-1771516800-1771522200@acawso.org
SUMMARY:Concepts Study
DESCRIPTION:This ad hoc committee was created by the 2022 ABC. \nAll ACA’s are welcome \nPlease note time change. Starting November 20\, 2025 we will meet earlier – at 4 PM ET instead of 5:30 PM ET. \nZoom information: \nhttps://zoom.us/j/83429248013 \nMeeting ID: 834 2924 8013\nPasscode: 90755 \nCommittee’s page
URL:https://acawso.org/calendar/concepts-ii-and-vi-study-2-3-2-2-2-2-2/2026-02-19/
CATEGORIES:committees
END:VEVENT
BEGIN:VEVENT
DTSTART;TZID=America/New_York:20260219T150000
DTEND;TZID=America/New_York:20260219T163000
DTSTAMP:20260420T050318
CREATED:20250801T142910Z
LAST-MODIFIED:20250801T142911Z
UID:10017027-1771513200-1771518600@acawso.org
SUMMARY:Finance Committee
DESCRIPTION:The finance committee meets Thursdays from 2:30 pm ET – 4:00pm ET.  We are looking for members with business\, finance\, or bookkeeping experience. \n  \nPlease contact treasurer@adultchildren.org or finance@acawso.org if you are interested in visiting or joining the finance committee.
URL:https://acawso.org/calendar/finance-committee-2-2/2026-02-19/
CATEGORIES:committees
END:VEVENT
BEGIN:VEVENT
DTSTART;TZID=America/New_York:20260218T130000
DTEND;TZID=America/New_York:20260218T140000
DTSTAMP:20260420T050318
CREATED:20251217T165807Z
LAST-MODIFIED:20251217T165808Z
UID:10012618-1771419600-1771423200@acawso.org
SUMMARY:Translations Subcommittee
DESCRIPTION:Translation Subcommittee meets every 3rd Wednesday of the month at \n1 pm ET New York\, USA\n12 pm CT Mexico City\, Mexico\n10 am PT Los Angeles\, USA\n6 pm GMT London\, UK\n7 pm CET Madrid\, Spain\n9 pm MK Moscow\, Russia\n11:30pm IST New Delhi\, India\n3 am JT Tokyo\, Japan\n5 am AET Sydney\, AUS \n  \nMeeting ID: 879 0590 2057\nPasscode: 969814 \nAll are welcome!
URL:https://acawso.org/calendar/translations-subcommittee-2-3/2026-02-18/
CATEGORIES:committees
END:VEVENT
BEGIN:VEVENT
DTSTART;TZID=America/New_York:20260217T170000
DTEND;TZID=America/New_York:20260217T183000
DTSTAMP:20260420T050318
CREATED:20260206T175655Z
LAST-MODIFIED:20260206T175656Z
UID:10013860-1771347600-1771353000@acawso.org
SUMMARY:Charter Ad Hoc Committee
DESCRIPTION:Please see our Committee homepage for more information \nThis Study Group meets weekly on Tuesdays at 5:00 pm Eastern. \nMeeting ID: 993 7036 0615\nPasscode: 182011 \nIf you have questions\, please email us at abcstudy@acawso.org.
URL:https://acawso.org/calendar/abc-study-4-2-2-2/2026-02-17/
CATEGORIES:committees
END:VEVENT
BEGIN:VEVENT
DTSTART;TZID=America/New_York:20260216T160000
DTEND;TZID=America/New_York:20260216T173000
DTSTAMP:20260420T050318
CREATED:20251119T192005Z
LAST-MODIFIED:20251119T192007Z
UID:10010205-1771257600-1771263000@acawso.org
SUMMARY:IT Committee
DESCRIPTION:IT Committee meets as and when needed on Mondays at 4:00pm ET (US). Please contact the IT Chair before attending the meeting to find out if it meets in a given week. \ncontact: itchair@acawso.org \nJoin Zoom Meeting \nhttps://us02web.zoom.us/j/89520227175 \nMeeting ID: 895 2022 7175\nPasscode: 90755
URL:https://acawso.org/calendar/it-committee-2023-07-19-2-2-2-2/2026-02-16/
CATEGORIES:committees
END:VEVENT
BEGIN:VEVENT
DTSTART;TZID=America/New_York:20260216T120000
DTEND;TZID=America/New_York:20260216T133000
DTSTAMP:20260420T050318
CREATED:20250801T144133Z
LAST-MODIFIED:20250801T144134Z
UID:10012154-1771243200-1771248600@acawso.org
SUMMARY:IT Website Redesign Working Group
DESCRIPTION:IT website redesign working group meetings every Monday at 12:00pm ET (US) \nContact:  itchair@acawso.org \nJoin Zoom Meeting\nhttps://us02web.zoom.us/j/83771567325 \nMeeting ID: 837 7156 7325\nPasscode: 088655
URL:https://acawso.org/calendar/it-website-redesign-working-group-2-2-2-2/2026-02-16/
CATEGORIES:committees
END:VEVENT
BEGIN:VEVENT
DTSTART;TZID=America/New_York:20260214T200000
DTEND;TZID=America/New_York:20260214T213000
DTSTAMP:20260420T050318
CREATED:20241109T132041Z
LAST-MODIFIED:20241109T132042Z
UID:10012532-1771099200-1771104600@acawso.org
SUMMARY:Big Red Book Working Group
DESCRIPTION:Zoom 2 ACAWSO is inviting you to a scheduled Zoom meeting.\nTopic: BRB Revision Working Group- Global East\nTime: Every month on the second and fourth Saturday at 8 PM Eastern US \nJoin Zoom Meeting\nhttps://zoom.us/j/92423141348\nMeeting ID: 924 2314 1348\nPasscode: 112358 \nPlease download and import the following iCalendar (.ics) files to your calendar system.\nMonthly: https://zoom.us/meeting/tJYpdeqpqjopHtwsBMOyTO0tAY5XaN4QYv7-/ics?icsToken=98tyKuCqqjkpG9CUsx2PRowQBojob-vwiH5egrdKjz3ILDlnTVPiF9sXCrNRROnp
URL:https://acawso.org/calendar/brb-revision-working-group-global-east-3-2/2026-02-14/
CATEGORIES:committees
END:VEVENT
BEGIN:VEVENT
DTSTART;TZID=America/New_York:20260214T120000
DTEND;TZID=America/New_York:20260214T130000
DTSTAMP:20260420T050318
CREATED:20260101T175833Z
LAST-MODIFIED:20260217T160844Z
UID:10018404-1771070400-1771074000@acawso.org
SUMMARY:Sponsorship
DESCRIPTION:Sponsorship Workshop invites newcomers and old timers to meet. Newcomers can ask questions and Old timers can offer suggestions. The Sponsorship Workshop will be held every 2nd Saturday at 9 am PST noon EST. \nSponsored by Region 6 and IG#640
URL:https://acawso.org/calendar/sponsorship/2026-02-14/
CATEGORIES:events
END:VEVENT
BEGIN:VEVENT
DTSTART;TZID=America/New_York:20260214T100000
DTEND;TZID=America/New_York:20260214T120000
DTSTAMP:20260420T050318
CREATED:20251229T114627Z
LAST-MODIFIED:20260101T180023Z
UID:10018103-1771063200-1771070400@acawso.org
SUMMARY:Will You Be Your Loving Parent?
DESCRIPTION:Will You Be Your Loving Parent?\nA Valentine Workshop for Adult Children \nThis Valentine’s Day\, we turn inward.\nMany of us grew up longing for safety\, care\, and attunement that were inconsistent or missing. As adult children\, we often look for that love outside ourselves—hoping someone else will finally give us what we did not receive. \nIn this workshop\, we pause and ask a different question:\nWill We Be Our Own Loving Parent? \nTogether\, we will explore what it means to show up for ourselves with compassion\, protection\, and consistency. Using ACA principles\, Loving Parent work\, and gentle reflection\, we will practice offering ourselves the care our inner children have always needed. \nThis workshop is an invitation to:\n• Deepen our relationship with our Loving Parent and inner Children\n• Strengthen emotional safety and self-trust\n• Reclaim Valentine’s Day as a moment of self-commitment and care \nYou are warmly welcome exactly as you are.\nNo prior experience is needed—only a willingness to show up for yourself. \n Feb 14  4pm CET (Paris / Oslo) | 3pm GMT | 10am ET | 7am PT  +/-120 minutes\nZoom  962 3815 6804 Pass LOVE \nSponsored by Fearless Souls – Adult Children in Recovery ACA #IG754 \n 
URL:https://acawso.org/calendar/will-you-be-your-loving-parent/
CATEGORIES:events
END:VEVENT
BEGIN:VEVENT
DTSTART;TZID=America/New_York:20260214T050000
DTEND;TZID=America/New_York:20260215T030000
DTSTAMP:20260420T050318
CREATED:20260212T113358Z
LAST-MODIFIED:20260212T113358Z
UID:10018385-1771045200-1771124400@acawso.org
SUMMARY:Valentines Day Marathon
DESCRIPTION:Valentine’s Day Marathon\nGroup Tel 0427\nHolidays can be a difficult time for adult children. On Valentine’s Day\, there will be 22 hours of back to back meetings. Please share this phone meeting in your groups and fellow travelers.\nTo Attend:\nTime: 5:00 am EST February 14 until 3:00 am EST February 15\nCall-in number: 712-432-8808 access code 247676#\nWant to boost your recovery? Consider doing service as a Moderator\, Back-Up Moderator\, or Timekeeper.\nFor the signup link or a moderator script please text Tim (see contact info below).\nPlease do not hesitate to contact us with any questions. Moderator code will be sent out 24hrs before the marathon starts.\nXO\nIn-Service\,\nTim\n773-510-0622 email: aca.service2023@gmail.com \nSponsored by TEL0427
URL:https://acawso.org/calendar/valentines-day-marathon-2/
CATEGORIES:events
END:VEVENT
BEGIN:VEVENT
DTSTART;TZID=America/New_York:20260212T180000
DTEND;TZID=America/New_York:20260212T193000
DTSTAMP:20260420T050318
CREATED:20250731T160916Z
LAST-MODIFIED:20260213T010306Z
UID:10016973-1770919200-1770924600@acawso.org
SUMMARY:Ballot Prep Committee
DESCRIPTION:All are welcome. \nFor more information\, contact the committee at bpc@adultchildren.org \nZoom 2 ACAWSO is inviting you to a scheduled Zoom meeting. \nMeeting ID: 815 3118 9155\nPasscode: 90755
URL:https://acawso.org/calendar/ballot-prep-committee-10-3/2026-02-12/
CATEGORIES:committees
END:VEVENT
BEGIN:VEVENT
DTSTART;TZID=America/New_York:20260210T170000
DTEND;TZID=America/New_York:20260210T183000
DTSTAMP:20260420T050318
CREATED:20260206T175655Z
LAST-MODIFIED:20260206T175656Z
UID:10013859-1770742800-1770748200@acawso.org
SUMMARY:Charter Ad Hoc Committee
DESCRIPTION:Please see our Committee homepage for more information \nThis Study Group meets weekly on Tuesdays at 5:00 pm Eastern. \nMeeting ID: 993 7036 0615\nPasscode: 182011 \nIf you have questions\, please email us at abcstudy@acawso.org.
URL:https://acawso.org/calendar/abc-study-4-2-2-2/2026-02-10/
CATEGORIES:committees
END:VEVENT
BEGIN:VEVENT
DTSTART;TZID=America/New_York:20260209T160000
DTEND;TZID=America/New_York:20260209T173000
DTSTAMP:20260420T050318
CREATED:20251119T192005Z
LAST-MODIFIED:20251119T192007Z
UID:10010204-1770652800-1770658200@acawso.org
SUMMARY:IT Committee
DESCRIPTION:IT Committee meets as and when needed on Mondays at 4:00pm ET (US). Please contact the IT Chair before attending the meeting to find out if it meets in a given week. \ncontact: itchair@acawso.org \nJoin Zoom Meeting \nhttps://us02web.zoom.us/j/89520227175 \nMeeting ID: 895 2022 7175\nPasscode: 90755
URL:https://acawso.org/calendar/it-committee-2023-07-19-2-2-2-2/2026-02-09/
CATEGORIES:committees
END:VEVENT
BEGIN:VEVENT
DTSTART;TZID=America/New_York:20260209T120000
DTEND;TZID=America/New_York:20260209T133000
DTSTAMP:20260420T050318
CREATED:20250801T144133Z
LAST-MODIFIED:20250801T144134Z
UID:10012153-1770638400-1770643800@acawso.org
SUMMARY:IT Website Redesign Working Group
DESCRIPTION:IT website redesign working group meetings every Monday at 12:00pm ET (US) \nContact:  itchair@acawso.org \nJoin Zoom Meeting\nhttps://us02web.zoom.us/j/83771567325 \nMeeting ID: 837 7156 7325\nPasscode: 088655
URL:https://acawso.org/calendar/it-website-redesign-working-group-2-2-2-2/2026-02-09/
CATEGORIES:committees
END:VEVENT
BEGIN:VEVENT
DTSTART;TZID=America/New_York:20260207T160000
DTEND;TZID=America/New_York:20260207T173000
DTSTAMP:20260420T050318
CREATED:20250315T203407Z
LAST-MODIFIED:20250315T203408Z
UID:10011426-1770480000-1770485400@acawso.org
SUMMARY:SRC Committee Meeting
DESCRIPTION:Service Resources Committee meets on the 1st and 3rd Saturday of the month at 4pm ET. \nZoom 2 ACAWSO is inviting you to a scheduled Zoom meeting. \nTopic: SRC Committee Meeting\nJoin Zoom Meeting\nhttps://us02web.zoom.us/j/82077851277 \nMeeting ID: 820 7785 1277\nPasscode: 987321 \n  \nPlease download and import the following iCalendar (.ics) files to your calendar system.\nWeekly: https://us02web.zoom.us/meeting/tZYtcO6gqzooHdN_nSsMjGe-HFnItRpAbjLl/ics?icsToken=98tyKuGqrjwtEtGUsh6ARpwQAo_CKPzwmH5BgqdzoxHWEA1ZRQa7HsRMG6ZNAPnS
URL:https://acawso.org/calendar/mssc-committee-meeting-2-2/2026-02-07/
CATEGORIES:committees
END:VEVENT
BEGIN:VEVENT
DTSTART;TZID=America/New_York:20260207T123000
DTEND;TZID=America/New_York:20260207T140000
DTSTAMP:20260420T050318
CREATED:20250129T193225Z
LAST-MODIFIED:20250510T175944Z
UID:10015726-1770467400-1770472800@acawso.org
SUMMARY:ABC/QDM Committee
DESCRIPTION:The ABC/AWC committee meets first and third Saturdays from 12:30 to 2 pm EDT \nJoin Zoom Meeting\nhttps://us02web.zoom.us/j/87582913615?pwd=dWpPNVJPcVNiVjJxbGgzbFVwY05EZz09 \nMeeting ID: 875 8291 3615\nPasscode: ABC2022 \nContact abc@adultchildren.org for more details.
URL:https://acawso.org/calendar/abc-awc-committee-5/2026-02-07/
CATEGORIES:committees
END:VEVENT
BEGIN:VEVENT
DTSTART;TZID=America/New_York:20260207T103000
DTEND;TZID=America/New_York:20260207T120000
DTSTAMP:20260420T050318
CREATED:20251031T215409Z
LAST-MODIFIED:20260228T184519Z
UID:10016706-1770460200-1770465600@acawso.org
SUMMARY:ABC Sustainability Study Sub-Committee
DESCRIPTION:We generally meet on the 1st & 3rd Saturday of each month from 10:30AM to Noon EDT. \nAlways check this WSO Committee Calendar for any changes to our schedule. \nWe meet on Zoom 2: \nZoom URL: https://zoom.us/j/91045736882  \nMeeting ID: 910 4573 6882 \nPasscode: 992748
URL:https://acawso.org/calendar/abc-sustainability-study-sub-committee-7-2/2026-02-07/
CATEGORIES:committees
END:VEVENT
END:VCALENDAR