BEGIN:VCALENDAR
VERSION:2.0
PRODID:-//ACA WSO - ECPv6.15.20//NONSGML v1.0//EN
CALSCALE:GREGORIAN
METHOD:PUBLISH
X-WR-CALNAME:ACA WSO
X-ORIGINAL-URL:https://acawso.org
X-WR-CALDESC:Events for ACA WSO
REFRESH-INTERVAL;VALUE=DURATION:PT1H
X-Robots-Tag:noindex
X-PUBLISHED-TTL:PT1H
BEGIN:VTIMEZONE
TZID:America/New_York
BEGIN:DAYLIGHT
TZOFFSETFROM:-0500
TZOFFSETTO:-0400
TZNAME:EDT
DTSTART:20230312T070000
END:DAYLIGHT
BEGIN:STANDARD
TZOFFSETFROM:-0400
TZOFFSETTO:-0500
TZNAME:EST
DTSTART:20231105T060000
END:STANDARD
BEGIN:DAYLIGHT
TZOFFSETFROM:-0500
TZOFFSETTO:-0400
TZNAME:EDT
DTSTART:20240310T070000
END:DAYLIGHT
BEGIN:STANDARD
TZOFFSETFROM:-0400
TZOFFSETTO:-0500
TZNAME:EST
DTSTART:20241103T060000
END:STANDARD
BEGIN:DAYLIGHT
TZOFFSETFROM:-0500
TZOFFSETTO:-0400
TZNAME:EDT
DTSTART:20250309T070000
END:DAYLIGHT
BEGIN:STANDARD
TZOFFSETFROM:-0400
TZOFFSETTO:-0500
TZNAME:EST
DTSTART:20251102T060000
END:STANDARD
END:VTIMEZONE
BEGIN:VEVENT
DTSTART;TZID=America/New_York:20240515T130000
DTEND;TZID=America/New_York:20240515T140000
DTSTAMP:20260419T212707
CREATED:20220618T101140Z
LAST-MODIFIED:20240326T160315Z
UID:10005448-1715778000-1715781600@acawso.org
SUMMARY:Translations Subcommittee
DESCRIPTION:Translation Subcommittee meets every 3rd Wednesday of the month at 1 pm ET/7 pm CET/ 6 pm GMT \n  \nMeeting ID: 879 0590 2057\nPasscode: 969814 \nAll are welcome!
URL:https://acawso.org/calendar/translations-subcommittee/2024-05-15/
CATEGORIES:committees
END:VEVENT
BEGIN:VEVENT
DTSTART;TZID=America/New_York:20240514T160000
DTEND;TZID=America/New_York:20240514T170000
DTSTAMP:20260419T212707
CREATED:20221208T214715Z
LAST-MODIFIED:20230320T204556Z
UID:10005649-1715702400-1715706000@acawso.org
SUMMARY:IT Policies Procedures Working Group
DESCRIPTION:Topic: IT Procedures\nWorking Group meets every other Tuesday at 04:00 PM Eastern Time (US and Canada)\nMeeting ID: https://us02web.zoom.us/j/81018252231 \nMeeting ID: 810 1825 2231\nPasscode: 13579 \nPlease download and import the following iCalendar (.ics) files to your calendar system.\nWeekly: https://us02web.zoom.us/meeting/tZUtduGqqzkoGdUYEt-Ir-vEeTRKMxPC0tE0/ics?icsToken=98tyKuGprjoiGNGXshqGRpwcAoj4WerwmHpBjadopTrxTglBLxXTM9ZwGZ9nIPuA
URL:https://acawso.org/calendar/it-policies-procedures-subcommittee/2024-05-14/
CATEGORIES:committees
END:VEVENT
BEGIN:VEVENT
DTSTART;TZID=America/New_York:20240514T140000
DTEND;TZID=America/New_York:20240514T153000
DTSTAMP:20260419T212707
CREATED:20220902T154208Z
LAST-MODIFIED:20220902T154208Z
UID:10007880-1715695200-1715700600@acawso.org
SUMMARY:Archives Committee Meeting
DESCRIPTION:Join the Archives Committee at \nhttps://us02web.zoom.us/j/89913165113 \nMeeting ID: 899 1316 5113\nPasscode: 495053
URL:https://acawso.org/calendar/archives-committee-meeting/2024-05-14/
END:VEVENT
BEGIN:VEVENT
DTSTART;TZID=America/New_York:20240514T100000
DTEND;TZID=America/New_York:20240514T120000
DTSTAMP:20260419T212707
CREATED:20240120T040246Z
LAST-MODIFIED:20240603T041503Z
UID:10012008-1715680800-1715688000@acawso.org
SUMMARY:Ready Set GO!!  Morning Series
DESCRIPTION:Download Flyer Here \n\n		\n			\n			\n		\n\n		\n  \nReady Set GO!! is a 6-week introductory program of the ACA program\, the ACA 12 Steps and an introductory Inner Child Workshop “Awakening My Little One”. \nRSG is a meeting/workshop with: \n\nOur RSG Team will provide a host and cohost.\nMembers volunteering to be the leader will read the leader’s parts of the RSG material while other volunteer members will read the other parts as we screen share the RSG script.\nMembers will have 2 fifteen minute sharing times with 3 minute shares for each member using breakout rooms.\n\nOccasionally the leader will ask members for brief questions about the readings and the leader or others at the meeting may respond with brief answers. (Time is limited) \nRSG’s weekly schedule:\nWeek 1: Introduction\, Steps 1\, 2\, 3\nWeek 2: Steps 4\, 5\nWeek 3: Steps 6\, 7\, 8\, 9\nWeek 4: Steps 10\, 11\, 12\nWeek 5: RSG Inner Child Workshop\nWeek 6: RSG Inner Child Workshop \nClick on the link and then click on: open the link\, or copy and paste \nHere is the link for your RSG material: including dated flyers for: https://drive.google.com/drive/folders/1pAjkUD35MtBbKZzRG2Jmyhh1BLxaaFpA?ths=true \nPlease do not convert any of the RSG material into a docx or word document. Respectfully do not alter any parts of the RSG material. Thank you. \nPlease read the PARTICIPANT_PREPARATION_RSG_pdf first\, then the flyer. \nThe first week after the closing of the meeting we will discuss RSG Sharing Partner/ Outreach List. Time permitting\, we will have a Q&A of ACA and RSG. \nAll RSG introductory meetings/workshop are registered and closed meetings (ACA members only). \nRSG has been developed especially to support newcomers\, while also being beneficial to the experienced member. \nOur RSG online/telephone meeting ID# for this session is WEB1119. \nIn accordance with the 7th Tradition:\nTo contribute directly to WSO: \n\nBy Venmo to @acawso\nOnline at https://adultchildren.org/7th-tradition/\nBy calling 562-595-7831\nBy mail\, check payable to ACA WSO\, PO Box 811 Lakewood\, CA 90714\n\nPlease also consider contributing to our sponsoring intergroup WEST GREAT LAKES ACA INTERGROUP\, IG#70 at westgreatlakesaca.org \nThank you for supporting ACA and the World Service Organization. Contribute only what you can afford. All amounts\, no matter the size\, are important to our tradition of self-support through our own contributions and to your own recovery. \nNewcomers are encouraged to buy literature or books and are welcome to contribute to the 7th tradition when they are ready. \nContacts:\nRSG Team: acatoni5617@comcast.net\nComments: acatoni5617@comcast.net \nOur RSG online/phone Meeting ID# for this session is WEB1119. \nTuesdays\, 9:00am CT\, 10am ET\, 7:00am PT\, 8:00am MT \nMay 14\, 21\, 28\, June 4\, 11\, 18. 2024\nor\nJuly 9\, 16\, 23\, 30\, Aug 6\, 14\, 2024 \nClick here -> LINK to find your own time zone. \n 
URL:https://acawso.org/calendar/ready-set-go-morning-series-17/2024-05-14/
CATEGORIES:events
END:VEVENT
BEGIN:VEVENT
DTSTART;TZID=America/New_York:20240513T160000
DTEND;TZID=America/New_York:20240513T173000
DTSTAMP:20260419T212707
CREATED:20231211T221919Z
LAST-MODIFIED:20231211T221919Z
UID:10007471-1715616000-1715621400@acawso.org
SUMMARY:IT Committee
DESCRIPTION:IT Committee meets weekly on Monday at 4:00pm ET (US) \ncontact: itchair@acawso.org \nJoin Zoom Meeting \nhttps://us02web.zoom.us/j/89520227175 \nMeeting ID: 895 2022 7175\nPasscode: 90755\nOne tap mobile\n+19292056099\,\,89520227175# US (New York)\n+13126266799\,\,89520227175# US (Chicago) \nDial by your location\n+1 929 205 6099 US (New York)\n+1 312 626 6799 US (Chicago)\n+1 301 715 8592 US (Washington DC)\n+1 253 215 8782 US (Tacoma)\n+1 346 248 7799 US (Houston)\n+1 669 900 6833 US (San Jose)\nMeeting ID: 895 2022 7175\nFind your local number: https://us02web.zoom.us/u/kdrkCQ8UuT
URL:https://acawso.org/calendar/it-committee-2023-07-19-2-2/2024-05-13/
CATEGORIES:committees
END:VEVENT
BEGIN:VEVENT
DTSTART;TZID=America/New_York:20240513T150000
DTEND;TZID=America/New_York:20240513T160000
DTSTAMP:20260419T212707
CREATED:20231211T210402Z
LAST-MODIFIED:20231211T221514Z
UID:10007957-1715612400-1715616000@acawso.org
SUMMARY:ACA Name Study
DESCRIPTION:The ACA Name Study ad-hoc committee purpose is to develop a name for the fellowship that communicates inclusion for any adult child from a dysfunctional family regardless of the presence of alcohol in the home. \nThe study was created by the 2022 ABC. \nWe meet on the 2nd and 4th Mondays at 3:00 pm ET for 60 minutes. \nJoin Zoom Meeting\nhttps://us02web.zoom.us/j/83303035586 \nMeeting ID: 833 0303 5586\nPasscode: 889510 \n 
URL:https://acawso.org/calendar/aca-name-study-2023-04-28-2-2/2024-05-13/
CATEGORIES:committees
END:VEVENT
BEGIN:VEVENT
DTSTART;TZID=America/New_York:20240513T120000
DTEND;TZID=America/New_York:20240513T130000
DTSTAMP:20260419T212707
CREATED:20240130T212553Z
LAST-MODIFIED:20240130T212553Z
UID:10012062-1715601600-1715605200@acawso.org
SUMMARY:IT Website Redesign Working Group
DESCRIPTION:IT website redesign working group meetings every Monday at 12:00pm ET (US) \nContact:  itchair@acawso.org \nJoin Zoom Meeting\nhttps://us02web.zoom.us/j/83771567325 \nMeeting ID: 837 7156 7325\nPasscode: 088655
URL:https://acawso.org/calendar/it-website-redesign-working-group-2-2/2024-05-13/
CATEGORIES:committees
END:VEVENT
BEGIN:VEVENT
DTSTART;TZID=America/New_York:20240512T160000
DTEND;TZID=America/New_York:20240512T173000
DTSTAMP:20260419T212707
CREATED:20240521T195256Z
LAST-MODIFIED:20240521T195342Z
UID:10012936-1715529600-1715535000@acawso.org
SUMMARY:Volunteer Resources Committee
DESCRIPTION:Starting on October\, the VRC meets on the second Sunday of the month at 4pm ET on Zoom 3. \nJoin Zoom Meeting\nhttps://us02web.zoom.us/j/86938075882?pwd=MzlFV0RYUkc2UUt4dGRid3dqN1FNdz09 \nMeeting ID: 869 3807 5882\nPasscode: 656656 \nPlease contact us at vrc@acawso.org if you would like more information.
URL:https://acawso.org/calendar/volunteer-resources-committee-2-2-2-2/2024-05-12/
CATEGORIES:committees
END:VEVENT
BEGIN:VEVENT
DTSTART;TZID=America/New_York:20240512T050000
DTEND;TZID=America/New_York:20240513T030000
DTSTAMP:20260419T212707
CREATED:20240508T102824Z
LAST-MODIFIED:20240508T102824Z
UID:10012905-1715490000-1715569200@acawso.org
SUMMARY:Mother's Day Marathon Meetings
DESCRIPTION:Mother’s Day ACA Phone Marathon 2024- TEL0427\nWelcome to the ACOA Phone Meeting Marathon sign-up! You are invited to strengthen your recovery by Moderating\, Back-up Moderating\, and Timekeeping. The Marathon begins Sunday\, May 12th\, 2024 at 5am est until Monday\, May 13th\, 2024 at 3am est. Holidays may be a difficult time for adult children. We encourage you to share this phone meeting with anyone who would like to heal from the effects of alcoholism or family dysfunction. \nYou may serve in one of two ways:\n1. Attend the meeting. The call-in number is 712-432-8808 access code 247676#\n2. Share this Marathon meeting phone number and time with other Adult children and please announce it at all appropriate ACOA meetings\, using the following approved announcement below. \nThe call-in number is 712-432-8808\, access Code 247676#. Interested in service? Moderators\, Back-Up Moderators\, and Timekeepers are needed.\nFor the signup link or script (we’re using the same script from prior marathons) please text Tim at 773-510-0622\, aca.service2023@gmail.com\nThe moderator code will be sent out a day prior to the marathon.\nPlease do not hesitate to contact us with any questions. \nIn-Service\,\nTim\naca.service2023@gmail.com\n773.510.0622 \nSponsored by TEL0427
URL:https://acawso.org/calendar/mothers-day-marathon-meetings/
CATEGORIES:events
END:VEVENT
BEGIN:VEVENT
DTSTART;TZID=America/New_York:20240511T200000
DTEND;TZID=America/New_York:20240511T213000
DTSTAMP:20260419T212707
CREATED:20240212T162611Z
LAST-MODIFIED:20240212T162820Z
UID:10012511-1715457600-1715463000@acawso.org
SUMMARY:Big Red Book Working Group
DESCRIPTION:Zoom 2 ACAWSO is inviting you to a scheduled Zoom meeting.\nTopic: BRB Revision Working Group- Global East\nTime: Every month on the second and fourth Saturday at 8 PM Eastern US \nJoin Zoom Meeting\nhttps://zoom.us/j/92423141348\nMeeting ID: 924 2314 1348\nPasscode: 112358 \nPlease download and import the following iCalendar (.ics) files to your calendar system.\nMonthly: https://zoom.us/meeting/tJYpdeqpqjopHtwsBMOyTO0tAY5XaN4QYv7-/ics?icsToken=98tyKuCqqjkpG9CUsx2PRowQBojob-vwiH5egrdKjz3ILDlnTVPiF9sXCrNRROnp
URL:https://acawso.org/calendar/brb-revision-working-group-global-east-3/2024-05-11/
CATEGORIES:committees
END:VEVENT
BEGIN:VEVENT
DTSTART;TZID=America/New_York:20240511T133000
DTEND;TZID=America/New_York:20240511T135500
DTSTAMP:20260419T212707
CREATED:20240408T181905Z
LAST-MODIFIED:20240408T181906Z
UID:10012661-1715434200-1715435700@acawso.org
SUMMARY:Meet & Greet with the Volunteer Resource Committee
DESCRIPTION:Meet & Greet\, with the Volunteer Resource Committee\nOur purpose is to provide a casual space to ask questions about volunteering within various WSO Committees\, finding clarity in each others’ experience\, strength and hope; and to promote healthy functioning in WSO committees.When will we meet?\n\nIf a Board Teleconference is planned for that month\, we will meet 20 minutes before the meeting\, from 1:30 – 1:55 pm ET\, or\nIf a Board Teleconference is canceled that month\, we will meet for 30 minutes beginning at the usual Teleconference time\, from 2:00 – 2:30 pm ET\n\nWhere do we meet?\nZoom 3\nMeeting ID: 869 3807 5882\nPasscode: 656656
URL:https://acawso.org/calendar/meet-greet-with-the-volunteer-resource-committee-3/2024-05-11/
CATEGORIES:committees,events
END:VEVENT
BEGIN:VEVENT
DTSTART;TZID=America/New_York:20240511T120000
DTEND;TZID=America/New_York:20240511T130000
DTSTAMP:20260419T212707
CREATED:20240113T130000Z
LAST-MODIFIED:20240113T130001Z
UID:10005300-1715428800-1715432400@acawso.org
SUMMARY:Content Development Collaboration Committee- Not meeting until April 2024
DESCRIPTION:Content Development CC is not going to hold any meetings until April 2024. \nZoom Meeting ID: 898 9458 7779\nPasscode: 345350
URL:https://acawso.org/calendar/content-development-collaboration-committee-2-2/2024-05-11/
CATEGORIES:committees
END:VEVENT
BEGIN:VEVENT
DTSTART;TZID=America/New_York:20240511T110000
DTEND;TZID=America/New_York:20240511T160000
DTSTAMP:20260419T212707
CREATED:20240408T181537Z
LAST-MODIFIED:20240408T181633Z
UID:10012659-1715425200-1715443200@acawso.org
SUMMARY:ACA Inner Family Summer Picnic Workshop
DESCRIPTION:We are hosting a Loving Parent Guidebook based workshop picnic with various tables with different activities . There will be a table for non dominant handwriting letter from inner child to parents and then share\, arts and crafts including Play-Doh for inner child\, art supplies to make depiction of inner family and other activities. ACA Speaker as well as free food will be provided. Summer lawn games and downtime fun with fellow travelers between activities. \nSponsored by NC0085 \nDownloadable flyer.
URL:https://acawso.org/calendar/aca-inner-family-summer-picnic-workshop/
CATEGORIES:events
END:VEVENT
BEGIN:VEVENT
DTSTART;TZID=America/New_York:20240509T190000
DTEND;TZID=America/New_York:20240512T150000
DTSTAMP:20260419T212707
CREATED:20240203T125134Z
LAST-MODIFIED:20240203T125134Z
UID:10012309-1715281200-1715526000@acawso.org
SUMMARY:39th BI-ANNUAL PACIFIC NW ACA SPRING RETREAT
DESCRIPTION:Download the flyer. \n\n		\n			\n			\n		\n\n		\nEvent sponsored by WEB0912
URL:https://acawso.org/calendar/39th-bi-annual-pacific-nw-aca-spring-retreat/
CATEGORIES:events
END:VEVENT
BEGIN:VEVENT
DTSTART;TZID=America/New_York:20240509T150000
DTEND;TZID=America/New_York:20240509T163000
DTSTAMP:20260419T212707
CREATED:20231022T055357Z
LAST-MODIFIED:20231022T055358Z
UID:10013593-1715266800-1715272200@acawso.org
SUMMARY:Ballot Prep Committee
DESCRIPTION:Ballot Prep Committee meets on the first and third Thursday of each month at 3:00pm ET \nAdditional meetings may be scheduled during October and November. \nFor more information\, contact the committee at bpc@adultchildren.org \nZoom 2 ACAWSO is inviting you to a scheduled Zoom meeting. \nhttps://zoom.us/j/81531189155 \nMeeting ID: 815 3118 9155\nPasscode: 90755
URL:https://acawso.org/calendar/ballot-prep-committee-2-2-2-2/2024-05-09/
CATEGORIES:committees
END:VEVENT
BEGIN:VEVENT
DTSTART;TZID=America/New_York:20240509T143000
DTEND;TZID=America/New_York:20240509T160000
DTSTAMP:20260419T212707
CREATED:20221215T201448Z
LAST-MODIFIED:20221215T201448Z
UID:10005749-1715265000-1715270400@acawso.org
SUMMARY:Finance Committee
DESCRIPTION:The finance committee meets Thursdays from 2:30 pm ET – 4:00pm ET.  We are looking for members with business\, finance\, or bookkeeping experience. \n  \nPlease contact treasurer@adultchildren.org or finance@acawso.org if you are interested in visiting or joining the finance committee.
URL:https://acawso.org/calendar/finance-committee/2024-05-09/
CATEGORIES:committees
END:VEVENT
BEGIN:VEVENT
DTSTART;TZID=America/New_York:20240509T130000
DTEND;TZID=America/New_York:20240509T140000
DTSTAMP:20260419T212707
CREATED:20230524T174119Z
LAST-MODIFIED:20240521T193905Z
UID:10012927-1715259600-1715263200@acawso.org
SUMMARY:Public Services with H&I Committee
DESCRIPTION:The Public Services Committee is now meeting on the 2nd Thursday monthly at 1:00 PM Eastern. \nJoin Zoom Meeting\nhttps://us02web.zoom.us/j/84770678588 \nMeeting ID: 847 7067 8588\nPasscode: 1978 \nFind your local number: https://us02web.zoom.us/u/kelv4LyGf0 \nWe are holding a combined meeting with the Hospitals and Intuitions subcommittee. https://acawso.org/category/public-information/
URL:https://acawso.org/calendar/public-services-with-hi-committee-2/2024-05-09/
CATEGORIES:committees
END:VEVENT
BEGIN:VEVENT
DTSTART;TZID=America/New_York:20240509T121500
DTEND;TZID=America/New_York:20240509T141500
DTSTAMP:20260419T212707
CREATED:20230524T174441Z
LAST-MODIFIED:20230524T174441Z
UID:10007140-1715256900-1715264100@acawso.org
SUMMARY:Board Working Session
DESCRIPTION:The WSO has a board members meeting twice a month (2nd and 4th Thursdays at 12:15pm Eastern Time) to work on motions and review committee objectives and progress.
URL:https://acawso.org/calendar/board-working-session-2023-06-01/2024-05-09/
CATEGORIES:committees
END:VEVENT
BEGIN:VEVENT
DTSTART;TZID=America/New_York:20240507T170000
DTEND;TZID=America/New_York:20240507T183000
DTSTAMP:20260419T212707
CREATED:20240103T054058Z
LAST-MODIFIED:20240103T054058Z
UID:10011735-1715101200-1715106600@acawso.org
SUMMARY:ABC Study
DESCRIPTION:This Study Group meets twice per month: on the 1st and the 3rd Tuesdays at 5:00 pm Eastern. \nMeeting details:\nhttps://zoom.us/j/99370360615?pwd=cTNYZVNEd0ZFaWFEeCtPZEZCS2F5UT09 \nMeeting ID: 993 7036 0615\nPasscode: 182011 \nIf you have questions\, please email us at abcstudy@acawso.org.
URL:https://acawso.org/calendar/abc-study-4-2/2024-05-07/
CATEGORIES:committees
END:VEVENT
BEGIN:VEVENT
DTSTART;TZID=America/New_York:20240506T160000
DTEND;TZID=America/New_York:20240506T173000
DTSTAMP:20260419T212707
CREATED:20231211T221919Z
LAST-MODIFIED:20231211T221919Z
UID:10007470-1715011200-1715016600@acawso.org
SUMMARY:IT Committee
DESCRIPTION:IT Committee meets weekly on Monday at 4:00pm ET (US) \ncontact: itchair@acawso.org \nJoin Zoom Meeting \nhttps://us02web.zoom.us/j/89520227175 \nMeeting ID: 895 2022 7175\nPasscode: 90755\nOne tap mobile\n+19292056099\,\,89520227175# US (New York)\n+13126266799\,\,89520227175# US (Chicago) \nDial by your location\n+1 929 205 6099 US (New York)\n+1 312 626 6799 US (Chicago)\n+1 301 715 8592 US (Washington DC)\n+1 253 215 8782 US (Tacoma)\n+1 346 248 7799 US (Houston)\n+1 669 900 6833 US (San Jose)\nMeeting ID: 895 2022 7175\nFind your local number: https://us02web.zoom.us/u/kdrkCQ8UuT
URL:https://acawso.org/calendar/it-committee-2023-07-19-2-2/2024-05-06/
CATEGORIES:committees
END:VEVENT
BEGIN:VEVENT
DTSTART;TZID=America/New_York:20240506T120000
DTEND;TZID=America/New_York:20240506T130000
DTSTAMP:20260419T212707
CREATED:20240130T212553Z
LAST-MODIFIED:20240130T212553Z
UID:10012061-1714996800-1715000400@acawso.org
SUMMARY:IT Website Redesign Working Group
DESCRIPTION:IT website redesign working group meetings every Monday at 12:00pm ET (US) \nContact:  itchair@acawso.org \nJoin Zoom Meeting\nhttps://us02web.zoom.us/j/83771567325 \nMeeting ID: 837 7156 7325\nPasscode: 088655
URL:https://acawso.org/calendar/it-website-redesign-working-group-2-2/2024-05-06/
CATEGORIES:committees
END:VEVENT
BEGIN:VEVENT
DTSTART;TZID=America/New_York:20240504T160000
DTEND;TZID=America/New_York:20240504T173000
DTSTAMP:20260419T212707
CREATED:20220716T210629Z
LAST-MODIFIED:20231031T133925Z
UID:10011405-1714838400-1714843800@acawso.org
SUMMARY:SRC Committee Meeting
DESCRIPTION:Service Resources Committee meets on the 1st and 3rd Saturday of the month at 4pm ET. \nZoom 2 ACAWSO is inviting you to a scheduled Zoom meeting. \nTopic: SRC Committee Meeting\nJoin Zoom Meeting\nhttps://us02web.zoom.us/j/82077851277 \nMeeting ID: 820 7785 1277\nPasscode: 987321 \n  \nPlease download and import the following iCalendar (.ics) files to your calendar system.\nWeekly: https://us02web.zoom.us/meeting/tZYtcO6gqzooHdN_nSsMjGe-HFnItRpAbjLl/ics?icsToken=98tyKuGqrjwtEtGUsh6ARpwQAo_CKPzwmH5BgqdzoxHWEA1ZRQa7HsRMG6ZNAPnS
URL:https://acawso.org/calendar/mssc-committee-meeting-2/2024-05-04/
CATEGORIES:committees
END:VEVENT
BEGIN:VEVENT
DTSTART;TZID=America/New_York:20240504T130000
DTEND;TZID=America/New_York:20240504T150000
DTSTAMP:20260419T212707
CREATED:20240321T113658Z
LAST-MODIFIED:20240321T113658Z
UID:10012586-1714827600-1714834800@acawso.org
SUMMARY:Sponsorship Workshop
DESCRIPTION:ACA recommends fellow travelers\, co-sponsorship\, and/or sponsorship to work through the steps.\nThis workshop can help members find what they need whether they are considering sponsorship or looking for recovery support.\nIt’s offered as a hybrid event\, in person in Savannah GA\, and online. For more information and flyer\, visit https://atlanticsoutheastaca.org/events \nSponsored by IG#757
URL:https://acawso.org/calendar/sponsorship-workshop-2/
CATEGORIES:events
END:VEVENT
BEGIN:VEVENT
DTSTART;TZID=America/New_York:20240504T130000
DTEND;TZID=America/New_York:20240504T143000
DTSTAMP:20260419T212707
CREATED:20240607T104055Z
LAST-MODIFIED:20240607T104056Z
UID:10005502-1714827600-1714833000@acawso.org
SUMMARY:Fellowship & Public Engagement Collaboration Committee
DESCRIPTION:Fellowship & Public Engagement Collaboration Committee meets monthly on the 1st Saturday of each month at 1:00 – 2:30pm ET. \nhttps://us02web.zoom.us/j/87603226267\nMeeting ID: 87603226267\nPasscode: 90755 \nFind your local number: https://us02web.zoom.us/u/kejKdWCRE9
URL:https://acawso.org/calendar/fellowship-public-engagement-collaboration-committee-2-2-3/
CATEGORIES:committees
END:VEVENT
BEGIN:VEVENT
DTSTART;TZID=America/New_York:20240504T124500
DTEND;TZID=America/New_York:20240504T134500
DTSTAMP:20260419T212707
CREATED:20210626T131806Z
LAST-MODIFIED:20260115T115550Z
UID:10007260-1714826700-1714830300@acawso.org
SUMMARY:Lit Evaluation Subcommittee
DESCRIPTION:Literature Evaluation meets the 1st Saturday of each month\, 12:45pm-1:45pm ET. \ncontact: liteval@acawso.org \nhttps://us02web.zoom.us/j/86113897454?pwd=UitVN2tHb1E1STJ5YXlWYU1mZXZ5Zz09 \nMeeting ID: 861 1389 7454\nPasscode: 127253
URL:https://acawso.org/calendar/lit-evaluation-subcommittee-3/2024-05-04/
CATEGORIES:committees
END:VEVENT
BEGIN:VEVENT
DTSTART;TZID=America/New_York:20240504T103000
DTEND;TZID=America/New_York:20240504T120000
DTSTAMP:20260419T212707
CREATED:20230718T154707Z
LAST-MODIFIED:20230718T154707Z
UID:10007645-1714818600-1714824000@acawso.org
SUMMARY:ABC/AWC Committee
DESCRIPTION:The ABC/AWC committee meets first and third Saturday at 10:30AM EDT \nJoin Zoom Meeting\nhttps://us02web.zoom.us/j/87582913615?pwd=dWpPNVJPcVNiVjJxbGgzbFVwY05EZz09 \nMeeting ID: 875 8291 3615\nPasscode: ABC2022 \nContact abc@adultchildren.org for more details. \nMonthly reports posted at https://acawso.org/category/abc-committee/
URL:https://acawso.org/calendar/abc-awc-committee-4-2-2/2024-05-04/
CATEGORIES:committees
END:VEVENT
BEGIN:VEVENT
DTSTART;TZID=America/New_York:20240504T080000
DTEND;TZID=America/New_York:20240504T093000
DTSTAMP:20260419T212707
CREATED:20201031T134047Z
LAST-MODIFIED:20230107T130017Z
UID:10004373-1714809600-1714815000@acawso.org
SUMMARY:European Committee
DESCRIPTION:The monthly meeting is hosted by Zoom the First Saturday of the month 14:00 (2pm) CET (GMT+1) \nhttps://us02web.zoom.us/j/83834372326 \nMeeting ID: 838 3437 2326\nPasscode: 437668 \nMore information about the European Committee can be found at https://acawso.org/category/european-connection/
URL:https://acawso.org/calendar/european-committee/2024-05-04/
CATEGORIES:committees
END:VEVENT
BEGIN:VEVENT
DTSTART;TZID=America/New_York:20240503T093000
DTEND;TZID=America/New_York:20240503T113000
DTSTAMP:20260419T212707
CREATED:20240323T120139Z
LAST-MODIFIED:20240323T120140Z
UID:10012588-1714728600-1714735800@acawso.org
SUMMARY:Publishing Committee
DESCRIPTION:Publishing Committee \nWe meet on Fridays every 2 weeks. \n \nTime: 6:30 am PDT\, 9:30 am EDT\, 1:30 pm UK/GMT\, 2:30 pm CET \, 3:30 pm SAST\, 7:00 pm India \nMeeting ID: 857 7189 3168\nPasscode: 382777 \nAny questions\, contact Sue V at publishingchair@acawso.org  or on slack \n 
URL:https://acawso.org/calendar/publishing-committee-2-2-2-3/2024-05-03/
CATEGORIES:committees
END:VEVENT
BEGIN:VEVENT
DTSTART;TZID=America/New_York:20240502T173000
DTEND;TZID=America/New_York:20240502T190000
DTSTAMP:20260419T212707
CREATED:20230803T211502Z
LAST-MODIFIED:20240710T194920Z
UID:10009754-1714671000-1714676400@acawso.org
SUMMARY:Concepts Study
DESCRIPTION:This ad hoc committee was created by the 2022 ABC. \nAll ACA’s are welcome \nZoom information: \nhttps://zoom.us/j/83429248013 \nMeeting ID: 834 2924 8013\nPasscode: 90755
URL:https://acawso.org/calendar/concepts-ii-and-vi-study-2-2/2024-05-02/
CATEGORIES:committees
END:VEVENT
BEGIN:VEVENT
DTSTART;TZID=America/New_York:20240502T150000
DTEND;TZID=America/New_York:20240502T163000
DTSTAMP:20260419T212707
CREATED:20231022T055357Z
LAST-MODIFIED:20231022T055358Z
UID:10013592-1714662000-1714667400@acawso.org
SUMMARY:Ballot Prep Committee
DESCRIPTION:Ballot Prep Committee meets on the first and third Thursday of each month at 3:00pm ET \nAdditional meetings may be scheduled during October and November. \nFor more information\, contact the committee at bpc@adultchildren.org \nZoom 2 ACAWSO is inviting you to a scheduled Zoom meeting. \nhttps://zoom.us/j/81531189155 \nMeeting ID: 815 3118 9155\nPasscode: 90755
URL:https://acawso.org/calendar/ballot-prep-committee-2-2-2-2/2024-05-02/
CATEGORIES:committees
END:VEVENT
END:VCALENDAR