BEGIN:VCALENDAR
VERSION:2.0
PRODID:-//ACA WSO - ECPv6.15.20//NONSGML v1.0//EN
CALSCALE:GREGORIAN
METHOD:PUBLISH
X-ORIGINAL-URL:https://acawso.org
X-WR-CALDESC:Events for ACA WSO
REFRESH-INTERVAL;VALUE=DURATION:PT1H
X-Robots-Tag:noindex
X-PUBLISHED-TTL:PT1H
BEGIN:VTIMEZONE
TZID:America/New_York
BEGIN:DAYLIGHT
TZOFFSETFROM:-0500
TZOFFSETTO:-0400
TZNAME:EDT
DTSTART:20240310T070000
END:DAYLIGHT
BEGIN:STANDARD
TZOFFSETFROM:-0400
TZOFFSETTO:-0500
TZNAME:EST
DTSTART:20241103T060000
END:STANDARD
BEGIN:DAYLIGHT
TZOFFSETFROM:-0500
TZOFFSETTO:-0400
TZNAME:EDT
DTSTART:20250309T070000
END:DAYLIGHT
BEGIN:STANDARD
TZOFFSETFROM:-0400
TZOFFSETTO:-0500
TZNAME:EST
DTSTART:20251102T060000
END:STANDARD
BEGIN:DAYLIGHT
TZOFFSETFROM:-0500
TZOFFSETTO:-0400
TZNAME:EDT
DTSTART:20260308T070000
END:DAYLIGHT
BEGIN:STANDARD
TZOFFSETFROM:-0400
TZOFFSETTO:-0500
TZNAME:EST
DTSTART:20261101T060000
END:STANDARD
END:VTIMEZONE
BEGIN:VEVENT
DTSTART;TZID=America/New_York:20250422T170000
DTEND;TZID=America/New_York:20250422T183000
DTSTAMP:20260423T085710
CREATED:20240814T181038Z
LAST-MODIFIED:20251216T233353Z
UID:10013827-1745341200-1745346600@acawso.org
SUMMARY:ABC Study
DESCRIPTION:Please see our subcommittee homepage for more information \nThis Study Group meets weekly on Tuesdays at 5:00 pm Eastern. \nMeeting ID: 993 7036 0615\nPasscode: 182011 \nIf you have questions\, please email us at abcstudy@acawso.org.
URL:https://acawso.org/calendar/abc-study-4-2-2/2025-04-22/
CATEGORIES:committees
END:VEVENT
BEGIN:VEVENT
DTSTART;TZID=America/New_York:20250424T090000
DTEND;TZID=America/New_York:20250424T103000
DTSTAMP:20260423T085710
CREATED:20250303T203916Z
LAST-MODIFIED:20250303T203916Z
UID:10015790-1745485200-1745490600@acawso.org
SUMMARY:MSC Western Global Fellowship Meeting
DESCRIPTION:Meeting times: Americas 11am ET New York\, 8am PT California\, 4pm England\, 5pm France\, 5pm Spain\, 6pm Lithuania\, 6pm South Africa\, 6pm Egypt\, 7pm Moscow\, Russia \nTopic: MSC Western Fellowship Meeting \nJoin Zoom Meeting \nhttps://zoom.us/j/93603824987 \nMeeting ID: 936 0382 4987\nPasscode: 163248
URL:https://acawso.org/calendar/western-global-fellowship-meeting-msc-2/2025-04-24/
CATEGORIES:committees
END:VEVENT
BEGIN:VEVENT
DTSTART;TZID=America/New_York:20250424T100000
DTEND;TZID=America/New_York:20250424T110000
DTSTAMP:20260423T085710
CREATED:20250417T205555Z
LAST-MODIFIED:20250621T201219Z
UID:10016073-1745488800-1745492400@acawso.org
SUMMARY:ABC/QDM Agenda Working Group
DESCRIPTION:Meets Thursdays 10am EST US \nhttps://zoom.us/j/98614186885?pwd=1ljJ0WcWmfr1v9GQcxTko An8CTcrh.1\nMeeting ID: 986 1418 6885\nPasscode: ABC/QDM
URL:https://acawso.org/calendar/abc-qdm-agenda-working-group/2025-04-24/
CATEGORIES:committees
END:VEVENT
BEGIN:VEVENT
DTSTART;TZID=America/New_York:20250425T093000
DTEND;TZID=America/New_York:20250425T113000
DTSTAMP:20260423T085710
CREATED:20250514T104841Z
LAST-MODIFIED:20250514T104841Z
UID:10014460-1745573400-1745580600@acawso.org
SUMMARY:Publishing Committee
DESCRIPTION:Publishing Committee \nWe meet on Fridays once a month on the 4th Friday of each month. \n \nTime: 6:30 am PDT\, 9:30 am EDT\, 2:30 pm UK/GBST\, 3:30 pm CET \, 3:30 pm SAST\, 7:00 pm India \nMeeting ID: 857 7189 3168\nPasscode: 382777 \nAny questions\, contact Sue V at publishingchair@acawso.org  or on slack \n 
URL:https://acawso.org/calendar/publishing-committee-3-2/2025-04-25/
CATEGORIES:committees
END:VEVENT
BEGIN:VEVENT
DTSTART;TZID=America/New_York:20250425T170000
DTEND;TZID=America/New_York:20250425T180000
DTSTAMP:20260423T085710
CREATED:20250401T164343Z
LAST-MODIFIED:20250421T111756Z
UID:10016060-1745600400-1745604000@acawso.org
SUMMARY:4th of 6 Speaker Meeting Series
DESCRIPTION:We have our 4th of 6 speakers scheduled to share her story on how ACA supports her with her other 12 step program(s). The speaker shares for up to 20 mins and then we open the session up to Q&A. Once Q&A completes\, if there is still time remaining\, we open up the meeting to general sharing. \nSponsored by CA1181
URL:https://acawso.org/calendar/4th-of-6-speaker-meeting-series/
CATEGORIES:events
END:VEVENT
BEGIN:VEVENT
DTSTART;TZID=America/New_York:20250426T103000
DTEND;TZID=America/New_York:20250426T120000
DTSTAMP:20260423T085710
CREATED:20250129T174810Z
LAST-MODIFIED:20250522T190151Z
UID:10016335-1745663400-1745668800@acawso.org
SUMMARY:ABC Sustainability Study Sub-Committee
DESCRIPTION:We meet on the 1st & 3rd Saturday of each month from 10:30AM to Noon EDT. Always check the WSO Committee Calendar for any changes to this schedule. \nZoom URL: https://zoom.us/j/91045736882  \n    -or- \nMeeting ID: 910 4573 6882  \n    -and use- \nPasscode: 992748
URL:https://acawso.org/calendar/abc-sustainability-study-sub-committee-6-2-2/2025-04-26/
CATEGORIES:committees
END:VEVENT
BEGIN:VEVENT
DTSTART;TZID=America/New_York:20250426T123000
DTEND;TZID=America/New_York:20250426T133000
DTSTAMP:20260423T085710
CREATED:20250426T032033Z
LAST-MODIFIED:20250827T230724Z
UID:10016336-1745670600-1745674200@acawso.org
SUMMARY:ABC/QDM Committee
DESCRIPTION:The ABC/AWC committee meets first and third Saturday from 12:30 to 2 pm EDT \nJoin Zoom Meeting\nhttps://us02web.zoom.us/j/87582913615?pwd=dWpPNVJPcVNiVjJxbGgzbFVwY05EZz09 \nMeeting ID: 875 8291 3615\nPasscode: ABC2022 \nContact abc@adultchildren.org for more details. \n 
URL:https://acawso.org/calendar/abc-awc-committee-4-2-3/2025-04-26/
CATEGORIES:committees
END:VEVENT
BEGIN:VEVENT
DTSTART;TZID=America/New_York:20250426T200000
DTEND;TZID=America/New_York:20250426T213000
DTSTAMP:20260423T085710
CREATED:20240212T162730Z
LAST-MODIFIED:20240212T162730Z
UID:10012401-1745697600-1745703000@acawso.org
SUMMARY:Big Red Book Working Group
DESCRIPTION:Zoom 2 ACAWSO is inviting you to a scheduled Zoom meeting.\nTopic: BRB Revision Working Group- Global East\nTime: Every month on the second and fourth Saturday at 8 PM Eastern US \nJoin Zoom Meeting\nhttps://zoom.us/j/92423141348\nMeeting ID: 924 2314 1348\nPasscode: 112358 \nPlease download and import the following iCalendar (.ics) files to your calendar system.\nMonthly: https://zoom.us/meeting/tJYpdeqpqjopHtwsBMOyTO0tAY5XaN4QYv7-/ics?icsToken=98tyKuCqqjkpG9CUsx2PRowQBojob-vwiH5egrdKjz3ILDlnTVPiF9sXCrNRROnp
URL:https://acawso.org/calendar/big-red-book-working-group/2025-04-26/
CATEGORIES:committees
END:VEVENT
BEGIN:VEVENT
DTSTART;TZID=America/New_York:20250427T203000
DTEND;TZID=America/New_York:20250427T220000
DTSTAMP:20260423T085710
CREATED:20250411T171619Z
LAST-MODIFIED:20250411T172113Z
UID:10016066-1745785800-1745791200@acawso.org
SUMMARY:Quarterly Speaker Meeting - Laundry List Traits
DESCRIPTION:5:30 to 7:00 pm PST \n3 speakers\, fun intermission and recognizing newcomers. \nPlus after the meeting there is a Sponsorship Corner. \nEveryone is welcome. \nZoom ID: 898 9797 7526 PW: 792214\nhttps://us02web.zoom.us/j/89897977526 \nClick HERE to download our event flyer.
URL:https://acawso.org/calendar/quarterly-speaker-meeting-laundry-list-traits/
CATEGORIES:events
END:VEVENT
BEGIN:VEVENT
DTSTART;TZID=America/New_York:20250428T110000
DTEND;TZID=America/New_York:20250428T123000
DTSTAMP:20260423T085710
CREATED:20241230T113323Z
LAST-MODIFIED:20241230T113324Z
UID:10014641-1745838000-1745843400@acawso.org
SUMMARY:Regions Intergroups Subcommittee
DESCRIPTION:Regions Intergroups Subcommittee meets every month on the fourth Monday for approximately one hour by Zoom teleconference at 11:00AM Eastern Time. \nhttps://zoom.us/j/96414155183\nMeeting ID: 964 1415 5183\nPasscode: 308405
URL:https://acawso.org/calendar/regions-subcommittee-2-2-2-2-2/2025-04-28/
CATEGORIES:committees
END:VEVENT
BEGIN:VEVENT
DTSTART;TZID=America/New_York:20250428T110000
DTEND;TZID=America/New_York:20250428T123000
DTSTAMP:20260423T085710
CREATED:20241230T113423Z
LAST-MODIFIED:20241230T113424Z
UID:10014701-1745838000-1745843400@acawso.org
SUMMARY:Members Services Committee
DESCRIPTION:The WSO Member Services Committee (MSC) is looking for volunteers to help assist\, support\, and communicate with the worldwide ACA membership. \nWe meet every month on the fourth Monday for approximately one hour by Zoom teleconference at 11:00AM Eastern Time. \n. \n\n\n\n\n\n\n\n\n\n\n\n\n\n\n\n\n\n\n\n\nJoin Zoom Meeting\nhttps://zoom.us/j/96414155183\nMeeting ID: 964 1415 5183\nPasscode: 308405
URL:https://acawso.org/calendar/members-services-re-vision-3-2-2-2/2025-04-28/
CATEGORIES:committees
END:VEVENT
BEGIN:VEVENT
DTSTART;TZID=America/New_York:20250428T110000
DTEND;TZID=America/New_York:20250428T123000
DTSTAMP:20260423T085710
CREATED:20241230T113530Z
LAST-MODIFIED:20241230T113531Z
UID:10014761-1745838000-1745843400@acawso.org
SUMMARY:Young Adults & Teens Subcommittee
DESCRIPTION:YAT SC meeting is on every 4th Monday of the month on Zoom 2 – from 11:00AM to 12:30AM Eeastern \n  \nhttps://zoom.us/j/96414155183\nMeeting ID: 964 1415 5183\nPasscode: 308405
URL:https://acawso.org/calendar/young-adults-teens-subcommittee-2-2-2-2-2/2025-04-28/
CATEGORIES:committees
END:VEVENT
BEGIN:VEVENT
DTSTART;TZID=America/New_York:20250428T110000
DTEND;TZID=America/New_York:20250428T123000
DTSTAMP:20260423T085710
CREATED:20250322T123522Z
LAST-MODIFIED:20250430T153854Z
UID:10016056-1745838000-1745843400@acawso.org
SUMMARY:A Field Trip to the Members Services Committee
DESCRIPTION:Join the Field Trip visiting the Member Services Committee (https://acawso.org/member-services/)\, at their monthly meeting on Monday\, April 28th at 11:00 am eastern. \nLearn about exciting developments worldwide; consider participating; make new friends. Write vrc@acawso.org for information \nSponsored by Volunteer Resource Committee
URL:https://acawso.org/calendar/a-field-trip-to-the-members-services-committee/
CATEGORIES:events
END:VEVENT
BEGIN:VEVENT
DTSTART;TZID=America/New_York:20250428T120000
DTEND;TZID=America/New_York:20250428T130000
DTSTAMP:20260423T085710
CREATED:20240812T161857Z
LAST-MODIFIED:20240812T161858Z
UID:10012112-1745841600-1745845200@acawso.org
SUMMARY:IT Website Redesign Working Group
DESCRIPTION:IT website redesign working group meetings every Monday at 12:00pm ET (US) \nContact:  itchair@acawso.org \nJoin Zoom Meeting\nhttps://us02web.zoom.us/j/83771567325 \nMeeting ID: 837 7156 7325\nPasscode: 088655
URL:https://acawso.org/calendar/it-website-redesign-working-group-2-2-2/2025-04-28/
CATEGORIES:committees
END:VEVENT
BEGIN:VEVENT
DTSTART;TZID=America/New_York:20250428T160000
DTEND;TZID=America/New_York:20250428T173000
DTSTAMP:20260423T085710
CREATED:20240812T161937Z
LAST-MODIFIED:20240812T161938Z
UID:10007521-1745856000-1745861400@acawso.org
SUMMARY:IT Committee
DESCRIPTION:IT Committee meets weekly on Monday at 4:00pm ET (US) \ncontact: itchair@acawso.org \nJoin Zoom Meeting \nhttps://us02web.zoom.us/j/89520227175 \nMeeting ID: 895 2022 7175\nPasscode: 90755\nOne tap mobile\n+19292056099\,\,89520227175# US (New York)\n+13126266799\,\,89520227175# US (Chicago) \nDial by your location\n+1 929 205 6099 US (New York)\n+1 312 626 6799 US (Chicago)\n+1 301 715 8592 US (Washington DC)\n+1 253 215 8782 US (Tacoma)\n+1 346 248 7799 US (Houston)\n+1 669 900 6833 US (San Jose)\nMeeting ID: 895 2022 7175\nFind your local number: https://us02web.zoom.us/u/kdrkCQ8UuT
URL:https://acawso.org/calendar/it-committee-2023-07-19-2-2-2/2025-04-28/
CATEGORIES:committees
END:VEVENT
BEGIN:VEVENT
DTSTART;TZID=America/New_York:20250429T170000
DTEND;TZID=America/New_York:20250429T183000
DTSTAMP:20260423T085710
CREATED:20240814T181038Z
LAST-MODIFIED:20251216T233353Z
UID:10013828-1745946000-1745951400@acawso.org
SUMMARY:ABC Study
DESCRIPTION:Please see our subcommittee homepage for more information \nThis Study Group meets weekly on Tuesdays at 5:00 pm Eastern. \nMeeting ID: 993 7036 0615\nPasscode: 182011 \nIf you have questions\, please email us at abcstudy@acawso.org.
URL:https://acawso.org/calendar/abc-study-4-2-2/2025-04-29/
CATEGORIES:committees
END:VEVENT
BEGIN:VEVENT
DTSTART;TZID=America/New_York:20250501T100000
DTEND;TZID=America/New_York:20250501T110000
DTSTAMP:20260423T085710
CREATED:20250417T205555Z
LAST-MODIFIED:20250621T201219Z
UID:10016074-1746093600-1746097200@acawso.org
SUMMARY:ABC/QDM Agenda Working Group
DESCRIPTION:Meets Thursdays 10am EST US \nhttps://zoom.us/j/98614186885?pwd=1ljJ0WcWmfr1v9GQcxTko An8CTcrh.1\nMeeting ID: 986 1418 6885\nPasscode: ABC/QDM
URL:https://acawso.org/calendar/abc-qdm-agenda-working-group/2025-05-01/
CATEGORIES:committees
END:VEVENT
BEGIN:VEVENT
DTSTART;TZID=America/New_York:20250501T123000
DTEND;TZID=America/New_York:20250501T140000
DTSTAMP:20260423T085710
CREATED:20230524T174025Z
LAST-MODIFIED:20230524T174025Z
UID:10004727-1746102600-1746108000@acawso.org
SUMMARY:Board Executive Committee
DESCRIPTION:The WSO Board’s Executive committee meets twice a month on the 1st and 3rd Thursdays at 12:30pm Eastern Time
URL:https://acawso.org/calendar/board-executive-committee/2025-05-01/
END:VEVENT
BEGIN:VEVENT
DTSTART;TZID=America/New_York:20250501T143000
DTEND;TZID=America/New_York:20250501T160000
DTSTAMP:20260423T085710
CREATED:20250307T213321Z
LAST-MODIFIED:20250307T213322Z
UID:10005800-1746109800-1746115200@acawso.org
SUMMARY:Finance Committee
DESCRIPTION:The finance committee meets Thursdays from 2:30 pm ET – 4:00pm ET.  We are looking for members with business\, finance\, or bookkeeping experience. \n  \nPlease contact treasurer@adultchildren.org or finance@acawso.org if you are interested in visiting or joining the finance committee.
URL:https://acawso.org/calendar/finance-committee-2/2025-05-01/
CATEGORIES:committees
END:VEVENT
BEGIN:VEVENT
DTSTART;TZID=America/New_York:20250501T173000
DTEND;TZID=America/New_York:20250501T190000
DTSTAMP:20260423T085710
CREATED:20240710T202917Z
LAST-MODIFIED:20240710T202917Z
UID:10009766-1746120600-1746126000@acawso.org
SUMMARY:Concepts Study
DESCRIPTION:This ad hoc committee was created by the 2022 ABC. \nAll ACA’s are welcome \nZoom information: \nhttps://zoom.us/j/83429248013 \nMeeting ID: 834 2924 8013\nPasscode: 90755 \nCommittee’s page
URL:https://acawso.org/calendar/concepts-ii-and-vi-study-2-2-2/2025-05-01/
CATEGORIES:committees
END:VEVENT
BEGIN:VEVENT
DTSTART;TZID=America/New_York:20250501T180000
DTEND;TZID=America/New_York:20250501T193000
DTSTAMP:20260423T085710
CREATED:20241213T194950Z
LAST-MODIFIED:20250417T231755Z
UID:10014596-1746122400-1746127800@acawso.org
SUMMARY:Ballot Prep Committee
DESCRIPTION:All are welcome. \nFor more information\, contact the committee at bpc@adultchildren.org \nZoom 2 ACAWSO is inviting you to a scheduled Zoom meeting. \nhttps://zoom.us/j/81531189155 \nMeeting ID: 815 3118 9155\nPasscode: 90755
URL:https://acawso.org/calendar/ballot-prep-committee-6/2025-05-01/
CATEGORIES:committees
END:VEVENT
BEGIN:VEVENT
DTSTART;TZID=America/New_York:20250501T200000
DTEND;TZID=America/New_York:20250501T213000
DTSTAMP:20260423T085710
CREATED:20250303T134803Z
LAST-MODIFIED:20250303T204024Z
UID:10015072-1746129600-1746135000@acawso.org
SUMMARY:MSC Eastern Global Fellowship
DESCRIPTION:MSC Global Meet and Greet meets on the first Thursday of the month at 8pm ET. This is an opportunity to meet some of our far eastern ACA members. Everyone is welcome! \nTopic: MSC Eastern Global Fellowship \nJoin Zoom Meeting \nhttps://zoom.us/j/97267656815 \nEastern Global Fellowship\nMeeting ID: 972 6765 6815\nPasscode: 646336
URL:https://acawso.org/calendar/msc-global-meet-and-greet-meeting-2/2025-05-01/
CATEGORIES:committees
END:VEVENT
BEGIN:VEVENT
DTSTART;TZID=America/New_York:20250503T080000
DTEND;TZID=America/New_York:20250503T093000
DTSTAMP:20260423T085710
CREATED:20250107T111317Z
LAST-MODIFIED:20250107T111317Z
UID:10004385-1746259200-1746264600@acawso.org
SUMMARY:European Committee
DESCRIPTION:The monthly meeting is hosted by Zoom the First Tuesday of the month at 19:30 Central European Time / 18:30 UK / 20:30 Baltics / Helsinki / 21:30 Moscow time / 1:30pm ET \nhttps://us02web.zoom.us/j/83834372326 \nMeeting ID: 838 3437 2326\nPasscode: 437668 \nMore information about the European Committee can be found at https://acawso.org/category/european-connection/
URL:https://acawso.org/calendar/european-committee-2/2025-05-03/
CATEGORIES:committees
END:VEVENT
BEGIN:VEVENT
DTSTART;TZID=America/New_York:20250503T100000
DTEND;TZID=America/New_York:20250503T113000
DTSTAMP:20260423T085710
CREATED:20250423T183630Z
LAST-MODIFIED:20250426T112007Z
UID:10016334-1746266400-1746271800@acawso.org
SUMMARY:An Opportunity to Meet the Board Members
DESCRIPTION:Meet The Board – An Informal Q&A\nMay 3 @ 10:00am ET AND @ 8:00pm ET\nJoin Zoom Meeting\nhttps://zoom.us/j/91099792692\nMeeting ID: 910 9979 2692\nPasscode: 182441 \nLearn:\n– about the Trustees.\n– about the experiences of Board service.\n– about our recent initiatives and the upcoming ABC \nSponsored by Executive Committee\, WSO
URL:https://acawso.org/calendar/an-opportunity-to-meet-the-board-members/2025-05-03/1/
CATEGORIES:events
END:VEVENT
BEGIN:VEVENT
DTSTART;TZID=America/New_York:20250503T103000
DTEND;TZID=America/New_York:20250503T120000
DTSTAMP:20260423T085710
CREATED:20250129T174810Z
LAST-MODIFIED:20250522T190151Z
UID:10016476-1746268200-1746273600@acawso.org
SUMMARY:ABC Sustainability Study Sub-Committee
DESCRIPTION:We meet on the 1st & 3rd Saturday of each month from 10:30AM to Noon EDT. Always check the WSO Committee Calendar for any changes to this schedule. \nZoom URL: https://zoom.us/j/91045736882  \n    -or- \nMeeting ID: 910 4573 6882  \n    -and use- \nPasscode: 992748
URL:https://acawso.org/calendar/abc-sustainability-study-sub-committee-6-2-2/2025-05-03/
CATEGORIES:committees
END:VEVENT
BEGIN:VEVENT
DTSTART;TZID=America/New_York:20250503T123000
DTEND;TZID=America/New_York:20250503T140000
DTSTAMP:20260423T085710
CREATED:20250129T193225Z
LAST-MODIFIED:20250510T175944Z
UID:10015717-1746275400-1746280800@acawso.org
SUMMARY:ABC/QDM Committee
DESCRIPTION:The ABC/AWC committee meets first and third Saturdays from 12:30 to 2 pm EDT \nJoin Zoom Meeting\nhttps://us02web.zoom.us/j/87582913615?pwd=dWpPNVJPcVNiVjJxbGgzbFVwY05EZz09 \nMeeting ID: 875 8291 3615\nPasscode: ABC2022 \nContact abc@adultchildren.org for more details.
URL:https://acawso.org/calendar/abc-awc-committee-5/2025-05-03/
CATEGORIES:committees
END:VEVENT
BEGIN:VEVENT
DTSTART;TZID=America/New_York:20250503T124500
DTEND;TZID=America/New_York:20250503T134500
DTSTAMP:20260423T085710
CREATED:20210626T131806Z
LAST-MODIFIED:20260115T115550Z
UID:10018115-1746276300-1746279900@acawso.org
SUMMARY:Lit Evaluation Subcommittee
DESCRIPTION:Literature Evaluation meets the 1st Saturday of each month\, 12:45pm-1:45pm ET. \ncontact: liteval@acawso.org \nhttps://us02web.zoom.us/j/86113897454?pwd=UitVN2tHb1E1STJ5YXlWYU1mZXZ5Zz09 \nMeeting ID: 861 1389 7454\nPasscode: 127253
URL:https://acawso.org/calendar/lit-evaluation-subcommittee-3/2025-05-03/
CATEGORIES:committees
END:VEVENT
BEGIN:VEVENT
DTSTART;TZID=America/New_York:20250503T124500
DTEND;TZID=America/New_York:20250503T134500
DTSTAMP:20260423T085710
CREATED:20250802T111404Z
LAST-MODIFIED:20250802T111748Z
UID:10007272-1746276300-1746279900@acawso.org
SUMMARY:Lit Evaluation Subcommittee
DESCRIPTION:Literature Evaluation meets the 3rd Monday of each month at 09:00 am EDT as well as the 1st Saturday of each month\, 12:45pm-1:45pm ET. \ncontact: liteval@acawso.org \nhttps://us02web.zoom.us/j/86113897454?pwd=UitVN2tHb1E1STJ5YXlWYU1mZXZ5Zz09 \nMeeting ID: 861 1389 7454\nPasscode: 127253
URL:https://acawso.org/calendar/lit-evaluation-subcommittee-2/2025-05-03/
CATEGORIES:committees
END:VEVENT
BEGIN:VEVENT
DTSTART;TZID=America/New_York:20250503T160000
DTEND;TZID=America/New_York:20250503T173000
DTSTAMP:20260423T085710
CREATED:20250315T203407Z
LAST-MODIFIED:20250315T203408Z
UID:10011417-1746288000-1746293400@acawso.org
SUMMARY:SRC Committee Meeting
DESCRIPTION:Service Resources Committee meets on the 1st and 3rd Saturday of the month at 4pm ET. \nZoom 2 ACAWSO is inviting you to a scheduled Zoom meeting. \nTopic: SRC Committee Meeting\nJoin Zoom Meeting\nhttps://us02web.zoom.us/j/82077851277 \nMeeting ID: 820 7785 1277\nPasscode: 987321 \n  \nPlease download and import the following iCalendar (.ics) files to your calendar system.\nWeekly: https://us02web.zoom.us/meeting/tZYtcO6gqzooHdN_nSsMjGe-HFnItRpAbjLl/ics?icsToken=98tyKuGqrjwtEtGUsh6ARpwQAo_CKPzwmH5BgqdzoxHWEA1ZRQa7HsRMG6ZNAPnS
URL:https://acawso.org/calendar/mssc-committee-meeting-2-2/2025-05-03/
CATEGORIES:committees
END:VEVENT
BEGIN:VEVENT
DTSTART;TZID=America/New_York:20250503T200000
DTEND;TZID=America/New_York:20250503T213000
DTSTAMP:20260423T085710
CREATED:20250423T183630Z
LAST-MODIFIED:20250426T112007Z
UID:10016340-1746302400-1746307800@acawso.org
SUMMARY:An Opportunity to Meet the Board Members
DESCRIPTION:Meet The Board – An Informal Q&A\nMay 3 @ 10:00am ET AND @ 8:00pm ET\nJoin Zoom Meeting\nhttps://zoom.us/j/91099792692\nMeeting ID: 910 9979 2692\nPasscode: 182441 \nLearn:\n– about the Trustees.\n– about the experiences of Board service.\n– about our recent initiatives and the upcoming ABC \nSponsored by Executive Committee\, WSO
URL:https://acawso.org/calendar/an-opportunity-to-meet-the-board-members/2025-05-03/2/
CATEGORIES:events
END:VEVENT
END:VCALENDAR