BEGIN:VCALENDAR
VERSION:2.0
PRODID:-//ACA WSO - ECPv6.15.20//NONSGML v1.0//EN
CALSCALE:GREGORIAN
METHOD:PUBLISH
X-WR-CALNAME:ACA WSO
X-ORIGINAL-URL:https://acawso.org
X-WR-CALDESC:Events for ACA WSO
REFRESH-INTERVAL;VALUE=DURATION:PT1H
X-Robots-Tag:noindex
X-PUBLISHED-TTL:PT1H
BEGIN:VTIMEZONE
TZID:America/New_York
BEGIN:DAYLIGHT
TZOFFSETFROM:-0500
TZOFFSETTO:-0400
TZNAME:EDT
DTSTART:20240310T070000
END:DAYLIGHT
BEGIN:STANDARD
TZOFFSETFROM:-0400
TZOFFSETTO:-0500
TZNAME:EST
DTSTART:20241103T060000
END:STANDARD
BEGIN:DAYLIGHT
TZOFFSETFROM:-0500
TZOFFSETTO:-0400
TZNAME:EDT
DTSTART:20250309T070000
END:DAYLIGHT
BEGIN:STANDARD
TZOFFSETFROM:-0400
TZOFFSETTO:-0500
TZNAME:EST
DTSTART:20251102T060000
END:STANDARD
BEGIN:DAYLIGHT
TZOFFSETFROM:-0500
TZOFFSETTO:-0400
TZNAME:EDT
DTSTART:20260308T070000
END:DAYLIGHT
BEGIN:STANDARD
TZOFFSETFROM:-0400
TZOFFSETTO:-0500
TZNAME:EST
DTSTART:20261101T060000
END:STANDARD
END:VTIMEZONE
BEGIN:VEVENT
DTSTART;TZID=America/New_York:20250505T120000
DTEND;TZID=America/New_York:20250505T130000
DTSTAMP:20260423T125236
CREATED:20240812T161857Z
LAST-MODIFIED:20240812T161858Z
UID:10012113-1746446400-1746450000@acawso.org
SUMMARY:IT Website Redesign Working Group
DESCRIPTION:IT website redesign working group meetings every Monday at 12:00pm ET (US) \nContact:  itchair@acawso.org \nJoin Zoom Meeting\nhttps://us02web.zoom.us/j/83771567325 \nMeeting ID: 837 7156 7325\nPasscode: 088655
URL:https://acawso.org/calendar/it-website-redesign-working-group-2-2-2/2025-05-05/
CATEGORIES:committees
END:VEVENT
BEGIN:VEVENT
DTSTART;TZID=America/New_York:20250505T160000
DTEND;TZID=America/New_York:20250505T173000
DTSTAMP:20260423T125236
CREATED:20240812T161937Z
LAST-MODIFIED:20240812T161938Z
UID:10007522-1746460800-1746466200@acawso.org
SUMMARY:IT Committee
DESCRIPTION:IT Committee meets weekly on Monday at 4:00pm ET (US) \ncontact: itchair@acawso.org \nJoin Zoom Meeting \nhttps://us02web.zoom.us/j/89520227175 \nMeeting ID: 895 2022 7175\nPasscode: 90755\nOne tap mobile\n+19292056099\,\,89520227175# US (New York)\n+13126266799\,\,89520227175# US (Chicago) \nDial by your location\n+1 929 205 6099 US (New York)\n+1 312 626 6799 US (Chicago)\n+1 301 715 8592 US (Washington DC)\n+1 253 215 8782 US (Tacoma)\n+1 346 248 7799 US (Houston)\n+1 669 900 6833 US (San Jose)\nMeeting ID: 895 2022 7175\nFind your local number: https://us02web.zoom.us/u/kdrkCQ8UuT
URL:https://acawso.org/calendar/it-committee-2023-07-19-2-2-2/2025-05-05/
CATEGORIES:committees
END:VEVENT
BEGIN:VEVENT
DTSTART;TZID=America/New_York:20250506T133000
DTEND;TZID=America/New_York:20250506T143000
DTSTAMP:20260423T125236
CREATED:20250107T111344Z
LAST-MODIFIED:20250107T111417Z
UID:10014949-1746538200-1746541800@acawso.org
SUMMARY:European Committee
DESCRIPTION:The monthly meeting is hosted by Zoom the First Tuesday of the month at 19:30 Central European Time / 18:30 UK / 20:30 Baltics / Helsinki / 21:30 Moscow time / 1:30pm ET \nhttps://us02web.zoom.us/j/83834372326 \nMeeting ID: 838 3437 2326\nPasscode: 437668 \nMore information about the European Committee can be found at https://acawso.org/category/european-connection/
URL:https://acawso.org/calendar/european-committee-2-2/2025-05-06/
CATEGORIES:committees
END:VEVENT
BEGIN:VEVENT
DTSTART;TZID=America/New_York:20250506T170000
DTEND;TZID=America/New_York:20250506T183000
DTSTAMP:20260423T125236
CREATED:20240814T181038Z
LAST-MODIFIED:20251216T233353Z
UID:10011747-1746550800-1746556200@acawso.org
SUMMARY:ABC Study
DESCRIPTION:Please see our subcommittee homepage for more information \nThis Study Group meets weekly on Tuesdays at 5:00 pm Eastern. \nMeeting ID: 993 7036 0615\nPasscode: 182011 \nIf you have questions\, please email us at abcstudy@acawso.org.
URL:https://acawso.org/calendar/abc-study-4-2-2/2025-05-06/
CATEGORIES:committees
END:VEVENT
BEGIN:VEVENT
DTSTART;TZID=America/New_York:20250508T100000
DTEND;TZID=America/New_York:20250508T110000
DTSTAMP:20260423T125236
CREATED:20250417T205555Z
LAST-MODIFIED:20250621T201219Z
UID:10016075-1746698400-1746702000@acawso.org
SUMMARY:ABC/QDM Agenda Working Group
DESCRIPTION:Meets Thursdays 10am EST US \nhttps://zoom.us/j/98614186885?pwd=1ljJ0WcWmfr1v9GQcxTko An8CTcrh.1\nMeeting ID: 986 1418 6885\nPasscode: ABC/QDM
URL:https://acawso.org/calendar/abc-qdm-agenda-working-group/2025-05-08/
CATEGORIES:committees
END:VEVENT
BEGIN:VEVENT
DTSTART;TZID=America/New_York:20250508T160000
DTEND;TZID=America/New_York:20250511T130000
DTSTAMP:20260423T125236
CREATED:20250222T134556Z
LAST-MODIFIED:20250222T134556Z
UID:10015783-1746720000-1746968400@acawso.org
SUMMARY:PNW Spring Retreat
DESCRIPTION:Spring ACA retreat at Seabeck Conference Center\, May 8-11. \nThe retreat committee has chosen the theme “I Am Enough” and our workshops and art projects will be centered around this theme. \nWe’ve been excited to see our numbers grow steadily over the past several retreats\, and we expect to sell out this year! \nSponsored by WEB0912
URL:https://acawso.org/calendar/pnw-spring-retreat/
CATEGORIES:events
END:VEVENT
BEGIN:VEVENT
DTSTART;TZID=America/New_York:20250508T180000
DTEND;TZID=America/New_York:20250508T193000
DTSTAMP:20260423T125236
CREATED:20241213T194950Z
LAST-MODIFIED:20250417T231755Z
UID:10016333-1746727200-1746732600@acawso.org
SUMMARY:Ballot Prep Committee
DESCRIPTION:All are welcome. \nFor more information\, contact the committee at bpc@adultchildren.org \nZoom 2 ACAWSO is inviting you to a scheduled Zoom meeting. \nhttps://zoom.us/j/81531189155 \nMeeting ID: 815 3118 9155\nPasscode: 90755
URL:https://acawso.org/calendar/ballot-prep-committee-6/2025-05-08/
CATEGORIES:committees
END:VEVENT
BEGIN:VEVENT
DTSTART;TZID=America/New_York:20250510T040000
DTEND;TZID=America/New_York:20250510T120000
DTSTAMP:20260423T125236
CREATED:20241223T174910Z
LAST-MODIFIED:20241223T174910Z
UID:10014637-1746849600-1746878400@acawso.org
SUMMARY:London Convention
DESCRIPTION:The London convention is sourced by the ACA UK convention committee\, reporting to UK intergroup. The convention “Action coming from Love” will have speakers (all ACA fellows proactively working ACA recovery)\, meetings and workshops. \nLogistical information and a link to purchase tickets can be sound on the ACA UK website here: https://www.adultchildrenofalcoholics.co.uk/category/news/ \nSponsored by IG#530 \n 
URL:https://acawso.org/calendar/london-convention/
CATEGORIES:events
END:VEVENT
BEGIN:VEVENT
DTSTART;TZID=America/New_York:20250510T090000
DTEND;TZID=America/New_York:20250510T103000
DTSTAMP:20260423T125236
CREATED:20250510T022750Z
LAST-MODIFIED:20250510T023203Z
UID:10016609-1746867600-1746873000@acawso.org
SUMMARY:Delegate Training with the Parliamentarian
DESCRIPTION:This is a training on the role of the Parliamentarian and the responsibilities of Delegates at the Annual Business Conference. The focus is on the Twelve Traditions\, Twelve Concepts\, Operating Policies and Procedure Manual (OPPM)\, customary practices and Roberts Rules. A recording and slides of the training will be available on the Conference webpage. \nZoom Meeting ID: 986 4677 0260 \nPasscode: 2025ABC
URL:https://acawso.org/calendar/delegate-training-with-the-parliamentarian/
CATEGORIES:events
END:VEVENT
BEGIN:VEVENT
DTSTART;TZID=America/New_York:20250510T150000
DTEND;TZID=America/New_York:20250510T160000
DTSTAMP:20260423T125236
CREATED:20250613T180831Z
LAST-MODIFIED:20250613T180832Z
UID:10014824-1746889200-1746892800@acawso.org
SUMMARY:Literature in Development Subcommittee
DESCRIPTION:The subcommittee meets once a month on the second Saturday of the month from 3-4 pm eastern time. Meetings will start on 11 January 2025. \nMeeting ID: 987 7225 8902\nPasscode: 744657
URL:https://acawso.org/calendar/literature-in-development-subcommittee-2-4/
CATEGORIES:committees
END:VEVENT
BEGIN:VEVENT
DTSTART;TZID=America/New_York:20250510T200000
DTEND;TZID=America/New_York:20250510T213000
DTSTAMP:20260423T125236
CREATED:20241109T132041Z
LAST-MODIFIED:20241109T132042Z
UID:10012523-1746907200-1746912600@acawso.org
SUMMARY:Big Red Book Working Group
DESCRIPTION:Zoom 2 ACAWSO is inviting you to a scheduled Zoom meeting.\nTopic: BRB Revision Working Group- Global East\nTime: Every month on the second and fourth Saturday at 8 PM Eastern US \nJoin Zoom Meeting\nhttps://zoom.us/j/92423141348\nMeeting ID: 924 2314 1348\nPasscode: 112358 \nPlease download and import the following iCalendar (.ics) files to your calendar system.\nMonthly: https://zoom.us/meeting/tJYpdeqpqjopHtwsBMOyTO0tAY5XaN4QYv7-/ics?icsToken=98tyKuCqqjkpG9CUsx2PRowQBojob-vwiH5egrdKjz3ILDlnTVPiF9sXCrNRROnp
URL:https://acawso.org/calendar/brb-revision-working-group-global-east-3-2/2025-05-10/
CATEGORIES:committees
END:VEVENT
BEGIN:VEVENT
DTSTART;TZID=America/New_York:20250510T210000
DTEND;TZID=America/New_York:20250510T223000
DTSTAMP:20260423T125236
CREATED:20250510T023230Z
LAST-MODIFIED:20250510T023230Z
UID:10016611-1746910800-1746916200@acawso.org
SUMMARY:Delegate Training with the Parliamentarian
DESCRIPTION:This is a training on the role of the Parliamentarian and the responsibilities of Delegates at the Annual Business Conference. The focus is on the Twelve Traditions\, Twelve Concepts\, Operating Policies and Procedure Manual (OPPM)\, customary practices and Roberts Rules. A recording and slides of the training will be available on the Conference webpage. \nZoom Meeting ID: 986 4677 0260 \nPasscode: 2025ABC
URL:https://acawso.org/calendar/delegate-training-with-the-parliamentarian-2/
CATEGORIES:events
END:VEVENT
BEGIN:VEVENT
DTSTART;TZID=America/New_York:20250511T040000
DTEND;TZID=America/New_York:20250511T060000
DTSTAMP:20260423T125236
CREATED:20250401T164918Z
LAST-MODIFIED:20250401T164918Z
UID:10016062-1746936000-1746943200@acawso.org
SUMMARY:Fearless Souls - Adult Children in Recovery
DESCRIPTION: Understanding the Mother Wound: A Journey to Healing  \nJoin us for a transformative event exploring the Mother Wound – the deep emotional impact of our early relationships and how they shaped our sense of self. Through shared experiences\, reflection\, and guided practices\, we will learn to reconnect with our true selves\, set boundaries\, and cultivate self-love. \n Date: May 11\n Time: 10 am CEST\, 9 am GMT\, 1:30 pm IST\, 6 pm AEST\, 4 pm AWST\n Location: Zoom ID: 959 9635 2014 – Passcode: LOVE \n Embrace your inner child with love and compassion\n Learn practical tools for self-care and healing\n Share in a safe\, supportive community \nLet’s take this journey together – toward self-acceptance\, empowerment\, and inner peace. \nSponsored by IG#754
URL:https://acawso.org/calendar/fearless-souls-adult-children-in-recovery/
CATEGORIES:events
END:VEVENT
BEGIN:VEVENT
DTSTART;TZID=America/New_York:20250511T120000
DTEND;TZID=America/New_York:20250511T200000
DTSTAMP:20260423T125236
CREATED:20250503T105605Z
LAST-MODIFIED:20250503T105641Z
UID:10016607-1746964800-1746993600@acawso.org
SUMMARY:Loving Parent Zoom Marathon
DESCRIPTION:ACA meetings every hour starting at 12pm ET\, the last meeting starts at 7pm. \nSponsored by IG#634 and Region 2
URL:https://acawso.org/calendar/loving-parent-zoom-marathon/
CATEGORIES:events
END:VEVENT
BEGIN:VEVENT
DTSTART;TZID=America/New_York:20250512T120000
DTEND;TZID=America/New_York:20250512T130000
DTSTAMP:20260423T125236
CREATED:20240812T161857Z
LAST-MODIFIED:20240812T161858Z
UID:10012114-1747051200-1747054800@acawso.org
SUMMARY:IT Website Redesign Working Group
DESCRIPTION:IT website redesign working group meetings every Monday at 12:00pm ET (US) \nContact:  itchair@acawso.org \nJoin Zoom Meeting\nhttps://us02web.zoom.us/j/83771567325 \nMeeting ID: 837 7156 7325\nPasscode: 088655
URL:https://acawso.org/calendar/it-website-redesign-working-group-2-2-2/2025-05-12/
CATEGORIES:committees
END:VEVENT
BEGIN:VEVENT
DTSTART;TZID=America/New_York:20250512T160000
DTEND;TZID=America/New_York:20250512T173000
DTSTAMP:20260423T125236
CREATED:20240812T161937Z
LAST-MODIFIED:20240812T161938Z
UID:10007523-1747065600-1747071000@acawso.org
SUMMARY:IT Committee
DESCRIPTION:IT Committee meets weekly on Monday at 4:00pm ET (US) \ncontact: itchair@acawso.org \nJoin Zoom Meeting \nhttps://us02web.zoom.us/j/89520227175 \nMeeting ID: 895 2022 7175\nPasscode: 90755\nOne tap mobile\n+19292056099\,\,89520227175# US (New York)\n+13126266799\,\,89520227175# US (Chicago) \nDial by your location\n+1 929 205 6099 US (New York)\n+1 312 626 6799 US (Chicago)\n+1 301 715 8592 US (Washington DC)\n+1 253 215 8782 US (Tacoma)\n+1 346 248 7799 US (Houston)\n+1 669 900 6833 US (San Jose)\nMeeting ID: 895 2022 7175\nFind your local number: https://us02web.zoom.us/u/kdrkCQ8UuT
URL:https://acawso.org/calendar/it-committee-2023-07-19-2-2-2/2025-05-12/
CATEGORIES:committees
END:VEVENT
BEGIN:VEVENT
DTSTART;TZID=America/New_York:20250513T140000
DTEND;TZID=America/New_York:20250513T153000
DTSTAMP:20260423T125236
CREATED:20220902T154208Z
LAST-MODIFIED:20220902T154208Z
UID:10007892-1747144800-1747150200@acawso.org
SUMMARY:Archives Committee Meeting
DESCRIPTION:Join the Archives Committee at \nhttps://us02web.zoom.us/j/89913165113 \nMeeting ID: 899 1316 5113\nPasscode: 495053
URL:https://acawso.org/calendar/archives-committee-meeting/2025-05-13/
END:VEVENT
BEGIN:VEVENT
DTSTART;TZID=America/New_York:20250515T100000
DTEND;TZID=America/New_York:20250515T110000
DTSTAMP:20260423T125236
CREATED:20250417T205555Z
LAST-MODIFIED:20250621T201219Z
UID:10016076-1747303200-1747306800@acawso.org
SUMMARY:ABC/QDM Agenda Working Group
DESCRIPTION:Meets Thursdays 10am EST US \nhttps://zoom.us/j/98614186885?pwd=1ljJ0WcWmfr1v9GQcxTko An8CTcrh.1\nMeeting ID: 986 1418 6885\nPasscode: ABC/QDM
URL:https://acawso.org/calendar/abc-qdm-agenda-working-group/2025-05-15/
CATEGORIES:committees
END:VEVENT
BEGIN:VEVENT
DTSTART;TZID=America/New_York:20250515T123000
DTEND;TZID=America/New_York:20250515T140000
DTSTAMP:20260423T125236
CREATED:20210612T223946Z
LAST-MODIFIED:20210612T224144Z
UID:10004680-1747312200-1747317600@acawso.org
SUMMARY:Board Executive Committee
DESCRIPTION:The WSO Board’s Executive committee meets twice a month on the 1st and 3rd Thursdays at 12:30pm Eastern Time
URL:https://acawso.org/calendar/board-executive-committee/2025-05-15/
END:VEVENT
BEGIN:VEVENT
DTSTART;TZID=America/New_York:20250515T143000
DTEND;TZID=America/New_York:20250515T160000
DTSTAMP:20260423T125236
CREATED:20250307T213321Z
LAST-MODIFIED:20250307T213322Z
UID:10005802-1747319400-1747324800@acawso.org
SUMMARY:Finance Committee
DESCRIPTION:The finance committee meets Thursdays from 2:30 pm ET – 4:00pm ET.  We are looking for members with business\, finance\, or bookkeeping experience. \n  \nPlease contact treasurer@adultchildren.org or finance@acawso.org if you are interested in visiting or joining the finance committee.
URL:https://acawso.org/calendar/finance-committee-2/2025-05-15/
CATEGORIES:committees
END:VEVENT
BEGIN:VEVENT
DTSTART;TZID=America/New_York:20250515T161500
DTEND;TZID=America/New_York:20250515T171500
DTSTAMP:20260423T125236
CREATED:20240610T105549Z
LAST-MODIFIED:20240722T102939Z
UID:10013166-1747325700-1747329300@acawso.org
SUMMARY:Oral History Committee
DESCRIPTION:Oral History Committee meets on third Thursday of each month at 4:15pm Eastern. \nhttps://zoom.us/j/87931864867 \nMeeting ID: 879 3186 4867 \nPasscode: 076406
URL:https://acawso.org/calendar/oral-history-committee-2-2/2025-05-15/
CATEGORIES:committees
END:VEVENT
BEGIN:VEVENT
DTSTART;TZID=America/New_York:20250515T173000
DTEND;TZID=America/New_York:20250515T190000
DTSTAMP:20260423T125236
CREATED:20240710T195014Z
LAST-MODIFIED:20240710T203031Z
UID:10009945-1747330200-1747335600@acawso.org
SUMMARY:Concepts Study
DESCRIPTION:This ad hoc committee was created by the 2022 ABC. \nAll ACA’s are welcome \nZoom information: \nhttps://zoom.us/j/83429248013 \nMeeting ID: 834 2924 8013\nPasscode: 90755 \nCommittee’s page
URL:https://acawso.org/calendar/concepts-ii-and-vi-study-2-3-2/2025-05-15/
CATEGORIES:committees
END:VEVENT
BEGIN:VEVENT
DTSTART;TZID=America/New_York:20250516T140000
DTEND;TZID=America/New_York:20250518T140000
DTSTAMP:20260423T125236
CREATED:20250304T114405Z
LAST-MODIFIED:20250304T114405Z
UID:10015849-1747404000-1747576800@acawso.org
SUMMARY:Camp Recovery Retreat
DESCRIPTION:Sponsored by IG#715
URL:https://acawso.org/calendar/camp-recovery-retreat/
CATEGORIES:events
END:VEVENT
BEGIN:VEVENT
DTSTART;TZID=America/New_York:20250516T180000
DTEND;TZID=America/New_York:20250516T190000
DTSTAMP:20260423T125236
CREATED:20240805T174438Z
LAST-MODIFIED:20240805T174439Z
UID:10009441-1747418400-1747422000@acawso.org
SUMMARY:Data Analysis Committee
DESCRIPTION:Meeting in August moved to 9th of August to accomodate the August QDM. Please email data@acawso.org or post in data_request in Slack if have a request. \nData Analysis Committee meets every third Friday the month at  3 PM PDT\, 4 PM MDT\, 5 PM CDT\, 6 PM EDT\, Saturday at 5 AM Thailand/Vietnam\, 6 AM Singapore/Taiwan/China\, 7 AM Japan \nFor information how to attend please contact the committee.
URL:https://acawso.org/calendar/data-analysis-committee-2-2-2-2/2025-05-16/
CATEGORIES:committees
END:VEVENT
BEGIN:VEVENT
DTSTART;TZID=America/New_York:20250517T090000
DTEND;TZID=America/New_York:20250517T170000
DTSTAMP:20260423T125236
CREATED:20250510T024236Z
LAST-MODIFIED:20250510T024236Z
UID:10016612-1747472400-1747501200@acawso.org
SUMMARY:ACA Annual Business Conference (ABC)
DESCRIPTION:For more information\, please go to the Conference web page – and if your group does not have a Delegate\, the deadline is May 12th. \nThere is no deadline to be an Observer\, so sign up and check things out.
URL:https://acawso.org/calendar/aca-annual-business-conference-abc/
CATEGORIES:events
END:VEVENT
BEGIN:VEVENT
DTSTART;TZID=America/New_York:20250517T100000
DTEND;TZID=America/New_York:20250517T120000
DTSTAMP:20260423T125236
CREATED:20250426T112421Z
LAST-MODIFIED:20250426T112421Z
UID:10016341-1747476000-1747483200@acawso.org
SUMMARY:First Year Anniversary
DESCRIPTION:First Year Anniversary Meeting & Morning Potluck\nSaturday New Life ACA Meeting (PA0184)\nJoin us for a morning of connection\, recovery\, and community! \nA potluck breakfast followed by a speaker-led topic meeting:\nFeeling is Healing: A Path to Discovering Your Inner Parent\nWhere: Presbyterian Church of Newtown Square\n3600 Goshen Road\nNewtown Square\, PA 19073 \nWhen: Saturday\, May 17\, 2025 10-11:15am (Door Opens at 9:15am)\nCome celebrate recovery\, healing\, and the strength of our fellowship! \nSponsored by PA0184
URL:https://acawso.org/calendar/first-year-anniversary/
CATEGORIES:events
END:VEVENT
BEGIN:VEVENT
DTSTART;TZID=America/New_York:20250517T123000
DTEND;TZID=America/New_York:20250517T140000
DTSTAMP:20260423T125236
CREATED:20250426T032033Z
LAST-MODIFIED:20250827T230724Z
UID:10017588-1747485000-1747490400@acawso.org
SUMMARY:ABC/QDM Committee
DESCRIPTION:The ABC/AWC committee meets first and third Saturday from 12:30 to 2 pm EDT \nJoin Zoom Meeting\nhttps://us02web.zoom.us/j/87582913615?pwd=dWpPNVJPcVNiVjJxbGgzbFVwY05EZz09 \nMeeting ID: 875 8291 3615\nPasscode: ABC2022 \nContact abc@adultchildren.org for more details. \n 
URL:https://acawso.org/calendar/abc-awc-committee-4-2-3/2025-05-17/
CATEGORIES:committees
END:VEVENT
BEGIN:VEVENT
DTSTART;TZID=America/New_York:20250518T070000
DTEND;TZID=America/New_York:20250518T093000
DTSTAMP:20260423T125236
CREATED:20250517T192358Z
LAST-MODIFIED:20250517T192358Z
UID:10016642-1747551600-1747560600@acawso.org
SUMMARY:Traditions Workshop at Zoom RSC will host a Roundtable discussion on the 8th tradition of the ACA
DESCRIPTION:Russian Speaking Regional Service Committee #645 is happy to invite to attend open workshop on Twelve traditions. \nOn Sunday May\, 18 at 2:00 pm GMT+3 / 7:00 am ET we host a worksop with two speakers and Q&A session on Tradition Eight: \n “Adult Children of Alcoholics should remain forever non-professional\, but our service centers may employ special workers”. \nSpeakers will share their experience of applying Tradition 8 to programme\, work and relationships: \n14-00 – Monica S.(Brazil/Italy) \n15.30 – Alina G. (Russia) \nPlease\, join us via the Zoom link \nhttps://us06web.zoom.us/j/6261313985?omn=82846007137 \nSponsored by IG#645
URL:https://acawso.org/calendar/traditions-workshop-at-zoom-rsc-will-host-a-roundtable-discussion-on-the-8th-tradition-of-the-aca/
CATEGORIES:events
END:VEVENT
BEGIN:VEVENT
DTSTART;TZID=America/New_York:20250518T090000
DTEND;TZID=America/New_York:20250518T170000
DTSTAMP:20260423T125236
CREATED:20250512T154912Z
LAST-MODIFIED:20250512T154913Z
UID:10016613-1747558800-1747587600@acawso.org
SUMMARY:ACA Annual Business Conference (ABC)
DESCRIPTION:For more information\, please go to the Conference web page – and if your group does not have a Delegate\, the deadline is May 12th. \nThere is no deadline to be an Observer\, so sign up and check things out.
URL:https://acawso.org/calendar/aca-annual-business-conference-abc-2/
CATEGORIES:events
END:VEVENT
BEGIN:VEVENT
DTSTART;TZID=America/New_York:20250519T120000
DTEND;TZID=America/New_York:20250519T130000
DTSTAMP:20260423T125236
CREATED:20240812T161857Z
LAST-MODIFIED:20240812T161858Z
UID:10012115-1747656000-1747659600@acawso.org
SUMMARY:IT Website Redesign Working Group
DESCRIPTION:IT website redesign working group meetings every Monday at 12:00pm ET (US) \nContact:  itchair@acawso.org \nJoin Zoom Meeting\nhttps://us02web.zoom.us/j/83771567325 \nMeeting ID: 837 7156 7325\nPasscode: 088655
URL:https://acawso.org/calendar/it-website-redesign-working-group-2-2-2/2025-05-19/
CATEGORIES:committees
END:VEVENT
END:VCALENDAR