BEGIN:VCALENDAR
VERSION:2.0
PRODID:-//ACA WSO - ECPv6.15.20//NONSGML v1.0//EN
CALSCALE:GREGORIAN
METHOD:PUBLISH
X-WR-CALNAME:ACA WSO
X-ORIGINAL-URL:https://acawso.org
X-WR-CALDESC:Events for ACA WSO
REFRESH-INTERVAL;VALUE=DURATION:PT1H
X-Robots-Tag:noindex
X-PUBLISHED-TTL:PT1H
BEGIN:VTIMEZONE
TZID:America/New_York
BEGIN:DAYLIGHT
TZOFFSETFROM:-0500
TZOFFSETTO:-0400
TZNAME:EDT
DTSTART:20240310T070000
END:DAYLIGHT
BEGIN:STANDARD
TZOFFSETFROM:-0400
TZOFFSETTO:-0500
TZNAME:EST
DTSTART:20241103T060000
END:STANDARD
BEGIN:DAYLIGHT
TZOFFSETFROM:-0500
TZOFFSETTO:-0400
TZNAME:EDT
DTSTART:20250309T070000
END:DAYLIGHT
BEGIN:STANDARD
TZOFFSETFROM:-0400
TZOFFSETTO:-0500
TZNAME:EST
DTSTART:20251102T060000
END:STANDARD
BEGIN:DAYLIGHT
TZOFFSETFROM:-0500
TZOFFSETTO:-0400
TZNAME:EDT
DTSTART:20260308T070000
END:DAYLIGHT
BEGIN:STANDARD
TZOFFSETFROM:-0400
TZOFFSETTO:-0500
TZNAME:EST
DTSTART:20261101T060000
END:STANDARD
END:VTIMEZONE
BEGIN:VEVENT
DTSTART;TZID=America/New_York:20250609T160000
DTEND;TZID=America/New_York:20250609T173000
DTSTAMP:20260422T163929
CREATED:20240812T161937Z
LAST-MODIFIED:20240812T161938Z
UID:10010169-1749484800-1749490200@acawso.org
SUMMARY:IT Committee
DESCRIPTION:IT Committee meets weekly on Monday at 4:00pm ET (US) \ncontact: itchair@acawso.org \nJoin Zoom Meeting \nhttps://us02web.zoom.us/j/89520227175 \nMeeting ID: 895 2022 7175\nPasscode: 90755\nOne tap mobile\n+19292056099\,\,89520227175# US (New York)\n+13126266799\,\,89520227175# US (Chicago) \nDial by your location\n+1 929 205 6099 US (New York)\n+1 312 626 6799 US (Chicago)\n+1 301 715 8592 US (Washington DC)\n+1 253 215 8782 US (Tacoma)\n+1 346 248 7799 US (Houston)\n+1 669 900 6833 US (San Jose)\nMeeting ID: 895 2022 7175\nFind your local number: https://us02web.zoom.us/u/kdrkCQ8UuT
URL:https://acawso.org/calendar/it-committee-2023-07-19-2-2-2/2025-06-09/
CATEGORIES:committees
END:VEVENT
BEGIN:VEVENT
DTSTART;TZID=America/New_York:20250610T170000
DTEND;TZID=America/New_York:20250610T183000
DTSTAMP:20260422T163929
CREATED:20240814T181038Z
LAST-MODIFIED:20251216T233353Z
UID:10013832-1749574800-1749580200@acawso.org
SUMMARY:ABC Study
DESCRIPTION:Please see our subcommittee homepage for more information \nThis Study Group meets weekly on Tuesdays at 5:00 pm Eastern. \nMeeting ID: 993 7036 0615\nPasscode: 182011 \nIf you have questions\, please email us at abcstudy@acawso.org.
URL:https://acawso.org/calendar/abc-study-4-2-2/2025-06-10/
CATEGORIES:committees
END:VEVENT
BEGIN:VEVENT
DTSTART;TZID=America/New_York:20250612T143000
DTEND;TZID=America/New_York:20250612T160000
DTSTAMP:20260422T163929
CREATED:20250307T213321Z
LAST-MODIFIED:20250307T213322Z
UID:10015853-1749738600-1749744000@acawso.org
SUMMARY:Finance Committee
DESCRIPTION:The finance committee meets Thursdays from 2:30 pm ET – 4:00pm ET.  We are looking for members with business\, finance\, or bookkeeping experience. \n  \nPlease contact treasurer@adultchildren.org or finance@acawso.org if you are interested in visiting or joining the finance committee.
URL:https://acawso.org/calendar/finance-committee-2/2025-06-12/
CATEGORIES:committees
END:VEVENT
BEGIN:VEVENT
DTSTART;TZID=America/New_York:20250614T140000
DTEND;TZID=America/New_York:20250614T160000
DTSTAMP:20260422T163929
CREATED:20250520T152440Z
LAST-MODIFIED:20250520T152440Z
UID:10016643-1749909600-1749916800@acawso.org
SUMMARY:Board Meeting with the Fellowship
DESCRIPTION:All ACA members are invited to attend these meetings. \nThese meetings are held quarterly on the second Saturday of the month from 2:00 – 4:00 PM ET. \nThe 2025 Meeting Dates \n\nMarch 8\nJune 14\nSeptember 13\nDecember 13\n\n  \nMeeting ID: 228 809 511 Passcode: 90755 \nor call in via phone at: +1 305 224 1968 (US) or see: Outside US Phone #’s \nThe WSO Secretary provides the agendas for the Board Meetings with the Fellowship and generates the meeting minutes for subsequent review and approval by the WSO Board.
URL:https://acawso.org/calendar/board-meeting-with-the-fellowship-2/2025-06-14/
CATEGORIES:committees,events
END:VEVENT
BEGIN:VEVENT
DTSTART;TZID=America/New_York:20250614T200000
DTEND;TZID=America/New_York:20250614T213000
DTSTAMP:20260422T163929
CREATED:20241109T132041Z
LAST-MODIFIED:20241109T132042Z
UID:10012524-1749931200-1749936600@acawso.org
SUMMARY:Big Red Book Working Group
DESCRIPTION:Zoom 2 ACAWSO is inviting you to a scheduled Zoom meeting.\nTopic: BRB Revision Working Group- Global East\nTime: Every month on the second and fourth Saturday at 8 PM Eastern US \nJoin Zoom Meeting\nhttps://zoom.us/j/92423141348\nMeeting ID: 924 2314 1348\nPasscode: 112358 \nPlease download and import the following iCalendar (.ics) files to your calendar system.\nMonthly: https://zoom.us/meeting/tJYpdeqpqjopHtwsBMOyTO0tAY5XaN4QYv7-/ics?icsToken=98tyKuCqqjkpG9CUsx2PRowQBojob-vwiH5egrdKjz3ILDlnTVPiF9sXCrNRROnp
URL:https://acawso.org/calendar/brb-revision-working-group-global-east-3-2/2025-06-14/
CATEGORIES:committees
END:VEVENT
BEGIN:VEVENT
DTSTART;TZID=America/New_York:20250615T050000
DTEND;TZID=America/New_York:20250616T030000
DTSTAMP:20260422T163929
CREATED:20250612T103717Z
LAST-MODIFIED:20250612T103717Z
UID:10016743-1749963600-1750042800@acawso.org
SUMMARY:Father's Day Marathon
DESCRIPTION:Sponsored by TEL0427. \nAll details are in the flyer below:
URL:https://acawso.org/calendar/fathers-day-marathon-2/
CATEGORIES:events
END:VEVENT
BEGIN:VEVENT
DTSTART;TZID=America/New_York:20250615T120000
DTEND;TZID=America/New_York:20250615T200000
DTSTAMP:20260422T163929
CREATED:20250602T124323Z
LAST-MODIFIED:20250602T124323Z
UID:10016741-1749988800-1750017600@acawso.org
SUMMARY:Loving Parent Zoom Marathon
DESCRIPTION:ACA meetings every hour starting at 12pm ET\, the last meeting starts at 7pm. \nSponsored by IG#634 and Region 2.
URL:https://acawso.org/calendar/loving-parent-zoom-marathon-2/
CATEGORIES:events
END:VEVENT
BEGIN:VEVENT
DTSTART;TZID=America/New_York:20250616T120000
DTEND;TZID=America/New_York:20250616T130000
DTSTAMP:20260422T163929
CREATED:20240812T161857Z
LAST-MODIFIED:20240812T161858Z
UID:10012119-1750075200-1750078800@acawso.org
SUMMARY:IT Website Redesign Working Group
DESCRIPTION:IT website redesign working group meetings every Monday at 12:00pm ET (US) \nContact:  itchair@acawso.org \nJoin Zoom Meeting\nhttps://us02web.zoom.us/j/83771567325 \nMeeting ID: 837 7156 7325\nPasscode: 088655
URL:https://acawso.org/calendar/it-website-redesign-working-group-2-2-2/2025-06-16/
CATEGORIES:committees
END:VEVENT
BEGIN:VEVENT
DTSTART;TZID=America/New_York:20250616T160000
DTEND;TZID=America/New_York:20250616T173000
DTSTAMP:20260422T163929
CREATED:20240812T161937Z
LAST-MODIFIED:20240812T161938Z
UID:10010170-1750089600-1750095000@acawso.org
SUMMARY:IT Committee
DESCRIPTION:IT Committee meets weekly on Monday at 4:00pm ET (US) \ncontact: itchair@acawso.org \nJoin Zoom Meeting \nhttps://us02web.zoom.us/j/89520227175 \nMeeting ID: 895 2022 7175\nPasscode: 90755\nOne tap mobile\n+19292056099\,\,89520227175# US (New York)\n+13126266799\,\,89520227175# US (Chicago) \nDial by your location\n+1 929 205 6099 US (New York)\n+1 312 626 6799 US (Chicago)\n+1 301 715 8592 US (Washington DC)\n+1 253 215 8782 US (Tacoma)\n+1 346 248 7799 US (Houston)\n+1 669 900 6833 US (San Jose)\nMeeting ID: 895 2022 7175\nFind your local number: https://us02web.zoom.us/u/kdrkCQ8UuT
URL:https://acawso.org/calendar/it-committee-2023-07-19-2-2-2/2025-06-16/
CATEGORIES:committees
END:VEVENT
BEGIN:VEVENT
DTSTART;TZID=America/New_York:20250617T170000
DTEND;TZID=America/New_York:20250617T183000
DTSTAMP:20260422T163929
CREATED:20240814T181038Z
LAST-MODIFIED:20251216T233353Z
UID:10013833-1750179600-1750185000@acawso.org
SUMMARY:ABC Study
DESCRIPTION:Please see our subcommittee homepage for more information \nThis Study Group meets weekly on Tuesdays at 5:00 pm Eastern. \nMeeting ID: 993 7036 0615\nPasscode: 182011 \nIf you have questions\, please email us at abcstudy@acawso.org.
URL:https://acawso.org/calendar/abc-study-4-2-2/2025-06-17/
CATEGORIES:committees
END:VEVENT
BEGIN:VEVENT
DTSTART;TZID=America/New_York:20250618T130000
DTEND;TZID=America/New_York:20250618T140000
DTSTAMP:20260422T163929
CREATED:20241121T204732Z
LAST-MODIFIED:20241121T204732Z
UID:10012610-1750251600-1750255200@acawso.org
SUMMARY:Translations Subcommittee
DESCRIPTION:Translation Subcommittee meets every 3rd Wednesday of the month at 1 pm ET/7 pm CET/ 6 pm GMT \n  \nMeeting ID: 879 0590 2057\nPasscode: 969814 \nAll are welcome!
URL:https://acawso.org/calendar/translations-subcommittee-2/2025-06-18/
CATEGORIES:committees
END:VEVENT
BEGIN:VEVENT
DTSTART;TZID=America/New_York:20250618T160000
DTEND;TZID=America/New_York:20250618T180000
DTSTAMP:20260422T163929
CREATED:20250520T152816Z
LAST-MODIFIED:20250520T152920Z
UID:10016646-1750262400-1750269600@acawso.org
SUMMARY:2024 Audit Q & A
DESCRIPTION:ATTENTION DELEGATES and other fellowship members: \nJoin Us for the 2024 Financial Audit Q&A Session \nWe are pleased to announce that Brett Bradbury\, our auditor for 2024\, will be hosting a live 120-minute Question & Answer session to discuss the results of the 2024 financial audit. \nDate: Wednesday\, June 18\nTime: 1:00–3:00 PM PT / 4:00–6:00 PM ET\nLocation: Hosted via Zoom from Brett’s office \nThis session is a valuable opportunity to engage directly with our auditor\, ask questions\, and gain a clearer understanding of the audit findings. \nZoom Meeting Details:\nClick Zoom Link – Auditor Q&A to join the Auditor Q&A\nMeeting ID: 961 5997 3910\nPasscode: 183090 \nAudit Reports:\nYou can access the 2024 audit letter and related reports at the following link: Letter re_ 2024 Audit.pdf \nSponsored by Audit Committee
URL:https://acawso.org/calendar/2024-audit-q-a/
CATEGORIES:committees,events
END:VEVENT
BEGIN:VEVENT
DTSTART;TZID=America/New_York:20250619T161500
DTEND;TZID=America/New_York:20250619T171500
DTSTAMP:20260422T163929
CREATED:20240610T105549Z
LAST-MODIFIED:20240722T102939Z
UID:10013167-1750349700-1750353300@acawso.org
SUMMARY:Oral History Committee
DESCRIPTION:Oral History Committee meets on third Thursday of each month at 4:15pm Eastern. \nhttps://zoom.us/j/87931864867 \nMeeting ID: 879 3186 4867 \nPasscode: 076406
URL:https://acawso.org/calendar/oral-history-committee-2-2/2025-06-19/
CATEGORIES:committees
END:VEVENT
BEGIN:VEVENT
DTSTART;TZID=America/New_York:20250619T173000
DTEND;TZID=America/New_York:20250619T190000
DTSTAMP:20260422T163929
CREATED:20240710T195014Z
LAST-MODIFIED:20240710T203031Z
UID:10009946-1750354200-1750359600@acawso.org
SUMMARY:Concepts Study
DESCRIPTION:This ad hoc committee was created by the 2022 ABC. \nAll ACA’s are welcome \nZoom information: \nhttps://zoom.us/j/83429248013 \nMeeting ID: 834 2924 8013\nPasscode: 90755 \nCommittee’s page
URL:https://acawso.org/calendar/concepts-ii-and-vi-study-2-3-2/2025-06-19/
CATEGORIES:committees
END:VEVENT
BEGIN:VEVENT
DTSTART;TZID=America/New_York:20250620T180000
DTEND;TZID=America/New_York:20250620T190000
DTSTAMP:20260422T163929
CREATED:20240805T174438Z
LAST-MODIFIED:20240805T174439Z
UID:10009442-1750442400-1750446000@acawso.org
SUMMARY:Data Analysis Committee
DESCRIPTION:Meeting in August moved to 9th of August to accomodate the August QDM. Please email data@acawso.org or post in data_request in Slack if have a request. \nData Analysis Committee meets every third Friday the month at  3 PM PDT\, 4 PM MDT\, 5 PM CDT\, 6 PM EDT\, Saturday at 5 AM Thailand/Vietnam\, 6 AM Singapore/Taiwan/China\, 7 AM Japan \nFor information how to attend please contact the committee.
URL:https://acawso.org/calendar/data-analysis-committee-2-2-2-2/2025-06-20/
CATEGORIES:committees
END:VEVENT
BEGIN:VEVENT
DTSTART;TZID=America/New_York:20250621T100000
DTEND;TZID=America/New_York:20250621T130000
DTSTAMP:20260422T163929
CREATED:20250401T164706Z
LAST-MODIFIED:20250529T102542Z
UID:10016061-1750500000-1750510800@acawso.org
SUMMARY:Workshop: "The Complete Picture"
DESCRIPTION:Dear ACA Fellow Traveler\, \nJoin us for a transformative online workshop where we’ll explore The Complete Picture of how we learned to dissociate in response to dysfunction – and how we can reclaim our wholeness.\nIn this workshop\, we will:\n✅ Unpack the “game of dissociation” we unconsciously adopted in childhood\n✅ Explore the impact of these patterns in our adult lives\n✅ Learn how to become our own loving parent\, using powerful exercises from the Loving Parent Guidebook \nThis is a safe and compassionate space for self-reflection and emotional growth.\nTogether\, we’ll support each other in bringing all parts of ourselves back into connection – compassionately and courageously. Whether we’re just beginning this inner work or deepening a journey already underway\, we’ll walk this path side by side. \nIn Loving Service\,\nFearless Souls – Adult Children in Recovery\nACA Intergroup 754 \n📅 Date & Time June 21\, 2025 🕓 4:00 PM (Brussels) | 3:00 PM (UK/GMT) | 10:00 AM (ET) 8:00 AM (MT) | 7:00 AM (PT) | 7:30 PM (IST)\n💻 Zoom Details Meeting ID: 922 1575 0139 Passcode: LOVE \nSponsored by IG#754
URL:https://acawso.org/calendar/workshop-the-complete-picture/
CATEGORIES:events
END:VEVENT
BEGIN:VEVENT
DTSTART;TZID=America/New_York:20250621T103000
DTEND;TZID=America/New_York:20250621T120000
DTSTAMP:20260422T163929
CREATED:20250523T040155Z
LAST-MODIFIED:20250816T182356Z
UID:10016680-1750501800-1750507200@acawso.org
SUMMARY:ABC Sustainability Study Sub-Committee
DESCRIPTION:NOTE:  In July we are meeting on the 12th instead of the 5th. \nWe usually meet on the 1st & 3rd Saturday of each month from 10:30AM to Noon EDT. We recommend that you check the WSO Committee Calendar for any changes to this schedule. \nZoom URL: https://zoom.us/j/91045736882  \nMeeting ID: 910 4573 6882 \nPasscode: 992748
URL:https://acawso.org/calendar/abc-sustainability-study-sub-committee-6/2025-06-21/
CATEGORIES:committees
END:VEVENT
BEGIN:VEVENT
DTSTART;TZID=America/New_York:20250621T123000
DTEND;TZID=America/New_York:20250621T140000
DTSTAMP:20260422T163929
CREATED:20250426T032033Z
LAST-MODIFIED:20250827T230724Z
UID:10017589-1750509000-1750514400@acawso.org
SUMMARY:ABC/QDM Committee
DESCRIPTION:The ABC/AWC committee meets first and third Saturday from 12:30 to 2 pm EDT \nJoin Zoom Meeting\nhttps://us02web.zoom.us/j/87582913615?pwd=dWpPNVJPcVNiVjJxbGgzbFVwY05EZz09 \nMeeting ID: 875 8291 3615\nPasscode: ABC2022 \nContact abc@adultchildren.org for more details. \n 
URL:https://acawso.org/calendar/abc-awc-committee-4-2-3/2025-06-21/
CATEGORIES:committees
END:VEVENT
BEGIN:VEVENT
DTSTART;TZID=America/New_York:20250621T150000
DTEND;TZID=America/New_York:20250621T160000
DTSTAMP:20260422T163929
CREATED:20250613T181039Z
LAST-MODIFIED:20250613T181040Z
UID:10016744-1750518000-1750521600@acawso.org
SUMMARY:Literature in Development Subcommittee
DESCRIPTION:The subcommittee meets once a month on the second Saturday of the month from 3-4 pm eastern time. Meetings will start on 11 January 2025. \nMeeting ID: 987 7225 8902\nPasscode: 744657
URL:https://acawso.org/calendar/literature-in-development-subcommittee-2-3-2/
CATEGORIES:committees
END:VEVENT
BEGIN:VEVENT
DTSTART;TZID=America/New_York:20250623T110000
DTEND;TZID=America/New_York:20250623T123000
DTSTAMP:20260422T163929
CREATED:20241230T113323Z
LAST-MODIFIED:20241230T113324Z
UID:10014643-1750676400-1750681800@acawso.org
SUMMARY:Regions Intergroups Subcommittee
DESCRIPTION:Regions Intergroups Subcommittee meets every month on the fourth Monday for approximately one hour by Zoom teleconference at 11:00AM Eastern Time. \nhttps://zoom.us/j/96414155183\nMeeting ID: 964 1415 5183\nPasscode: 308405
URL:https://acawso.org/calendar/regions-subcommittee-2-2-2-2-2/2025-06-23/
CATEGORIES:committees
END:VEVENT
BEGIN:VEVENT
DTSTART;TZID=America/New_York:20250623T110000
DTEND;TZID=America/New_York:20250623T123000
DTSTAMP:20260422T163929
CREATED:20241230T113423Z
LAST-MODIFIED:20241230T113424Z
UID:10014703-1750676400-1750681800@acawso.org
SUMMARY:Members Services Committee
DESCRIPTION:The WSO Member Services Committee (MSC) is looking for volunteers to help assist\, support\, and communicate with the worldwide ACA membership. \nWe meet every month on the fourth Monday for approximately one hour by Zoom teleconference at 11:00AM Eastern Time. \n. \n\n\n\n\n\n\n\n\n\n\n\n\n\n\n\n\n\n\n\n\nJoin Zoom Meeting\nhttps://zoom.us/j/96414155183\nMeeting ID: 964 1415 5183\nPasscode: 308405
URL:https://acawso.org/calendar/members-services-re-vision-3-2-2-2/2025-06-23/
CATEGORIES:committees
END:VEVENT
BEGIN:VEVENT
DTSTART;TZID=America/New_York:20250623T110000
DTEND;TZID=America/New_York:20250623T123000
DTSTAMP:20260422T163929
CREATED:20241230T113530Z
LAST-MODIFIED:20241230T113531Z
UID:10014763-1750676400-1750681800@acawso.org
SUMMARY:Young Adults & Teens Subcommittee
DESCRIPTION:YAT SC meeting is on every 4th Monday of the month on Zoom 2 – from 11:00AM to 12:30AM Eeastern \n  \nhttps://zoom.us/j/96414155183\nMeeting ID: 964 1415 5183\nPasscode: 308405
URL:https://acawso.org/calendar/young-adults-teens-subcommittee-2-2-2-2-2/2025-06-23/
CATEGORIES:committees
END:VEVENT
BEGIN:VEVENT
DTSTART;TZID=America/New_York:20250623T120000
DTEND;TZID=America/New_York:20250623T130000
DTSTAMP:20260422T163929
CREATED:20240812T161857Z
LAST-MODIFIED:20240812T161858Z
UID:10012120-1750680000-1750683600@acawso.org
SUMMARY:IT Website Redesign Working Group
DESCRIPTION:IT website redesign working group meetings every Monday at 12:00pm ET (US) \nContact:  itchair@acawso.org \nJoin Zoom Meeting\nhttps://us02web.zoom.us/j/83771567325 \nMeeting ID: 837 7156 7325\nPasscode: 088655
URL:https://acawso.org/calendar/it-website-redesign-working-group-2-2-2/2025-06-23/
CATEGORIES:committees
END:VEVENT
BEGIN:VEVENT
DTSTART;TZID=America/New_York:20250623T160000
DTEND;TZID=America/New_York:20250623T173000
DTSTAMP:20260422T163929
CREATED:20240812T161937Z
LAST-MODIFIED:20240812T161938Z
UID:10010171-1750694400-1750699800@acawso.org
SUMMARY:IT Committee
DESCRIPTION:IT Committee meets weekly on Monday at 4:00pm ET (US) \ncontact: itchair@acawso.org \nJoin Zoom Meeting \nhttps://us02web.zoom.us/j/89520227175 \nMeeting ID: 895 2022 7175\nPasscode: 90755\nOne tap mobile\n+19292056099\,\,89520227175# US (New York)\n+13126266799\,\,89520227175# US (Chicago) \nDial by your location\n+1 929 205 6099 US (New York)\n+1 312 626 6799 US (Chicago)\n+1 301 715 8592 US (Washington DC)\n+1 253 215 8782 US (Tacoma)\n+1 346 248 7799 US (Houston)\n+1 669 900 6833 US (San Jose)\nMeeting ID: 895 2022 7175\nFind your local number: https://us02web.zoom.us/u/kdrkCQ8UuT
URL:https://acawso.org/calendar/it-committee-2023-07-19-2-2-2/2025-06-23/
CATEGORIES:committees
END:VEVENT
BEGIN:VEVENT
DTSTART;TZID=America/New_York:20250624T170000
DTEND;TZID=America/New_York:20250624T183000
DTSTAMP:20260422T163929
CREATED:20240814T181038Z
LAST-MODIFIED:20251216T233353Z
UID:10013834-1750784400-1750789800@acawso.org
SUMMARY:ABC Study
DESCRIPTION:Please see our subcommittee homepage for more information \nThis Study Group meets weekly on Tuesdays at 5:00 pm Eastern. \nMeeting ID: 993 7036 0615\nPasscode: 182011 \nIf you have questions\, please email us at abcstudy@acawso.org.
URL:https://acawso.org/calendar/abc-study-4-2-2/2025-06-24/
CATEGORIES:committees
END:VEVENT
BEGIN:VEVENT
DTSTART;TZID=America/New_York:20250624T193000
DTEND;TZID=America/New_York:20250624T203000
DTSTAMP:20260422T163929
CREATED:20250617T160828Z
LAST-MODIFIED:20250618T191359Z
UID:10016878-1750793400-1750797000@acawso.org
SUMMARY:Speaker Meeting - Tuesday ‘Women of Worth in Recovery’
DESCRIPTION:Quarterly speaker meeting. Topic: ‘How I found my Inner Child’ \nMeeting ID: 811 825 3852 Passcode: jcv 2Vv \nSponsored by WEB0151
URL:https://acawso.org/calendar/speaker-meeting-tuesday-women-of-worth-in-recovery/
CATEGORIES:events
END:VEVENT
BEGIN:VEVENT
DTSTART;TZID=America/New_York:20250626T090000
DTEND;TZID=America/New_York:20250626T103000
DTSTAMP:20260422T163929
CREATED:20250303T203916Z
LAST-MODIFIED:20250303T203916Z
UID:10015792-1750928400-1750933800@acawso.org
SUMMARY:MSC Western Global Fellowship Meeting
DESCRIPTION:Meeting times: Americas 11am ET New York\, 8am PT California\, 4pm England\, 5pm France\, 5pm Spain\, 6pm Lithuania\, 6pm South Africa\, 6pm Egypt\, 7pm Moscow\, Russia \nTopic: MSC Western Fellowship Meeting \nJoin Zoom Meeting \nhttps://zoom.us/j/93603824987 \nMeeting ID: 936 0382 4987\nPasscode: 163248
URL:https://acawso.org/calendar/western-global-fellowship-meeting-msc-2/2025-06-26/
CATEGORIES:committees
END:VEVENT
BEGIN:VEVENT
DTSTART;TZID=America/New_York:20250626T100000
DTEND;TZID=America/New_York:20250626T110000
DTSTAMP:20260422T163929
CREATED:20250621T201446Z
LAST-MODIFIED:20250621T201903Z
UID:10016880-1750932000-1750935600@acawso.org
SUMMARY:ABC/CBM Agenda Working Group
DESCRIPTION:https://zoom.us/j/98614186885?pwd=1ljJ0WcWmfr1v9GQcxTko An8CTcrh.1\nMeeting ID: 986 1418 6885\nPasscode: ABC/QDM
URL:https://acawso.org/calendar/abc-cbm-agenda-working-group/
CATEGORIES:committees
END:VEVENT
BEGIN:VEVENT
DTSTART;TZID=America/New_York:20250626T143000
DTEND;TZID=America/New_York:20250626T160000
DTSTAMP:20260422T163929
CREATED:20250307T213321Z
LAST-MODIFIED:20250307T213322Z
UID:10015854-1750948200-1750953600@acawso.org
SUMMARY:Finance Committee
DESCRIPTION:The finance committee meets Thursdays from 2:30 pm ET – 4:00pm ET.  We are looking for members with business\, finance\, or bookkeeping experience. \n  \nPlease contact treasurer@adultchildren.org or finance@acawso.org if you are interested in visiting or joining the finance committee.
URL:https://acawso.org/calendar/finance-committee-2/2025-06-26/
CATEGORIES:committees
END:VEVENT
BEGIN:VEVENT
DTSTART;TZID=America/New_York:20250626T180000
DTEND;TZID=America/New_York:20250626T193000
DTSTAMP:20260422T163929
CREATED:20250626T221851Z
LAST-MODIFIED:20250626T221851Z
UID:10016940-1750960800-1750966200@acawso.org
SUMMARY:Ballot Prep Committee
DESCRIPTION:All are welcome. \nFor more information\, contact the committee at bpc@adultchildren.org \nZoom 2 ACAWSO is inviting you to a scheduled Zoom meeting. \nhttps://zoom.us/j/81531189155 \nMeeting ID: 815 3118 9155\nPasscode: 90755
URL:https://acawso.org/calendar/ballot-prep-committee-9/
CATEGORIES:committees
END:VEVENT
END:VCALENDAR