BEGIN:VCALENDAR
VERSION:2.0
PRODID:-//ACA WSO - ECPv6.15.20//NONSGML v1.0//EN
CALSCALE:GREGORIAN
METHOD:PUBLISH
X-ORIGINAL-URL:https://acawso.org
X-WR-CALDESC:Events for ACA WSO
REFRESH-INTERVAL;VALUE=DURATION:PT1H
X-Robots-Tag:noindex
X-PUBLISHED-TTL:PT1H
BEGIN:VTIMEZONE
TZID:America/New_York
BEGIN:DAYLIGHT
TZOFFSETFROM:-0500
TZOFFSETTO:-0400
TZNAME:EDT
DTSTART:20240310T070000
END:DAYLIGHT
BEGIN:STANDARD
TZOFFSETFROM:-0400
TZOFFSETTO:-0500
TZNAME:EST
DTSTART:20241103T060000
END:STANDARD
BEGIN:DAYLIGHT
TZOFFSETFROM:-0500
TZOFFSETTO:-0400
TZNAME:EDT
DTSTART:20250309T070000
END:DAYLIGHT
BEGIN:STANDARD
TZOFFSETFROM:-0400
TZOFFSETTO:-0500
TZNAME:EST
DTSTART:20251102T060000
END:STANDARD
BEGIN:DAYLIGHT
TZOFFSETFROM:-0500
TZOFFSETTO:-0400
TZNAME:EDT
DTSTART:20260308T070000
END:DAYLIGHT
BEGIN:STANDARD
TZOFFSETFROM:-0400
TZOFFSETTO:-0500
TZNAME:EST
DTSTART:20261101T060000
END:STANDARD
END:VTIMEZONE
BEGIN:VEVENT
DTSTART;TZID=America/New_York:20250515T123000
DTEND;TZID=America/New_York:20250515T140000
DTSTAMP:20260420T151300
CREATED:20210612T223946Z
LAST-MODIFIED:20210612T224144Z
UID:10004680-1747312200-1747317600@acawso.org
SUMMARY:Board Executive Committee
DESCRIPTION:The WSO Board’s Executive committee meets twice a month on the 1st and 3rd Thursdays at 12:30pm Eastern Time
URL:https://acawso.org/calendar/board-executive-committee/2025-05-15/
END:VEVENT
BEGIN:VEVENT
DTSTART;TZID=America/New_York:20250515T143000
DTEND;TZID=America/New_York:20250515T160000
DTSTAMP:20260420T151300
CREATED:20250307T213321Z
LAST-MODIFIED:20250307T213322Z
UID:10005802-1747319400-1747324800@acawso.org
SUMMARY:Finance Committee
DESCRIPTION:The finance committee meets Thursdays from 2:30 pm ET – 4:00pm ET.  We are looking for members with business\, finance\, or bookkeeping experience. \n  \nPlease contact treasurer@adultchildren.org or finance@acawso.org if you are interested in visiting or joining the finance committee.
URL:https://acawso.org/calendar/finance-committee-2/2025-05-15/
CATEGORIES:committees
END:VEVENT
BEGIN:VEVENT
DTSTART;TZID=America/New_York:20250515T161500
DTEND;TZID=America/New_York:20250515T171500
DTSTAMP:20260420T151300
CREATED:20240610T105549Z
LAST-MODIFIED:20240722T102939Z
UID:10013166-1747325700-1747329300@acawso.org
SUMMARY:Oral History Committee
DESCRIPTION:Oral History Committee meets on third Thursday of each month at 4:15pm Eastern. \nhttps://zoom.us/j/87931864867 \nMeeting ID: 879 3186 4867 \nPasscode: 076406
URL:https://acawso.org/calendar/oral-history-committee-2-2/2025-05-15/
CATEGORIES:committees
END:VEVENT
BEGIN:VEVENT
DTSTART;TZID=America/New_York:20250515T173000
DTEND;TZID=America/New_York:20250515T190000
DTSTAMP:20260420T151300
CREATED:20240710T195014Z
LAST-MODIFIED:20240710T203031Z
UID:10009945-1747330200-1747335600@acawso.org
SUMMARY:Concepts Study
DESCRIPTION:This ad hoc committee was created by the 2022 ABC. \nAll ACA’s are welcome \nZoom information: \nhttps://zoom.us/j/83429248013 \nMeeting ID: 834 2924 8013\nPasscode: 90755 \nCommittee’s page
URL:https://acawso.org/calendar/concepts-ii-and-vi-study-2-3-2/2025-05-15/
CATEGORIES:committees
END:VEVENT
BEGIN:VEVENT
DTSTART;TZID=America/New_York:20250516T140000
DTEND;TZID=America/New_York:20250518T140000
DTSTAMP:20260420T151300
CREATED:20250304T114405Z
LAST-MODIFIED:20250304T114405Z
UID:10015849-1747404000-1747576800@acawso.org
SUMMARY:Camp Recovery Retreat
DESCRIPTION:Sponsored by IG#715
URL:https://acawso.org/calendar/camp-recovery-retreat/
CATEGORIES:events
END:VEVENT
BEGIN:VEVENT
DTSTART;TZID=America/New_York:20250516T180000
DTEND;TZID=America/New_York:20250516T190000
DTSTAMP:20260420T151300
CREATED:20240805T174438Z
LAST-MODIFIED:20240805T174439Z
UID:10009441-1747418400-1747422000@acawso.org
SUMMARY:Data Analysis Committee
DESCRIPTION:Meeting in August moved to 9th of August to accomodate the August QDM. Please email data@acawso.org or post in data_request in Slack if have a request. \nData Analysis Committee meets every third Friday the month at  3 PM PDT\, 4 PM MDT\, 5 PM CDT\, 6 PM EDT\, Saturday at 5 AM Thailand/Vietnam\, 6 AM Singapore/Taiwan/China\, 7 AM Japan \nFor information how to attend please contact the committee.
URL:https://acawso.org/calendar/data-analysis-committee-2-2-2-2/2025-05-16/
CATEGORIES:committees
END:VEVENT
BEGIN:VEVENT
DTSTART;TZID=America/New_York:20250517T090000
DTEND;TZID=America/New_York:20250517T170000
DTSTAMP:20260420T151300
CREATED:20250510T024236Z
LAST-MODIFIED:20250510T024236Z
UID:10016612-1747472400-1747501200@acawso.org
SUMMARY:ACA Annual Business Conference (ABC)
DESCRIPTION:For more information\, please go to the Conference web page – and if your group does not have a Delegate\, the deadline is May 12th. \nThere is no deadline to be an Observer\, so sign up and check things out.
URL:https://acawso.org/calendar/aca-annual-business-conference-abc/
CATEGORIES:events
END:VEVENT
BEGIN:VEVENT
DTSTART;TZID=America/New_York:20250517T100000
DTEND;TZID=America/New_York:20250517T120000
DTSTAMP:20260420T151300
CREATED:20250426T112421Z
LAST-MODIFIED:20250426T112421Z
UID:10016341-1747476000-1747483200@acawso.org
SUMMARY:First Year Anniversary
DESCRIPTION:First Year Anniversary Meeting & Morning Potluck\nSaturday New Life ACA Meeting (PA0184)\nJoin us for a morning of connection\, recovery\, and community! \nA potluck breakfast followed by a speaker-led topic meeting:\nFeeling is Healing: A Path to Discovering Your Inner Parent\nWhere: Presbyterian Church of Newtown Square\n3600 Goshen Road\nNewtown Square\, PA 19073 \nWhen: Saturday\, May 17\, 2025 10-11:15am (Door Opens at 9:15am)\nCome celebrate recovery\, healing\, and the strength of our fellowship! \nSponsored by PA0184
URL:https://acawso.org/calendar/first-year-anniversary/
CATEGORIES:events
END:VEVENT
BEGIN:VEVENT
DTSTART;TZID=America/New_York:20250517T123000
DTEND;TZID=America/New_York:20250517T140000
DTSTAMP:20260420T151300
CREATED:20250426T032033Z
LAST-MODIFIED:20250827T230724Z
UID:10017588-1747485000-1747490400@acawso.org
SUMMARY:ABC/QDM Committee
DESCRIPTION:The ABC/AWC committee meets first and third Saturday from 12:30 to 2 pm EDT \nJoin Zoom Meeting\nhttps://us02web.zoom.us/j/87582913615?pwd=dWpPNVJPcVNiVjJxbGgzbFVwY05EZz09 \nMeeting ID: 875 8291 3615\nPasscode: ABC2022 \nContact abc@adultchildren.org for more details. \n 
URL:https://acawso.org/calendar/abc-awc-committee-4-2-3/2025-05-17/
CATEGORIES:committees
END:VEVENT
BEGIN:VEVENT
DTSTART;TZID=America/New_York:20250518T070000
DTEND;TZID=America/New_York:20250518T093000
DTSTAMP:20260420T151300
CREATED:20250517T192358Z
LAST-MODIFIED:20250517T192358Z
UID:10016642-1747551600-1747560600@acawso.org
SUMMARY:Traditions Workshop at Zoom RSC will host a Roundtable discussion on the 8th tradition of the ACA
DESCRIPTION:Russian Speaking Regional Service Committee #645 is happy to invite to attend open workshop on Twelve traditions. \nOn Sunday May\, 18 at 2:00 pm GMT+3 / 7:00 am ET we host a worksop with two speakers and Q&A session on Tradition Eight: \n “Adult Children of Alcoholics should remain forever non-professional\, but our service centers may employ special workers”. \nSpeakers will share their experience of applying Tradition 8 to programme\, work and relationships: \n14-00 – Monica S.(Brazil/Italy) \n15.30 – Alina G. (Russia) \nPlease\, join us via the Zoom link \nhttps://us06web.zoom.us/j/6261313985?omn=82846007137 \nSponsored by IG#645
URL:https://acawso.org/calendar/traditions-workshop-at-zoom-rsc-will-host-a-roundtable-discussion-on-the-8th-tradition-of-the-aca/
CATEGORIES:events
END:VEVENT
BEGIN:VEVENT
DTSTART;TZID=America/New_York:20250518T090000
DTEND;TZID=America/New_York:20250518T170000
DTSTAMP:20260420T151300
CREATED:20250512T154912Z
LAST-MODIFIED:20250512T154913Z
UID:10016613-1747558800-1747587600@acawso.org
SUMMARY:ACA Annual Business Conference (ABC)
DESCRIPTION:For more information\, please go to the Conference web page – and if your group does not have a Delegate\, the deadline is May 12th. \nThere is no deadline to be an Observer\, so sign up and check things out.
URL:https://acawso.org/calendar/aca-annual-business-conference-abc-2/
CATEGORIES:events
END:VEVENT
BEGIN:VEVENT
DTSTART;TZID=America/New_York:20250519T120000
DTEND;TZID=America/New_York:20250519T130000
DTSTAMP:20260420T151300
CREATED:20240812T161857Z
LAST-MODIFIED:20240812T161858Z
UID:10012115-1747656000-1747659600@acawso.org
SUMMARY:IT Website Redesign Working Group
DESCRIPTION:IT website redesign working group meetings every Monday at 12:00pm ET (US) \nContact:  itchair@acawso.org \nJoin Zoom Meeting\nhttps://us02web.zoom.us/j/83771567325 \nMeeting ID: 837 7156 7325\nPasscode: 088655
URL:https://acawso.org/calendar/it-website-redesign-working-group-2-2-2/2025-05-19/
CATEGORIES:committees
END:VEVENT
BEGIN:VEVENT
DTSTART;TZID=America/New_York:20250519T160000
DTEND;TZID=America/New_York:20250519T173000
DTSTAMP:20260420T151300
CREATED:20240812T161937Z
LAST-MODIFIED:20240812T161938Z
UID:10007524-1747670400-1747675800@acawso.org
SUMMARY:IT Committee
DESCRIPTION:IT Committee meets weekly on Monday at 4:00pm ET (US) \ncontact: itchair@acawso.org \nJoin Zoom Meeting \nhttps://us02web.zoom.us/j/89520227175 \nMeeting ID: 895 2022 7175\nPasscode: 90755\nOne tap mobile\n+19292056099\,\,89520227175# US (New York)\n+13126266799\,\,89520227175# US (Chicago) \nDial by your location\n+1 929 205 6099 US (New York)\n+1 312 626 6799 US (Chicago)\n+1 301 715 8592 US (Washington DC)\n+1 253 215 8782 US (Tacoma)\n+1 346 248 7799 US (Houston)\n+1 669 900 6833 US (San Jose)\nMeeting ID: 895 2022 7175\nFind your local number: https://us02web.zoom.us/u/kdrkCQ8UuT
URL:https://acawso.org/calendar/it-committee-2023-07-19-2-2-2/2025-05-19/
CATEGORIES:committees
END:VEVENT
BEGIN:VEVENT
DTSTART;TZID=America/New_York:20250520T100000
DTEND;TZID=America/New_York:20250520T120000
DTSTAMP:20260420T151300
CREATED:20241123T172658Z
LAST-MODIFIED:20250525T173350Z
UID:10014429-1747735200-1747742400@acawso.org
SUMMARY:Ready Set GO!!  Morning Series
DESCRIPTION:Ready Set GO!! is a 6-week introductory program of the ACA program\, the ACA 12 Steps and an introductory Inner Child Workshop “Awakening My Little One”. \nStarts May 20th and runs through June 24th. Each session lasts 2 hours. \nClick HERE to download the flyer and view all of the information you will need for Ready Set Go! (RSG) \nNote that our Thursday Evening series starts May 22nd and runs through June 26th.
URL:https://acawso.org/calendar/ready-set-go-morning-series-21/
CATEGORIES:events
END:VEVENT
BEGIN:VEVENT
DTSTART;TZID=America/New_York:20250520T170000
DTEND;TZID=America/New_York:20250520T183000
DTSTAMP:20260420T151300
CREATED:20240814T181038Z
LAST-MODIFIED:20251216T233353Z
UID:10013830-1747760400-1747765800@acawso.org
SUMMARY:ABC Study
DESCRIPTION:Please see our subcommittee homepage for more information \nThis Study Group meets weekly on Tuesdays at 5:00 pm Eastern. \nMeeting ID: 993 7036 0615\nPasscode: 182011 \nIf you have questions\, please email us at abcstudy@acawso.org.
URL:https://acawso.org/calendar/abc-study-4-2-2/2025-05-20/
CATEGORIES:committees
END:VEVENT
BEGIN:VEVENT
DTSTART;TZID=America/New_York:20250521T130000
DTEND;TZID=America/New_York:20250521T140000
DTSTAMP:20260420T151300
CREATED:20241121T204732Z
LAST-MODIFIED:20241121T204732Z
UID:10005460-1747832400-1747836000@acawso.org
SUMMARY:Translations Subcommittee
DESCRIPTION:Translation Subcommittee meets every 3rd Wednesday of the month at 1 pm ET/7 pm CET/ 6 pm GMT \n  \nMeeting ID: 879 0590 2057\nPasscode: 969814 \nAll are welcome!
URL:https://acawso.org/calendar/translations-subcommittee-2/2025-05-21/
CATEGORIES:committees
END:VEVENT
BEGIN:VEVENT
DTSTART;TZID=America/New_York:20250522T090000
DTEND;TZID=America/New_York:20250522T103000
DTSTAMP:20260420T151300
CREATED:20250303T203916Z
LAST-MODIFIED:20250303T203916Z
UID:10015791-1747904400-1747909800@acawso.org
SUMMARY:MSC Western Global Fellowship Meeting
DESCRIPTION:Meeting times: Americas 11am ET New York\, 8am PT California\, 4pm England\, 5pm France\, 5pm Spain\, 6pm Lithuania\, 6pm South Africa\, 6pm Egypt\, 7pm Moscow\, Russia \nTopic: MSC Western Fellowship Meeting \nJoin Zoom Meeting \nhttps://zoom.us/j/93603824987 \nMeeting ID: 936 0382 4987\nPasscode: 163248
URL:https://acawso.org/calendar/western-global-fellowship-meeting-msc-2/2025-05-22/
CATEGORIES:committees
END:VEVENT
BEGIN:VEVENT
DTSTART;TZID=America/New_York:20250522T190000
DTEND;TZID=America/New_York:20250522T210000
DTSTAMP:20260420T151300
CREATED:20241123T173138Z
LAST-MODIFIED:20250525T222734Z
UID:10014447-1747940400-1747947600@acawso.org
SUMMARY:Ready Set Go!! Evening Series
DESCRIPTION:Ready Set GO!! is a 6-week introductory program of the ACA program\, the ACA 12 Steps and an introductory Inner Child Workshop “Awakening My Little One”. \nStarts May 22nd and runs through June 26th. Each session lasts 2 hours. \nClick HERE to download the flyer and view all of the information you will need for Ready Set Go! (RSG) \nNote that our Tuesday Morning series starts May 20th and runs through June 24th.
URL:https://acawso.org/calendar/ready-set-go-evening-series-17/
CATEGORIES:events
END:VEVENT
BEGIN:VEVENT
DTSTART;TZID=America/New_York:20250523T200000
DTEND;TZID=America/New_York:20250523T210000
DTSTAMP:20260420T151300
CREATED:20250521T103810Z
LAST-MODIFIED:20250521T103810Z
UID:10016647-1748030400-1748034000@acawso.org
SUMMARY:My Twelve Steps Into ACA
DESCRIPTION:This is the fifth of six speaker meetings in the series\, My 12 Steps into ACA. \nEach speaker shares about other programs they are part of and how ACA fits into these other programs. \nSponsored by CA1181
URL:https://acawso.org/calendar/my-twelve-steps-into-aca/
CATEGORIES:events
END:VEVENT
BEGIN:VEVENT
DTSTART;TZID=America/New_York:20250524T090000
DTEND;TZID=America/New_York:20250524T160000
DTSTAMP:20260420T151300
CREATED:20250429T154700Z
LAST-MODIFIED:20250429T154700Z
UID:10016342-1748077200-1748102400@acawso.org
SUMMARY:ACA DAY 2025\, Deepening our program\, together
DESCRIPTION:Workshops based on art\, literature and connecting with other ACAs \nPrice includes\, breakfast\, lunch\, coffee\, snacks and art supplies. $45 for in-person only \nSponsored by IG#768
URL:https://acawso.org/calendar/aca-day-2025-deepening-our-program-together/
CATEGORIES:events
END:VEVENT
BEGIN:VEVENT
DTSTART;TZID=America/New_York:20250524T200000
DTEND;TZID=America/New_York:20250524T213000
DTSTAMP:20260420T151300
CREATED:20240212T162730Z
LAST-MODIFIED:20240212T162730Z
UID:10012402-1748116800-1748122200@acawso.org
SUMMARY:Big Red Book Working Group
DESCRIPTION:Zoom 2 ACAWSO is inviting you to a scheduled Zoom meeting.\nTopic: BRB Revision Working Group- Global East\nTime: Every month on the second and fourth Saturday at 8 PM Eastern US \nJoin Zoom Meeting\nhttps://zoom.us/j/92423141348\nMeeting ID: 924 2314 1348\nPasscode: 112358 \nPlease download and import the following iCalendar (.ics) files to your calendar system.\nMonthly: https://zoom.us/meeting/tJYpdeqpqjopHtwsBMOyTO0tAY5XaN4QYv7-/ics?icsToken=98tyKuCqqjkpG9CUsx2PRowQBojob-vwiH5egrdKjz3ILDlnTVPiF9sXCrNRROnp
URL:https://acawso.org/calendar/big-red-book-working-group/2025-05-24/
CATEGORIES:committees
END:VEVENT
BEGIN:VEVENT
DTSTART;TZID=America/New_York:20250526T110000
DTEND;TZID=America/New_York:20250526T123000
DTSTAMP:20260420T151300
CREATED:20241230T113323Z
LAST-MODIFIED:20241230T113324Z
UID:10014642-1748257200-1748262600@acawso.org
SUMMARY:Regions Intergroups Subcommittee
DESCRIPTION:Regions Intergroups Subcommittee meets every month on the fourth Monday for approximately one hour by Zoom teleconference at 11:00AM Eastern Time. \nhttps://zoom.us/j/96414155183\nMeeting ID: 964 1415 5183\nPasscode: 308405
URL:https://acawso.org/calendar/regions-subcommittee-2-2-2-2-2/2025-05-26/
CATEGORIES:committees
END:VEVENT
BEGIN:VEVENT
DTSTART;TZID=America/New_York:20250526T110000
DTEND;TZID=America/New_York:20250526T123000
DTSTAMP:20260420T151300
CREATED:20241230T113423Z
LAST-MODIFIED:20241230T113424Z
UID:10014702-1748257200-1748262600@acawso.org
SUMMARY:Members Services Committee
DESCRIPTION:The WSO Member Services Committee (MSC) is looking for volunteers to help assist\, support\, and communicate with the worldwide ACA membership. \nWe meet every month on the fourth Monday for approximately one hour by Zoom teleconference at 11:00AM Eastern Time. \n. \n\n\n\n\n\n\n\n\n\n\n\n\n\n\n\n\n\n\n\n\nJoin Zoom Meeting\nhttps://zoom.us/j/96414155183\nMeeting ID: 964 1415 5183\nPasscode: 308405
URL:https://acawso.org/calendar/members-services-re-vision-3-2-2-2/2025-05-26/
CATEGORIES:committees
END:VEVENT
BEGIN:VEVENT
DTSTART;TZID=America/New_York:20250526T110000
DTEND;TZID=America/New_York:20250526T123000
DTSTAMP:20260420T151300
CREATED:20241230T113530Z
LAST-MODIFIED:20241230T113531Z
UID:10014762-1748257200-1748262600@acawso.org
SUMMARY:Young Adults & Teens Subcommittee
DESCRIPTION:YAT SC meeting is on every 4th Monday of the month on Zoom 2 – from 11:00AM to 12:30AM Eeastern \n  \nhttps://zoom.us/j/96414155183\nMeeting ID: 964 1415 5183\nPasscode: 308405
URL:https://acawso.org/calendar/young-adults-teens-subcommittee-2-2-2-2-2/2025-05-26/
CATEGORIES:committees
END:VEVENT
BEGIN:VEVENT
DTSTART;TZID=America/New_York:20250526T120000
DTEND;TZID=America/New_York:20250526T130000
DTSTAMP:20260420T151300
CREATED:20240812T161857Z
LAST-MODIFIED:20240812T161858Z
UID:10012116-1748260800-1748264400@acawso.org
SUMMARY:IT Website Redesign Working Group
DESCRIPTION:IT website redesign working group meetings every Monday at 12:00pm ET (US) \nContact:  itchair@acawso.org \nJoin Zoom Meeting\nhttps://us02web.zoom.us/j/83771567325 \nMeeting ID: 837 7156 7325\nPasscode: 088655
URL:https://acawso.org/calendar/it-website-redesign-working-group-2-2-2/2025-05-26/
CATEGORIES:committees
END:VEVENT
BEGIN:VEVENT
DTSTART;TZID=America/New_York:20250526T160000
DTEND;TZID=America/New_York:20250526T173000
DTSTAMP:20260420T151300
CREATED:20240812T161937Z
LAST-MODIFIED:20240812T161938Z
UID:10010167-1748275200-1748280600@acawso.org
SUMMARY:IT Committee
DESCRIPTION:IT Committee meets weekly on Monday at 4:00pm ET (US) \ncontact: itchair@acawso.org \nJoin Zoom Meeting \nhttps://us02web.zoom.us/j/89520227175 \nMeeting ID: 895 2022 7175\nPasscode: 90755\nOne tap mobile\n+19292056099\,\,89520227175# US (New York)\n+13126266799\,\,89520227175# US (Chicago) \nDial by your location\n+1 929 205 6099 US (New York)\n+1 312 626 6799 US (Chicago)\n+1 301 715 8592 US (Washington DC)\n+1 253 215 8782 US (Tacoma)\n+1 346 248 7799 US (Houston)\n+1 669 900 6833 US (San Jose)\nMeeting ID: 895 2022 7175\nFind your local number: https://us02web.zoom.us/u/kdrkCQ8UuT
URL:https://acawso.org/calendar/it-committee-2023-07-19-2-2-2/2025-05-26/
CATEGORIES:committees
END:VEVENT
BEGIN:VEVENT
DTSTART;TZID=America/New_York:20250527T170000
DTEND;TZID=America/New_York:20250527T183000
DTSTAMP:20260420T151300
CREATED:20240814T181038Z
LAST-MODIFIED:20251216T233353Z
UID:10013831-1748365200-1748370600@acawso.org
SUMMARY:ABC Study
DESCRIPTION:Please see our subcommittee homepage for more information \nThis Study Group meets weekly on Tuesdays at 5:00 pm Eastern. \nMeeting ID: 993 7036 0615\nPasscode: 182011 \nIf you have questions\, please email us at abcstudy@acawso.org.
URL:https://acawso.org/calendar/abc-study-4-2-2/2025-05-27/
CATEGORIES:committees
END:VEVENT
BEGIN:VEVENT
DTSTART;TZID=America/New_York:20250529T143000
DTEND;TZID=America/New_York:20250529T160000
DTSTAMP:20260420T151300
CREATED:20250307T213321Z
LAST-MODIFIED:20250307T213322Z
UID:10015852-1748529000-1748534400@acawso.org
SUMMARY:Finance Committee
DESCRIPTION:The finance committee meets Thursdays from 2:30 pm ET – 4:00pm ET.  We are looking for members with business\, finance\, or bookkeeping experience. \n  \nPlease contact treasurer@adultchildren.org or finance@acawso.org if you are interested in visiting or joining the finance committee.
URL:https://acawso.org/calendar/finance-committee-2/2025-05-29/
CATEGORIES:committees
END:VEVENT
BEGIN:VEVENT
DTSTART;TZID=America/New_York:20250530T093000
DTEND;TZID=America/New_York:20250530T113000
DTSTAMP:20260420T151300
CREATED:20250514T104841Z
LAST-MODIFIED:20250514T104841Z
UID:10016641-1748597400-1748604600@acawso.org
SUMMARY:Publishing Committee
DESCRIPTION:Publishing Committee \nWe meet on Fridays once a month on the 4th Friday of each month. \n \nTime: 6:30 am PDT\, 9:30 am EDT\, 2:30 pm UK/GBST\, 3:30 pm CET \, 3:30 pm SAST\, 7:00 pm India \nMeeting ID: 857 7189 3168\nPasscode: 382777 \nAny questions\, contact Sue V at publishingchair@acawso.org  or on slack \n 
URL:https://acawso.org/calendar/publishing-committee-3-2/2025-05-30/
CATEGORIES:committees
END:VEVENT
BEGIN:VEVENT
DTSTART;TZID=America/New_York:20250531T130000
DTEND;TZID=America/New_York:20250531T150000
DTSTAMP:20260420T151300
CREATED:20250531T170847Z
LAST-MODIFIED:20250531T170847Z
UID:10016739-1748696400-1748703600@acawso.org
SUMMARY:ABC Dance Party and Debrief
DESCRIPTION:Dance Party & Debriefing-All volunteers\, observers and delegates are invited. \nJoin Zoom Meeting\nhttps://zoom.us/j/97188643927?pwd=KdQv5CbSpoqd0Sw5ozqvnol1QmoHwl.1Meeting ID: 971 8864 3927\nPasscode: 25ABCdance
URL:https://acawso.org/calendar/abc-dance-party-and-debrief/
CATEGORIES:committees
END:VEVENT
END:VCALENDAR