BEGIN:VCALENDAR
VERSION:2.0
PRODID:-//ACA WSO - ECPv6.15.20//NONSGML v1.0//EN
CALSCALE:GREGORIAN
METHOD:PUBLISH
X-WR-CALNAME:ACA WSO
X-ORIGINAL-URL:https://acawso.org
X-WR-CALDESC:Events for ACA WSO
REFRESH-INTERVAL;VALUE=DURATION:PT1H
X-Robots-Tag:noindex
X-PUBLISHED-TTL:PT1H
BEGIN:VTIMEZONE
TZID:America/New_York
BEGIN:DAYLIGHT
TZOFFSETFROM:-0500
TZOFFSETTO:-0400
TZNAME:EDT
DTSTART:20230312T070000
END:DAYLIGHT
BEGIN:STANDARD
TZOFFSETFROM:-0400
TZOFFSETTO:-0500
TZNAME:EST
DTSTART:20231105T060000
END:STANDARD
BEGIN:DAYLIGHT
TZOFFSETFROM:-0500
TZOFFSETTO:-0400
TZNAME:EDT
DTSTART:20240310T070000
END:DAYLIGHT
BEGIN:STANDARD
TZOFFSETFROM:-0400
TZOFFSETTO:-0500
TZNAME:EST
DTSTART:20241103T060000
END:STANDARD
BEGIN:DAYLIGHT
TZOFFSETFROM:-0500
TZOFFSETTO:-0400
TZNAME:EDT
DTSTART:20250309T070000
END:DAYLIGHT
BEGIN:STANDARD
TZOFFSETFROM:-0400
TZOFFSETTO:-0500
TZNAME:EST
DTSTART:20251102T060000
END:STANDARD
END:VTIMEZONE
BEGIN:VEVENT
DTSTART;TZID=America/New_York:20240118T143000
DTEND;TZID=America/New_York:20240118T160000
DTSTAMP:20260421T074246
CREATED:20221215T201448Z
LAST-MODIFIED:20221215T201448Z
UID:10005733-1705588200-1705593600@acawso.org
SUMMARY:Finance Committee
DESCRIPTION:The finance committee meets Thursdays from 2:30 pm ET – 4:00pm ET.  We are looking for members with business\, finance\, or bookkeeping experience. \n  \nPlease contact treasurer@adultchildren.org or finance@acawso.org if you are interested in visiting or joining the finance committee.
URL:https://acawso.org/calendar/finance-committee/2024-01-18/
CATEGORIES:committees
END:VEVENT
BEGIN:VEVENT
DTSTART;TZID=America/New_York:20240118T123000
DTEND;TZID=America/New_York:20240118T140000
DTSTAMP:20260421T074246
CREATED:20210612T223946Z
LAST-MODIFIED:20210612T224144Z
UID:10004664-1705581000-1705586400@acawso.org
SUMMARY:Board Executive Committee
DESCRIPTION:The WSO Board’s Executive committee meets twice a month on the 1st and 3rd Thursdays at 12:30pm Eastern Time
URL:https://acawso.org/calendar/board-executive-committee/2024-01-18/
END:VEVENT
BEGIN:VEVENT
DTSTART;TZID=America/New_York:20240117T130000
DTEND;TZID=America/New_York:20240117T140000
DTSTAMP:20260421T074246
CREATED:20220618T101140Z
LAST-MODIFIED:20240326T160315Z
UID:10005444-1705496400-1705500000@acawso.org
SUMMARY:Translations Subcommittee
DESCRIPTION:Translation Subcommittee meets every 3rd Wednesday of the month at 1 pm ET/7 pm CET/ 6 pm GMT \n  \nMeeting ID: 879 0590 2057\nPasscode: 969814 \nAll are welcome!
URL:https://acawso.org/calendar/translations-subcommittee/2024-01-17/
CATEGORIES:committees
END:VEVENT
BEGIN:VEVENT
DTSTART;TZID=America/New_York:20240116T170000
DTEND;TZID=America/New_York:20240116T183000
DTSTAMP:20260421T074246
CREATED:20240103T054315Z
LAST-MODIFIED:20240103T054315Z
UID:10011853-1705424400-1705429800@acawso.org
SUMMARY:ABC Study
DESCRIPTION:This Study Group meets twice per month: on the 1st and the 3rd Tuesdays at 5:00 pm Eastern. \nMeeting details:\nhttps://zoom.us/j/99370360615?pwd=cTNYZVNEd0ZFaWFEeCtPZEZCS2F5UT09 \nMeeting ID: 993 7036 0615\nPasscode: 182011 \nIf you have questions\, please email us at abcstudy@acawso.org.
URL:https://acawso.org/calendar/abc-study-5/2024-01-16/
CATEGORIES:committees
END:VEVENT
BEGIN:VEVENT
DTSTART;TZID=America/New_York:20240116T160000
DTEND;TZID=America/New_York:20240116T170000
DTSTAMP:20260421T074246
CREATED:20221219T222535Z
LAST-MODIFIED:20230227T220558Z
UID:10005845-1705420800-1705424400@acawso.org
SUMMARY:Business IT Subcommittee
DESCRIPTION:The Business IT Subcommittee meets every other Tuesday at 4PM ET (US) \nThe subcommittee is looking for volunteers who would like to help to research the technologies used across ACA WSO. \nContact itchair@acawso.org \nJoin Zoom Meeting\nhttps://us02web.zoom.us/j/81175076902 \nMeeting ID: 811 7507 6902\nPasscode: 707793
URL:https://acawso.org/calendar/business-it-subcommittee-2-2023-01-03/2024-01-16/
CATEGORIES:committees
END:VEVENT
BEGIN:VEVENT
DTSTART;TZID=America/New_York:20240115T160000
DTEND;TZID=America/New_York:20240115T173000
DTSTAMP:20260421T074246
CREATED:20231211T221919Z
LAST-MODIFIED:20231211T221919Z
UID:10007454-1705334400-1705339800@acawso.org
SUMMARY:IT Committee
DESCRIPTION:IT Committee meets weekly on Monday at 4:00pm ET (US) \ncontact: itchair@acawso.org \nJoin Zoom Meeting \nhttps://us02web.zoom.us/j/89520227175 \nMeeting ID: 895 2022 7175\nPasscode: 90755\nOne tap mobile\n+19292056099\,\,89520227175# US (New York)\n+13126266799\,\,89520227175# US (Chicago) \nDial by your location\n+1 929 205 6099 US (New York)\n+1 312 626 6799 US (Chicago)\n+1 301 715 8592 US (Washington DC)\n+1 253 215 8782 US (Tacoma)\n+1 346 248 7799 US (Houston)\n+1 669 900 6833 US (San Jose)\nMeeting ID: 895 2022 7175\nFind your local number: https://us02web.zoom.us/u/kdrkCQ8UuT
URL:https://acawso.org/calendar/it-committee-2023-07-19-2-2/2024-01-15/
CATEGORIES:committees
END:VEVENT
BEGIN:VEVENT
DTSTART;TZID=America/New_York:20240115T120000
DTEND;TZID=America/New_York:20240115T130000
DTSTAMP:20260421T074246
CREATED:20240130T212553Z
LAST-MODIFIED:20240130T212553Z
UID:10012045-1705320000-1705323600@acawso.org
SUMMARY:IT Website Redesign Working Group
DESCRIPTION:IT website redesign working group meetings every Monday at 12:00pm ET (US) \nContact:  itchair@acawso.org \nJoin Zoom Meeting\nhttps://us02web.zoom.us/j/83771567325 \nMeeting ID: 837 7156 7325\nPasscode: 088655
URL:https://acawso.org/calendar/it-website-redesign-working-group-2-2/2024-01-15/
CATEGORIES:committees
END:VEVENT
BEGIN:VEVENT
DTSTART;TZID=America/New_York:20240115T090000
DTEND;TZID=America/New_York:20240115T100000
DTSTAMP:20260421T074246
CREATED:20230524T174443Z
LAST-MODIFIED:20230524T174443Z
UID:10007302-1705309200-1705312800@acawso.org
SUMMARY:Lit Evaluation Subcommittee
DESCRIPTION:Literature Evaluation meets the 3rd Monday of each month at 09:00 am EDT as well as the 1st Saturday of each month\, 12:45pm-1:45pm ET. \ncontact: liteval@acawso.org \nhttps://us02web.zoom.us/j/86113897454?pwd=UitVN2tHb1E1STJ5YXlWYU1mZXZ5Zz09 \nMeeting ID: 861 1389 7454\nPasscode: 127253
URL:https://acawso.org/calendar/lit-evaluation-subcommittee/2024-01-15/
CATEGORIES:committees
END:VEVENT
BEGIN:VEVENT
DTSTART;TZID=America/New_York:20240114T160000
DTEND;TZID=America/New_York:20240114T173000
DTSTAMP:20260421T074246
CREATED:20240210T203415Z
LAST-MODIFIED:20240521T195208Z
UID:10010382-1705248000-1705253400@acawso.org
SUMMARY:Volunteer Resources Committee
DESCRIPTION:Starting on October\, the VRC meets on the second Sunday of the month at 4pm ET on Zoom 3. \nJoin Zoom Meeting\nhttps://us02web.zoom.us/j/86938075882?pwd=MzlFV0RYUkc2UUt4dGRid3dqN1FNdz09 \nMeeting ID: 869 3807 5882\nPasscode: 656656 \nPlease contact us at vrc@acawso.org if you would like more information.
URL:https://acawso.org/calendar/volunteer-resources-committee-2-2-2/2024-01-14/
CATEGORIES:committees
END:VEVENT
BEGIN:VEVENT
DTSTART;TZID=America/New_York:20240113T210000
DTEND;TZID=America/New_York:20240113T223000
DTSTAMP:20260421T074246
CREATED:20230621T213949Z
LAST-MODIFIED:20231214T134245Z
UID:10011665-1705179600-1705185000@acawso.org
SUMMARY:BRB Revision Working Group- Global East
DESCRIPTION:Zoom 2 ACAWSO is inviting you to a scheduled Zoom meeting.\nTopic: BRB Revision Working Group- Global East\nTime: Every month on the Second Saturday at 09:00 PM Central Time (US and Canada) \nJoin Zoom Meeting\nhttps://zoom.us/j/92423141348\nMeeting ID: 924 2314 1348\nPasscode: 112358 \nPlease download and import the following iCalendar (.ics) files to your calendar system.\nMonthly: https://zoom.us/meeting/tJYpdeqpqjopHtwsBMOyTO0tAY5XaN4QYv7-/ics?icsToken=98tyKuCqqjkpG9CUsx2PRowQBojob-vwiH5egrdKjz3ILDlnTVPiF9sXCrNRROnp
URL:https://acawso.org/calendar/brb-revision-working-group-global-east/2024-01-13/
CATEGORIES:committees
END:VEVENT
BEGIN:VEVENT
DTSTART;TZID=America/New_York:20240113T134000
DTEND;TZID=America/New_York:20240113T135500
DTSTAMP:20260421T074246
CREATED:20230815T153631Z
LAST-MODIFIED:20230815T153631Z
UID:10009853-1705153200-1705154100@acawso.org
SUMMARY:Meet & Greet with the Volunteer Resource Committee
DESCRIPTION:Meet & Greet\, with the Volunteer Resource Committee\nOur purpose is to provide a casual space to ask questions about volunteering within various WSO Committees\, finding clarity in each others’ experience\, strength and hope; and to promote healthy functioning in WSO committees.When will we meet?\n\nIf a Board Teleconference is planned for that month\, we will meet 20 minutes before the meeting\, from 1:40 – 1:55 pm ET\, or\nIf a Board Teleconference is canceled that month\, we will meet for 30 minutes beginning at the usual Teleconference time\, from 2:00 – 2:30 pm ET\n\nWhere do we meet?\nZoom 3\nMeeting ID: 869 3807 5882\nPasscode: 656656
URL:https://acawso.org/calendar/meet-greet-with-the-volunteer-resource-committee/2024-01-13/
CATEGORIES:committees,events
END:VEVENT
BEGIN:VEVENT
DTSTART;TZID=America/New_York:20240113T110000
DTEND;TZID=America/New_York:20240113T123000
DTSTAMP:20260421T074246
CREATED:20230621T213629Z
LAST-MODIFIED:20230621T213721Z
UID:10008895-1705143600-1705149000@acawso.org
SUMMARY:BRB Revision Working Group- Global West
DESCRIPTION:Zoom 2 ACAWSO is inviting you to a scheduled Zoom meeting.\nTopic: BRB Revision Working Group- Global West\nTime: Every month on the Second Saturday at 10:00 AM Central Time (US and Canada) \nJoin Zoom Meeting\nhttps://zoom.us/j/93510355182\nMeeting ID: 935 1035 5182\nPasscode: 112358 \nPlease download and import the following iCalendar (.ics) files to your calendar system.\nMonthly: https://zoom.us/meeting/tJcodumrqz4rEtZUnkIyfvEN9NZUbMNxnXw9/ics?icsToken=98tyKuCrqzoqGdGQsRGFRowqGYj4c-nwmCVcj7dnqRHuKjlVdCbYb8x4B7BSPsDe
URL:https://acawso.org/calendar/brb-revision-working-group-global-west/2024-01-13/
CATEGORIES:committees
END:VEVENT
BEGIN:VEVENT
DTSTART;TZID=America/New_York:20240111T200000
DTEND;TZID=America/New_York:20240111T220000
DTSTAMP:20260421T074246
CREATED:20231101T194347Z
LAST-MODIFIED:20231205T221154Z
UID:10011540-1705003200-1705010400@acawso.org
SUMMARY:Ready Set GO!!  Evening Series
DESCRIPTION:Download Flyer Here \n\n		\n			\n			\n		\n\n		\nReady Set GO!! is a 6-week introductory program of the ACA program\, the ACA 12 Steps and an introductory Inner Child Workshop “Awakening My Little One”. \nRSG is a meeting/workshop with: \n\nMembers volunteering to be the leader will read the leader’s parts of the RSG material while other volunteer members will read the other parts as we screen share the RSG script.\nMembers will have 2 fifteen minute sharing times with 3 minute shares for each member using breakout rooms.\n\nOccasionally the leader will ask members for brief questions about the readings and the leader or others at the meeting may respond with brief answers. (Time is limited) \nRSG’s weekly schedule:\nWeek 1: Introduction\, Steps 1\, 2\, 3\nWeek 2: Steps 4\, 5\nWeek 3: Steps 6\, 7\, 8\, 9\nWeek 4: Steps 10\, 11\, 12\nWeek 5: RSG Inner Child Workshop\nWeek 6: RSG Inner Child Workshop \nClick on the link and then click on: open the link\, or copy and paste \nHere is the link for your RSG material: including dated flyers for: https://drive.google.com/drive/folders/1pAjkUD35MtBbKZzRG2Jmyhh1BLxaaFpA?ths=true \nPlease read the PARTICIPANT_PREPARATION_RSG_pdf first\, then the flyer. \nThe first week after the closing of the meeting we will discuss RSG Sharing Partner/ Outreach List. Time permitting\, we will have a Q&A of ACA and RSG. \nAll RSG introductory meetings/workshop are registered and closed meetings (ACA members only). \nRSG has been developed especially to support newcomers\, while also being beneficial to the experienced member. \nOur RSG online/telephone meeting ID# for this session is WEB1119. \nIn accordance with the 7th Tradition: \nTo contribute directly to WSO: \n\nBy Venmo to @acawso\nOnline at https://adultchildren.org/7th-tradition/\nBy calling 562-595-7831\nBy mail\, check payable to ACA WSO\, PO Box 811 Lakewood\, CA 90714\n\nPlease also consider contributing to our sponsoring intergroup WEST GREAT LAKES ACA INTERGROUP\, IG#70 at westgreatlakesaca.org \nThank you for supporting ACA and the World Service Organization. Contribute only what you can afford. All amounts\, no matter the size\, are important to our tradition of self-support through our own contributions and to your own recovery. \nNewcomers are encouraged to buy literature or books and are welcome to contribute to the 7th tradition when they are ready. \nContacts: \nToni P: acatoni5617@comcast.net\nMargaret H: readysetgo.pa19@gmail.com\nComments: rsg@acawso.org \n  \nOur RSG online/phone Meeting ID# for this sessions is WEB1120. \nThursdays\, \n7:00pm CT\, 8:00pm ET\, 5:00pm PT\, 6:00pm MT \nDec\, 7\, 14\, 21\, 28\, 2023\, Jan 4\, 11\, 2024\nJan\, 25\, Feb 1\, 8\, 15\, 22\, 29\, 2024 \nClick on the link and then click on: open the link\, or Copy and paste to find your own time zone: https://time.is/0900AM_17_Oct_2023_in_CT/ET/England/Romania/Australia/Austria/South_Africa/India/Canada/Italy/Sweden? RSG_Tuesdays_Oct_17_thru_Nov_21\,_2023..Dec_5_2023_thru_Jan_9\,_2024..Jan_23_thru_Feb_27\,_2024
URL:https://acawso.org/calendar/ready-set-go-evening-series-9/2024-01-11/
CATEGORIES:events
END:VEVENT
BEGIN:VEVENT
DTSTART;TZID=America/New_York:20240111T150000
DTEND;TZID=America/New_York:20240111T163000
DTSTAMP:20260421T074246
CREATED:20231026T174043Z
LAST-MODIFIED:20240114T214823Z
UID:10011948-1704985200-1704990600@acawso.org
SUMMARY:Ballot Prep Commitee
DESCRIPTION:Ballot Prep Committee meets on the first and third Thursday of each month at 3:00pm ET \nZoom 2 ACAWSO is inviting you to a scheduled Zoom meeting. \nhttps://zoom.us/j/81531189155 \nMeeting ID: 815 3118 9155\nPasscode: 90755
URL:https://acawso.org/calendar/ballot-prep-commitee-2-2/2024-01-11/
CATEGORIES:committees
END:VEVENT
BEGIN:VEVENT
DTSTART;TZID=America/New_York:20240111T150000
DTEND;TZID=America/New_York:20240111T163000
DTSTAMP:20260421T074246
CREATED:20231022T055357Z
LAST-MODIFIED:20231022T055358Z
UID:10013580-1704985200-1704990600@acawso.org
SUMMARY:Ballot Prep Committee
DESCRIPTION:Ballot Prep Committee meets on the first and third Thursday of each month at 3:00pm ET \nAdditional meetings may be scheduled during October and November. \nFor more information\, contact the committee at bpc@adultchildren.org \nZoom 2 ACAWSO is inviting you to a scheduled Zoom meeting. \nhttps://zoom.us/j/81531189155 \nMeeting ID: 815 3118 9155\nPasscode: 90755
URL:https://acawso.org/calendar/ballot-prep-committee-2-2-2-2/2024-01-11/
CATEGORIES:committees
END:VEVENT
BEGIN:VEVENT
DTSTART;TZID=America/New_York:20240111T143000
DTEND;TZID=America/New_York:20240111T160000
DTSTAMP:20260421T074246
CREATED:20221215T201448Z
LAST-MODIFIED:20221215T201448Z
UID:10005732-1704983400-1704988800@acawso.org
SUMMARY:Finance Committee
DESCRIPTION:The finance committee meets Thursdays from 2:30 pm ET – 4:00pm ET.  We are looking for members with business\, finance\, or bookkeeping experience. \n  \nPlease contact treasurer@adultchildren.org or finance@acawso.org if you are interested in visiting or joining the finance committee.
URL:https://acawso.org/calendar/finance-committee/2024-01-11/
CATEGORIES:committees
END:VEVENT
BEGIN:VEVENT
DTSTART;TZID=America/New_York:20240111T130000
DTEND;TZID=America/New_York:20240111T140000
DTSTAMP:20260421T074246
CREATED:20230524T174119Z
LAST-MODIFIED:20240521T193905Z
UID:10012923-1704978000-1704981600@acawso.org
SUMMARY:Public Services with H&I Committee
DESCRIPTION:The Public Services Committee is now meeting on the 2nd Thursday monthly at 1:00 PM Eastern. \nJoin Zoom Meeting\nhttps://us02web.zoom.us/j/84770678588 \nMeeting ID: 847 7067 8588\nPasscode: 1978 \nFind your local number: https://us02web.zoom.us/u/kelv4LyGf0 \nWe are holding a combined meeting with the Hospitals and Intuitions subcommittee. https://acawso.org/category/public-information/
URL:https://acawso.org/calendar/public-services-with-hi-committee-2/2024-01-11/
CATEGORIES:committees
END:VEVENT
BEGIN:VEVENT
DTSTART;TZID=America/New_York:20240111T121500
DTEND;TZID=America/New_York:20240111T141500
DTSTAMP:20260421T074246
CREATED:20230524T174441Z
LAST-MODIFIED:20230524T174441Z
UID:10007136-1704975300-1704982500@acawso.org
SUMMARY:Board Working Session
DESCRIPTION:The WSO has a board members meeting twice a month (2nd and 4th Thursdays at 12:15pm Eastern Time) to work on motions and review committee objectives and progress.
URL:https://acawso.org/calendar/board-working-session-2023-06-01/2024-01-11/
CATEGORIES:committees
END:VEVENT
BEGIN:VEVENT
DTSTART;TZID=America/New_York:20240109T160000
DTEND;TZID=America/New_York:20240109T170000
DTSTAMP:20260421T074246
CREATED:20221208T214715Z
LAST-MODIFIED:20230320T204556Z
UID:10005640-1704816000-1704819600@acawso.org
SUMMARY:IT Policies Procedures Working Group
DESCRIPTION:Topic: IT Procedures\nWorking Group meets every other Tuesday at 04:00 PM Eastern Time (US and Canada)\nMeeting ID: https://us02web.zoom.us/j/81018252231 \nMeeting ID: 810 1825 2231\nPasscode: 13579 \nPlease download and import the following iCalendar (.ics) files to your calendar system.\nWeekly: https://us02web.zoom.us/meeting/tZUtduGqqzkoGdUYEt-Ir-vEeTRKMxPC0tE0/ics?icsToken=98tyKuGprjoiGNGXshqGRpwcAoj4WerwmHpBjadopTrxTglBLxXTM9ZwGZ9nIPuA
URL:https://acawso.org/calendar/it-policies-procedures-subcommittee/2024-01-09/
CATEGORIES:committees
END:VEVENT
BEGIN:VEVENT
DTSTART;TZID=America/New_York:20240109T140000
DTEND;TZID=America/New_York:20240109T153000
DTSTAMP:20260421T074246
CREATED:20220902T154208Z
LAST-MODIFIED:20220902T154208Z
UID:10007876-1704808800-1704814200@acawso.org
SUMMARY:Archives Committee Meeting
DESCRIPTION:Join the Archives Committee at \nhttps://us02web.zoom.us/j/89913165113 \nMeeting ID: 899 1316 5113\nPasscode: 495053
URL:https://acawso.org/calendar/archives-committee-meeting/2024-01-09/
END:VEVENT
BEGIN:VEVENT
DTSTART;TZID=America/New_York:20240109T100000
DTEND;TZID=America/New_York:20240109T120000
DTSTAMP:20260421T074246
CREATED:20231023T164826Z
LAST-MODIFIED:20231205T221054Z
UID:10010874-1704794400-1704801600@acawso.org
SUMMARY:Ready Set GO!!  Morning Series
DESCRIPTION:Download Flyer Here \n\n		\n			\n			\n		\n\n		\nReady Set GO!! is a 6-week introductory program of the ACA program\, the ACA 12 Steps and an introductory Inner Child Workshop “Awakening My Little One”. \nRSG is a meeting/workshop with: \n\nMembers volunteering to be the leader will read the leader’s parts of the RSG material while other volunteer members will read the other parts as we screen share the RSG script.\nMembers will have 2 fifteen minute sharing times with 3 minute shares for each member using breakout rooms.\n\nOccasionally the leader will ask members for brief questions about the readings and the leader or others at the meeting may respond with brief answers. (Time is limited) \nRSG’s weekly schedule:\nWeek 1: Introduction\, Steps 1\, 2\, 3\nWeek 2: Steps 4\, 5\nWeek 3: Steps 6\, 7\, 8\, 9\nWeek 4: Steps 10\, 11\, 12\nWeek 5: RSG Inner Child Workshop\nWeek 6: RSG Inner Child Workshop \nClick on the link and then click on: open the link\, or copy and paste \nHere is the link for your RSG material: including dated flyers for: https://drive.google.com/drive/folders/1pAjkUD35MtBbKZzRG2Jmyhh1BLxaaFpA?ths=true \nPlease read the PARTICIPANT_PREPARATION_RSG_pdf first\, then the flyer. \nThe first week after the closing of the meeting we will discuss RSG Sharing Partner/ Outreach List. Time permitting\, we will have a Q&A of ACA and RSG. \nAll RSG introductory meetings/workshop are registered and closed meetings (ACA members only). \nRSG has been developed especially to support newcomers\, while also being beneficial to the experienced member. \nOur RSG online/telephone meeting ID# for this session is WEB1119. \nIn accordance with the 7th Tradition: \nTo contribute directly to WSO: \n\nBy Venmo to @acawso\nOnline at https://adultchildren.org/7th-tradition/\nBy calling 562-595-7831\nBy mail\, check payable to ACA WSO\, PO Box 811 Lakewood\, CA 90714\n\nPlease also consider contributing to our sponsoring intergroup WEST GREAT LAKES ACA INTERGROUP\, IG#70 at westgreatlakesaca.org \nThank you for supporting ACA and the World Service Organization. Contribute only what you can afford. All amounts\, no matter the size\, are important to our tradition of self-support through our own contributions and to your own recovery. \nNewcomers are encouraged to buy literature or books and are welcome to contribute to the 7th tradition when they are ready. \nContacts: \nToni P: acatoni5617@comcast.net\nMargaret H: readysetgo.pa19@gmail.com\nComments: rsg@acawso.org \n  \nOur RSG online/phone Meeting ID# for this sessions is WEB1119. \nTuesdays\, \n9:00am CT\, 10am ET\, 7:00am PT\, 8:00am MT \nDec\, 5\, 12\, 19\, 26\, 2023\, Jan 2\, 9\, 2024\nJan\, 23\, 30\, Feb 6\, 13\, 20\, 27\, 2024 \nClick on the link and then click on: open the link\, or Copy and paste to find your own time zone: https://time.is/0900AM_17_Oct_2023_in_CT/ET/England/Romania/Australia/Austria/South_Africa/India/Canada/Italy/Sweden? RSG_Tuesdays_Oct_17_thru_Nov_21\,_2023..Dec_5_2023_thru_Jan_9\,_2024..Jan_23_thru_Feb_27\,_2024
URL:https://acawso.org/calendar/ready-set-go-morning-series-13/2024-01-09/
CATEGORIES:events
END:VEVENT
BEGIN:VEVENT
DTSTART;TZID=America/New_York:20240108T160000
DTEND;TZID=America/New_York:20240108T173000
DTSTAMP:20260421T074246
CREATED:20231211T221919Z
LAST-MODIFIED:20231211T221919Z
UID:10007453-1704729600-1704735000@acawso.org
SUMMARY:IT Committee
DESCRIPTION:IT Committee meets weekly on Monday at 4:00pm ET (US) \ncontact: itchair@acawso.org \nJoin Zoom Meeting \nhttps://us02web.zoom.us/j/89520227175 \nMeeting ID: 895 2022 7175\nPasscode: 90755\nOne tap mobile\n+19292056099\,\,89520227175# US (New York)\n+13126266799\,\,89520227175# US (Chicago) \nDial by your location\n+1 929 205 6099 US (New York)\n+1 312 626 6799 US (Chicago)\n+1 301 715 8592 US (Washington DC)\n+1 253 215 8782 US (Tacoma)\n+1 346 248 7799 US (Houston)\n+1 669 900 6833 US (San Jose)\nMeeting ID: 895 2022 7175\nFind your local number: https://us02web.zoom.us/u/kdrkCQ8UuT
URL:https://acawso.org/calendar/it-committee-2023-07-19-2-2/2024-01-08/
CATEGORIES:committees
END:VEVENT
BEGIN:VEVENT
DTSTART;TZID=America/New_York:20240108T150000
DTEND;TZID=America/New_York:20240108T160000
DTSTAMP:20260421T074246
CREATED:20231211T210402Z
LAST-MODIFIED:20231211T221514Z
UID:10007953-1704726000-1704729600@acawso.org
SUMMARY:ACA Name Study
DESCRIPTION:The ACA Name Study ad-hoc committee purpose is to develop a name for the fellowship that communicates inclusion for any adult child from a dysfunctional family regardless of the presence of alcohol in the home. \nThe study was created by the 2022 ABC. \nWe meet on the 2nd and 4th Mondays at 3:00 pm ET for 60 minutes. \nJoin Zoom Meeting\nhttps://us02web.zoom.us/j/83303035586 \nMeeting ID: 833 0303 5586\nPasscode: 889510 \n 
URL:https://acawso.org/calendar/aca-name-study-2023-04-28-2-2/2024-01-08/
CATEGORIES:committees
END:VEVENT
BEGIN:VEVENT
DTSTART;TZID=America/New_York:20240108T120000
DTEND;TZID=America/New_York:20240108T130000
DTSTAMP:20260421T074246
CREATED:20240130T212553Z
LAST-MODIFIED:20240130T212553Z
UID:10005016-1704715200-1704718800@acawso.org
SUMMARY:IT Website Redesign Working Group
DESCRIPTION:IT website redesign working group meetings every Monday at 12:00pm ET (US) \nContact:  itchair@acawso.org \nJoin Zoom Meeting\nhttps://us02web.zoom.us/j/83771567325 \nMeeting ID: 837 7156 7325\nPasscode: 088655
URL:https://acawso.org/calendar/it-website-redesign-working-group-2-2/2024-01-08/
CATEGORIES:committees
END:VEVENT
BEGIN:VEVENT
DTSTART;TZID=America/New_York:20240107T210000
DTEND;TZID=America/New_York:20240107T223000
DTSTAMP:20260421T074246
CREATED:20240102T133223Z
LAST-MODIFIED:20240102T133223Z
UID:10011731-1704661200-1704666600@acawso.org
SUMMARY:Speaker Meeting Spanish
DESCRIPTION:Orador ACA del Mes.\nReunion del grupo Aca México Web0113\nPrimer Domingo de cada mes.\n8pm CdMex\nZoom: 735-277-3615\nPwd: 000 000 \nEvent sponsored by IG#635
URL:https://acawso.org/calendar/speaker-meeting-spanish/
CATEGORIES:events
END:VEVENT
BEGIN:VEVENT
DTSTART;TZID=America/New_York:20240106T160000
DTEND;TZID=America/New_York:20240106T173000
DTSTAMP:20260421T074246
CREATED:20220716T210629Z
LAST-MODIFIED:20231031T133925Z
UID:10011401-1704556800-1704562200@acawso.org
SUMMARY:SRC Committee Meeting
DESCRIPTION:Service Resources Committee meets on the 1st and 3rd Saturday of the month at 4pm ET. \nZoom 2 ACAWSO is inviting you to a scheduled Zoom meeting. \nTopic: SRC Committee Meeting\nJoin Zoom Meeting\nhttps://us02web.zoom.us/j/82077851277 \nMeeting ID: 820 7785 1277\nPasscode: 987321 \n  \nPlease download and import the following iCalendar (.ics) files to your calendar system.\nWeekly: https://us02web.zoom.us/meeting/tZYtcO6gqzooHdN_nSsMjGe-HFnItRpAbjLl/ics?icsToken=98tyKuGqrjwtEtGUsh6ARpwQAo_CKPzwmH5BgqdzoxHWEA1ZRQa7HsRMG6ZNAPnS
URL:https://acawso.org/calendar/mssc-committee-meeting-2/2024-01-06/
CATEGORIES:committees
END:VEVENT
BEGIN:VEVENT
DTSTART;TZID=America/New_York:20240106T130000
DTEND;TZID=America/New_York:20240106T143000
DTSTAMP:20260421T074246
CREATED:20240127T221602Z
LAST-MODIFIED:20240127T221603Z
UID:10005498-1704546000-1704551400@acawso.org
SUMMARY:Fellowship & Public Engagement Collaboration Committee
DESCRIPTION:Fellowship & Public Engagement Collaboration Committee meets monthly on the 1st Saturday of each month at 1:00 – 2:30pm ET. \nhttps://us02web.zoom.us/j/87603226267\nMeeting ID: 87603226267\nPasscode: 90755 \nFind your local number: https://us02web.zoom.us/u/kejKdWCRE9
URL:https://acawso.org/calendar/fellowship-public-engagement-collaboration-committee-2-2/2024-01-06/
CATEGORIES:committees
END:VEVENT
BEGIN:VEVENT
DTSTART;TZID=America/New_York:20240106T124500
DTEND;TZID=America/New_York:20240106T134500
DTSTAMP:20260421T074246
CREATED:20210626T131806Z
LAST-MODIFIED:20260115T115550Z
UID:10007256-1704545100-1704548700@acawso.org
SUMMARY:Lit Evaluation Subcommittee
DESCRIPTION:Literature Evaluation meets the 1st Saturday of each month\, 12:45pm-1:45pm ET. \ncontact: liteval@acawso.org \nhttps://us02web.zoom.us/j/86113897454?pwd=UitVN2tHb1E1STJ5YXlWYU1mZXZ5Zz09 \nMeeting ID: 861 1389 7454\nPasscode: 127253
URL:https://acawso.org/calendar/lit-evaluation-subcommittee-3/2024-01-06/
CATEGORIES:committees
END:VEVENT
BEGIN:VEVENT
DTSTART;TZID=America/New_York:20240106T113000
DTEND;TZID=America/New_York:20240106T123000
DTSTAMP:20260421T074246
CREATED:20231004T160908Z
LAST-MODIFIED:20231004T160909Z
UID:10007220-1704540600-1704544200@acawso.org
SUMMARY:Literature Quarterly Open Meeting
DESCRIPTION:Literature Quarterly Open Meeting – Open to All ACA’s to participate \nFirst Saturday of each quarter  11:30am-12:30pm ET \ncontact: litchair@acawso.org \nJoin Zoom Meeting\nhttps://zoom.us/j/85652457314?pwd=SWZreXVYU3ZqSENOR1hONFlybEUxQT09 \nMeeting ID: 856 5245 7314\nPasscode: 876816 \n—One tap mobile \n+13017158592\,\,85652457314#\,\,\,\,*876816# US (Washington DC)\n+13092053325\,\,85652457314#\,\,\,\,*876816# US \n  \n—Dial by your location\n• +1 301 715 8592 US (Washington DC)\n• +1 309 205 3325 US\n• +1 312 626 6799 US (Chicago)\n• +1 646 558 8656 US (New York)\n• +1 646 931 3860 US\n• +1 305 224 1968 US\n• +1 507 473 4847 US\n• +1 564 217 2000 US\n• +1 669 444 9171 US\n• +1 669 900 9128 US (San Jose)\n• +1 689 278 1000 US\n• +1 719 359 4580 US\n• +1 253 205 0468 US\n• +1 253 215 8782 US (Tacoma)\n• +1 346 248 7799 US (Houston)\n• +1 360 209 5623 US\n• +1 386 347 5053 US \nMeeting ID: 856 5245 7314\nPasscode: 876816Find your local number: https://zoom.us/u/adD6pQtFgG
URL:https://acawso.org/calendar/literature-quarterly-open-meeting-2/2024-01-06/
CATEGORIES:committees
END:VEVENT
BEGIN:VEVENT
DTSTART;TZID=America/New_York:20240106T103000
DTEND;TZID=America/New_York:20240106T120000
DTSTAMP:20260421T074246
CREATED:20230718T154707Z
LAST-MODIFIED:20230718T154707Z
UID:10007641-1704537000-1704542400@acawso.org
SUMMARY:ABC/AWC Committee
DESCRIPTION:The ABC/AWC committee meets first and third Saturday at 10:30AM EDT \nJoin Zoom Meeting\nhttps://us02web.zoom.us/j/87582913615?pwd=dWpPNVJPcVNiVjJxbGgzbFVwY05EZz09 \nMeeting ID: 875 8291 3615\nPasscode: ABC2022 \nContact abc@adultchildren.org for more details. \nMonthly reports posted at https://acawso.org/category/abc-committee/
URL:https://acawso.org/calendar/abc-awc-committee-4-2-2/2024-01-06/
CATEGORIES:committees
END:VEVENT
END:VCALENDAR