BEGIN:VCALENDAR
VERSION:2.0
PRODID:-//ACA WSO - ECPv6.15.20//NONSGML v1.0//EN
CALSCALE:GREGORIAN
METHOD:PUBLISH
X-WR-CALNAME:ACA WSO
X-ORIGINAL-URL:https://acawso.org
X-WR-CALDESC:Events for ACA WSO
REFRESH-INTERVAL;VALUE=DURATION:PT1H
X-Robots-Tag:noindex
X-PUBLISHED-TTL:PT1H
BEGIN:VTIMEZONE
TZID:America/New_York
BEGIN:DAYLIGHT
TZOFFSETFROM:-0500
TZOFFSETTO:-0400
TZNAME:EDT
DTSTART:20250309T070000
END:DAYLIGHT
BEGIN:STANDARD
TZOFFSETFROM:-0400
TZOFFSETTO:-0500
TZNAME:EST
DTSTART:20251102T060000
END:STANDARD
BEGIN:DAYLIGHT
TZOFFSETFROM:-0500
TZOFFSETTO:-0400
TZNAME:EDT
DTSTART:20260308T070000
END:DAYLIGHT
BEGIN:STANDARD
TZOFFSETFROM:-0400
TZOFFSETTO:-0500
TZNAME:EST
DTSTART:20261101T060000
END:STANDARD
BEGIN:DAYLIGHT
TZOFFSETFROM:-0500
TZOFFSETTO:-0400
TZNAME:EDT
DTSTART:20270314T070000
END:DAYLIGHT
BEGIN:STANDARD
TZOFFSETFROM:-0400
TZOFFSETTO:-0500
TZNAME:EST
DTSTART:20271107T060000
END:STANDARD
END:VTIMEZONE
BEGIN:VEVENT
DTSTART;TZID=America/New_York:20260205T180000
DTEND;TZID=America/New_York:20260205T193000
DTSTAMP:20260420T064418
CREATED:20250731T160916Z
LAST-MODIFIED:20260213T010306Z
UID:10016972-1770314400-1770319800@acawso.org
SUMMARY:Ballot Prep Committee
DESCRIPTION:All are welcome. \nFor more information\, contact the committee at bpc@adultchildren.org \nZoom 2 ACAWSO is inviting you to a scheduled Zoom meeting. \nMeeting ID: 815 3118 9155\nPasscode: 90755
URL:https://acawso.org/calendar/ballot-prep-committee-10-3/2026-02-05/
CATEGORIES:committees
END:VEVENT
BEGIN:VEVENT
DTSTART;TZID=America/New_York:20260205T160000
DTEND;TZID=America/New_York:20260205T173000
DTSTAMP:20260420T064418
CREATED:20251121T010224Z
LAST-MODIFIED:20251219T051900Z
UID:10017834-1770307200-1770312600@acawso.org
SUMMARY:Concepts Study
DESCRIPTION:This ad hoc committee was created by the 2022 ABC. \nAll ACA’s are welcome \nZoom information: \nhttps://zoom.us/j/83429248013 \nMeeting ID: 834 2924 8013\nPasscode: 90755 \nCommittee’s page
URL:https://acawso.org/calendar/concepts-ii-and-vi-study-2-2-2-2/2026-02-05/
CATEGORIES:committees
END:VEVENT
BEGIN:VEVENT
DTSTART;TZID=America/New_York:20260205T150000
DTEND;TZID=America/New_York:20260205T163000
DTSTAMP:20260420T064418
CREATED:20250801T142910Z
LAST-MODIFIED:20250801T142911Z
UID:10017026-1770303600-1770309000@acawso.org
SUMMARY:Finance Committee
DESCRIPTION:The finance committee meets Thursdays from 2:30 pm ET – 4:00pm ET.  We are looking for members with business\, finance\, or bookkeeping experience. \n  \nPlease contact treasurer@adultchildren.org or finance@acawso.org if you are interested in visiting or joining the finance committee.
URL:https://acawso.org/calendar/finance-committee-2-2/2026-02-05/
CATEGORIES:committees
END:VEVENT
BEGIN:VEVENT
DTSTART;TZID=America/New_York:20260203T170000
DTEND;TZID=America/New_York:20260203T183000
DTSTAMP:20260420T064418
CREATED:20260206T175655Z
LAST-MODIFIED:20260206T175656Z
UID:10011756-1770138000-1770143400@acawso.org
SUMMARY:Charter Ad Hoc Committee
DESCRIPTION:Please see our Committee homepage for more information \nThis Study Group meets weekly on Tuesdays at 5:00 pm Eastern. \nMeeting ID: 993 7036 0615\nPasscode: 182011 \nIf you have questions\, please email us at abcstudy@acawso.org.
URL:https://acawso.org/calendar/abc-study-4-2-2-2/2026-02-03/
CATEGORIES:committees
END:VEVENT
BEGIN:VEVENT
DTSTART;TZID=America/New_York:20260203T133000
DTEND;TZID=America/New_York:20260203T143000
DTSTAMP:20260420T064418
CREATED:20250107T111344Z
LAST-MODIFIED:20250107T111417Z
UID:10014958-1770125400-1770129000@acawso.org
SUMMARY:European Committee
DESCRIPTION:The monthly meeting is hosted by Zoom the First Tuesday of the month at 19:30 Central European Time / 18:30 UK / 20:30 Baltics / Helsinki / 21:30 Moscow time / 1:30pm ET \nhttps://us02web.zoom.us/j/83834372326 \nMeeting ID: 838 3437 2326\nPasscode: 437668 \nMore information about the European Committee can be found at https://acawso.org/category/european-connection/
URL:https://acawso.org/calendar/european-committee-2-2/2026-02-03/
CATEGORIES:committees
END:VEVENT
BEGIN:VEVENT
DTSTART;TZID=America/New_York:20260202T160000
DTEND;TZID=America/New_York:20260202T173000
DTSTAMP:20260420T064418
CREATED:20251119T192005Z
LAST-MODIFIED:20251119T192007Z
UID:10010203-1770048000-1770053400@acawso.org
SUMMARY:IT Committee
DESCRIPTION:IT Committee meets as and when needed on Mondays at 4:00pm ET (US). Please contact the IT Chair before attending the meeting to find out if it meets in a given week. \ncontact: itchair@acawso.org \nJoin Zoom Meeting \nhttps://us02web.zoom.us/j/89520227175 \nMeeting ID: 895 2022 7175\nPasscode: 90755
URL:https://acawso.org/calendar/it-committee-2023-07-19-2-2-2-2/2026-02-02/
CATEGORIES:committees
END:VEVENT
BEGIN:VEVENT
DTSTART;TZID=America/New_York:20260202T120000
DTEND;TZID=America/New_York:20260202T133000
DTSTAMP:20260420T064418
CREATED:20250801T144133Z
LAST-MODIFIED:20250801T144134Z
UID:10012152-1770033600-1770039000@acawso.org
SUMMARY:IT Website Redesign Working Group
DESCRIPTION:IT website redesign working group meetings every Monday at 12:00pm ET (US) \nContact:  itchair@acawso.org \nJoin Zoom Meeting\nhttps://us02web.zoom.us/j/83771567325 \nMeeting ID: 837 7156 7325\nPasscode: 088655
URL:https://acawso.org/calendar/it-website-redesign-working-group-2-2-2-2/2026-02-02/
CATEGORIES:committees
END:VEVENT
BEGIN:VEVENT
DTSTART;TZID=America/New_York:20260131T100000
DTEND;TZID=America/New_York:20260131T170000
DTSTAMP:20260420T064418
CREATED:20250818T110639Z
LAST-MODIFIED:20251112T120654Z
UID:10017408-1769853600-1769878800@acawso.org
SUMMARY:Share-A-Day
DESCRIPTION:Share-a-Day\nTHEME: Healing from Within When Chaos Surrounds Us\nSaturday\, January 31\, 2026​\n10 am – 4 pm\nMercy University\n1200 Waters Place\nBronx\, NY \nGreat Speakers\, Excellent Workshops\, Fantastic Meetings\, Fun Fellowship Literature Sales and Give Aways \nSuggested Contribution $20/person includes Continental Breakfast and Lunch\nNo one will be turned away.*\n*Government issued identification is required to enter Mercy University.* \nSponsored by IG#667
URL:https://acawso.org/calendar/share-a-day/
CATEGORIES:events
END:VEVENT
BEGIN:VEVENT
DTSTART;TZID=America/New_York:20260131T090000
DTEND;TZID=America/New_York:20260131T170000
DTSTAMP:20260420T064418
CREATED:20260126T060208Z
LAST-MODIFIED:20260126T060346Z
UID:10018253-1769850000-1769878800@acawso.org
SUMMARY:Conference Business Meeting (CBM) January 31st
DESCRIPTION:Registered Delegates will receive an email with the unique Zoom link to attend this CBM. \nRegistration closes Monday\, January 25th – see the information on the Conference page: https://adultchildren.org/business-meetings/ \nMost of your questions can be answered on this page. \nOn this same page there is also the opportunity to register to be an Observer\, which can be done anytime – up to and including the day of the event – January 31st.
URL:https://acawso.org/calendar/conference-business-meeting-cbm-january-31st/
CATEGORIES:events
END:VEVENT
BEGIN:VEVENT
DTSTART;TZID=America/New_York:20260129T180000
DTEND;TZID=America/New_York:20260129T193000
DTSTAMP:20260420T064418
CREATED:20250731T160916Z
LAST-MODIFIED:20260213T010306Z
UID:10016971-1769709600-1769715000@acawso.org
SUMMARY:Ballot Prep Committee
DESCRIPTION:All are welcome. \nFor more information\, contact the committee at bpc@adultchildren.org \nZoom 2 ACAWSO is inviting you to a scheduled Zoom meeting. \nMeeting ID: 815 3118 9155\nPasscode: 90755
URL:https://acawso.org/calendar/ballot-prep-committee-10-3/2026-01-29/
CATEGORIES:committees
END:VEVENT
BEGIN:VEVENT
DTSTART;TZID=America/New_York:20260127T170000
DTEND;TZID=America/New_York:20260127T183000
DTSTAMP:20260420T064418
CREATED:20240814T181038Z
LAST-MODIFIED:20251216T233353Z
UID:10013858-1769533200-1769538600@acawso.org
SUMMARY:ABC Study
DESCRIPTION:Please see our subcommittee homepage for more information \nThis Study Group meets weekly on Tuesdays at 5:00 pm Eastern. \nMeeting ID: 993 7036 0615\nPasscode: 182011 \nIf you have questions\, please email us at abcstudy@acawso.org.
URL:https://acawso.org/calendar/abc-study-4-2-2/2026-01-27/
CATEGORIES:committees
END:VEVENT
BEGIN:VEVENT
DTSTART;TZID=America/New_York:20260126T160000
DTEND;TZID=America/New_York:20260126T173000
DTSTAMP:20260420T064418
CREATED:20251119T192005Z
LAST-MODIFIED:20251119T192007Z
UID:10010202-1769443200-1769448600@acawso.org
SUMMARY:IT Committee
DESCRIPTION:IT Committee meets as and when needed on Mondays at 4:00pm ET (US). Please contact the IT Chair before attending the meeting to find out if it meets in a given week. \ncontact: itchair@acawso.org \nJoin Zoom Meeting \nhttps://us02web.zoom.us/j/89520227175 \nMeeting ID: 895 2022 7175\nPasscode: 90755
URL:https://acawso.org/calendar/it-committee-2023-07-19-2-2-2-2/2026-01-26/
CATEGORIES:committees
END:VEVENT
BEGIN:VEVENT
DTSTART;TZID=America/New_York:20260126T120000
DTEND;TZID=America/New_York:20260126T133000
DTSTAMP:20260420T064418
CREATED:20250801T144133Z
LAST-MODIFIED:20250801T144134Z
UID:10012151-1769428800-1769434200@acawso.org
SUMMARY:IT Website Redesign Working Group
DESCRIPTION:IT website redesign working group meetings every Monday at 12:00pm ET (US) \nContact:  itchair@acawso.org \nJoin Zoom Meeting\nhttps://us02web.zoom.us/j/83771567325 \nMeeting ID: 837 7156 7325\nPasscode: 088655
URL:https://acawso.org/calendar/it-website-redesign-working-group-2-2-2-2/2026-01-26/
CATEGORIES:committees
END:VEVENT
BEGIN:VEVENT
DTSTART;TZID=America/New_York:20260126T110000
DTEND;TZID=America/New_York:20260126T123000
DTSTAMP:20260420T064418
CREATED:20251127T112549Z
LAST-MODIFIED:20251127T112550Z
UID:10014710-1769425200-1769430600@acawso.org
SUMMARY:Members Services Committee
DESCRIPTION:The WSO Member Services Committee (MSC) is looking for volunteers to help assist\, support\, and communicate with the worldwide ACA membership. \nWe meet every month on the fourth Monday for approximately one hour by Zoom teleconference at 11:00AM Eastern Time. \n. \n\n\n\n\n\n\n\n\n\n\n\n\n\n\n\n\n\n\n\n\nJoin Zoom Meeting\nhttps://zoom.us/j/96414155183\nMeeting ID: 964 1415 5183\nPasscode: 308405
URL:https://acawso.org/calendar/members-services-re-vision-3-2-2-2-2/2026-01-26/
CATEGORIES:committees
END:VEVENT
BEGIN:VEVENT
DTSTART;TZID=America/New_York:20260126T110000
DTEND;TZID=America/New_York:20260126T123000
DTSTAMP:20260420T064418
CREATED:20241230T113323Z
LAST-MODIFIED:20241230T113324Z
UID:10014650-1769425200-1769430600@acawso.org
SUMMARY:Regions Intergroups Subcommittee
DESCRIPTION:Regions Intergroups Subcommittee meets every month on the fourth Monday for approximately one hour by Zoom teleconference at 11:00AM Eastern Time. \nhttps://zoom.us/j/96414155183\nMeeting ID: 964 1415 5183\nPasscode: 308405
URL:https://acawso.org/calendar/regions-subcommittee-2-2-2-2-2/2026-01-26/
CATEGORIES:committees
END:VEVENT
BEGIN:VEVENT
DTSTART;TZID=America/New_York:20260124T210000
DTEND;TZID=America/New_York:20260124T223000
DTSTAMP:20260420T064418
CREATED:20260106T025959Z
LAST-MODIFIED:20260106T025959Z
UID:10018110-1769288400-1769293800@acawso.org
SUMMARY:Delegate Training for the January 31st CBM
DESCRIPTION:Please join us for Delegate Training to help prepare everyone for the Conference Business Meeting (CBM) to be held on Saturday\, January 31st. \nThis is available to registered group Delegates\, although other interested parties are welcome. \n2 sessions will be held on this day – January 24th. \nThe Zoom information for the 9pm EST Delegate Training is: \nhttps://zoom.us/j/97478333064?pwd=bSgaiduB2HqPprJ8b9xoPbPvDVOqXQ.1Meeting ID: 974 7833 3064 \nPasscode: 1/31CBM \n—One tap mobile+16694449171\,\,97478333064#\,\,\,\,*9565039# US+16699009128\,\,97478333064#\,\,\,\,*9565039# US (San Jose) \nJoin instructions: \nhttps://zoom.us/meetings/97478333064/invitations?signature=MPhv21koN8MFhfsau9o8b6iuWmEODu7JNjkjyX6oq_M
URL:https://acawso.org/calendar/delegate-training-for-the-january-31st-cbm-2/
CATEGORIES:events
END:VEVENT
BEGIN:VEVENT
DTSTART;TZID=America/New_York:20260124T200000
DTEND;TZID=America/New_York:20260124T213000
DTSTAMP:20260420T064418
CREATED:20240212T162730Z
LAST-MODIFIED:20240212T162730Z
UID:10012410-1769284800-1769290200@acawso.org
SUMMARY:Big Red Book Working Group
DESCRIPTION:Zoom 2 ACAWSO is inviting you to a scheduled Zoom meeting.\nTopic: BRB Revision Working Group- Global East\nTime: Every month on the second and fourth Saturday at 8 PM Eastern US \nJoin Zoom Meeting\nhttps://zoom.us/j/92423141348\nMeeting ID: 924 2314 1348\nPasscode: 112358 \nPlease download and import the following iCalendar (.ics) files to your calendar system.\nMonthly: https://zoom.us/meeting/tJYpdeqpqjopHtwsBMOyTO0tAY5XaN4QYv7-/ics?icsToken=98tyKuCqqjkpG9CUsx2PRowQBojob-vwiH5egrdKjz3ILDlnTVPiF9sXCrNRROnp
URL:https://acawso.org/calendar/big-red-book-working-group/2026-01-24/
CATEGORIES:committees
END:VEVENT
BEGIN:VEVENT
DTSTART;TZID=America/New_York:20260124T170000
DTEND;TZID=America/New_York:20260124T200000
DTSTAMP:20260420T064418
CREATED:20260117T113606Z
LAST-MODIFIED:20260117T113606Z
UID:10018185-1769274000-1769284800@acawso.org
SUMMARY:Recovery Revolution
DESCRIPTION:The Outreach Committee for the ACA Arizona Intergroup is hosting: Recovery Revolution\, a 12-Step Speaker Symposium uniting voices from Adult Children of Alcoholics and Dysfunctional Families (ACA)\, Alcoholics Anonymous (AA)\, and Codependents Anonymous (CoDA). \nCentered on the ACA community\, this gathering offers the experience\, strength\, and hope of fellow travelers through 30-minute speaker shares with 10-minute breaks\, opening readings from ACA literature\, and Speaker Panel Q&A. We will conclude with the ACA Promises and the ACA Serenity Prayer. \nSponsored by IG#9
URL:https://acawso.org/calendar/recovery-revolution/
CATEGORIES:events
END:VEVENT
BEGIN:VEVENT
DTSTART;TZID=America/New_York:20260124T120000
DTEND;TZID=America/New_York:20260124T133000
DTSTAMP:20260420T064418
CREATED:20251023T115747Z
LAST-MODIFIED:20260105T115040Z
UID:10017664-1769256000-1769261400@acawso.org
SUMMARY:The Promise of Healthy Intimacy for ACAs
DESCRIPTION:Through writing and artmaking\, we will connect with our inner children\, inner loving parent(s)\, and higher power as we seek to create healthier personal/intimate relationships in our lives as ACAs. The first half of the meeting focuses on exploring some ACA texts and taking time to write or make art as a reflection process. The second half is focused on sharing in the larger group. Depending on size of the group\, we may use breakout rooms. Seventh Tradition will be collected. \nSponsored by CA1648
URL:https://acawso.org/calendar/the-promise-of-healthy-intimacy-for-acas/
CATEGORIES:events
END:VEVENT
BEGIN:VEVENT
DTSTART;TZID=America/New_York:20260124T103000
DTEND;TZID=America/New_York:20260124T120000
DTSTAMP:20260420T064418
CREATED:20260117T154318Z
LAST-MODIFIED:20260119T114552Z
UID:10018192-1769250600-1769256000@acawso.org
SUMMARY:ABC Sustainability Study Sub-Committee
DESCRIPTION:NOTE:  In January we are meeting on the 18th instead of the 17th. \nWe usually meet on the 1st & 3rd Saturday of each month from 10:30AM to Noon EDT. We recommend that you check the WSO Committee Calendar for any changes to this schedule. \nZoom URL: https://zoom.us/j/91045736882  \nMeeting ID: 910 4573 6882 \nPasscode: 992748
URL:https://acawso.org/calendar/abc-sustainability-study-sub-committee-6-3/2026-01-24/
CATEGORIES:committees
END:VEVENT
BEGIN:VEVENT
DTSTART;TZID=America/New_York:20260124T090000
DTEND;TZID=America/New_York:20260124T103000
DTSTAMP:20260420T064418
CREATED:20260106T025612Z
LAST-MODIFIED:20260107T053126Z
UID:10018109-1769245200-1769250600@acawso.org
SUMMARY:Delegate Training for the January 31st CBM
DESCRIPTION:Please join us for Delegate Training to help prepare everyone for the Conference Business Meeting (CBM) to be held on Saturday\, January 31st. \nThis is available to registered group Delegates\, although other interested parties are welcome. \n2 sessions will be held on this day – January 24th. \nThe Zoom information for the 9am EST Delegate Training is:https://zoom.us/j/98012670179?pwd=XStvVrAWGAki8qorjP2YFiyUEHyJKx.1Meeting ID: 980 1267 0179 \nPasscode: 1/31CBM \n—One tap mobile+16699009128\,\,98012670179#\,\,\,\,*5662147# US (San Jose)+16694449171\,\,98012670179#\,\,\,\,*5662147# US \nJoin instructions: \nhttps://zoom.us/meetings/98012670179/invitations?signature=3UzOvlaIbqTXB0IagUGrqfKFx58ZIQZXLQwhMbvGnho
URL:https://acawso.org/calendar/delegate-training-for-the-january-31st-cbm/
CATEGORIES:events
END:VEVENT
BEGIN:VEVENT
DTSTART;TZID=America/New_York:20260123T093000
DTEND;TZID=America/New_York:20260123T113000
DTSTAMP:20260420T064418
CREATED:20251210T112728Z
LAST-MODIFIED:20251210T113515Z
UID:10018419-1769160600-1769167800@acawso.org
SUMMARY:Publishing Committee
DESCRIPTION:Publishing Committee \nWe meet on Fridays once a month on the 4th Friday of each month. \n \nTime: 6:30 am PDT\, 9:30 am EDT\, 2:30 pm UK/GBST\, 3:30 pm CET \, 3:30 pm SAST\, 7:00 pm India \nMeeting ID: 857 7189 3168\nPasscode: 382777 \nAny questions\, contact Sue V at publishingchair@acawso.org  or on slack \n 
URL:https://acawso.org/calendar/publishing-committee-3-2-3-2/2026-01-23/
CATEGORIES:committees
END:VEVENT
BEGIN:VEVENT
DTSTART;TZID=America/New_York:20260122T180000
DTEND;TZID=America/New_York:20260122T193000
DTSTAMP:20260420T064418
CREATED:20250731T160916Z
LAST-MODIFIED:20260213T010306Z
UID:10016970-1769104800-1769110200@acawso.org
SUMMARY:Ballot Prep Committee
DESCRIPTION:All are welcome. \nFor more information\, contact the committee at bpc@adultchildren.org \nZoom 2 ACAWSO is inviting you to a scheduled Zoom meeting. \nMeeting ID: 815 3118 9155\nPasscode: 90755
URL:https://acawso.org/calendar/ballot-prep-committee-10-3/2026-01-22/
CATEGORIES:committees
END:VEVENT
BEGIN:VEVENT
DTSTART;TZID=America/New_York:20260122T160000
DTEND;TZID=America/New_York:20260122T173000
DTSTAMP:20260420T064418
CREATED:20260115T121051Z
LAST-MODIFIED:20260115T121052Z
UID:10018184-1769097600-1769103000@acawso.org
SUMMARY:Concepts Study
DESCRIPTION:This ad hoc committee was created by the 2022 ABC. \nAll ACA’s are welcome \nPlease note time change. Starting November 20\, 2025 we will meet earlier – at 4 PM ET instead of 5:30 PM ET. \nZoom information: \nhttps://zoom.us/j/83429248013 \nMeeting ID: 834 2924 8013\nPasscode: 90755 \nCommittee’s page
URL:https://acawso.org/calendar/concepts-ii-and-vi-study-2-3-2-2-2-2-2/2026-01-22/
CATEGORIES:committees
END:VEVENT
BEGIN:VEVENT
DTSTART;TZID=America/New_York:20260122T150000
DTEND;TZID=America/New_York:20260122T163000
DTSTAMP:20260420T064418
CREATED:20250801T142910Z
LAST-MODIFIED:20250801T142911Z
UID:10017025-1769094000-1769099400@acawso.org
SUMMARY:Finance Committee
DESCRIPTION:The finance committee meets Thursdays from 2:30 pm ET – 4:00pm ET.  We are looking for members with business\, finance\, or bookkeeping experience. \n  \nPlease contact treasurer@adultchildren.org or finance@acawso.org if you are interested in visiting or joining the finance committee.
URL:https://acawso.org/calendar/finance-committee-2-2/2026-01-22/
CATEGORIES:committees
END:VEVENT
BEGIN:VEVENT
DTSTART;TZID=America/New_York:20260122T110000
DTEND;TZID=America/New_York:20260122T123000
DTSTAMP:20260420T064418
CREATED:20251127T112704Z
LAST-MODIFIED:20260314T033456Z
UID:10017269-1769079600-1769085000@acawso.org
SUMMARY:MSC Global Fellowship Meeting
DESCRIPTION:Meeting times: Americas 11am ET New York\, 8am PT California\, 4pm England\, 5pm France\, 5pm Spain\, 6pm Lithuania\, 6pm South Africa\, 6pm Egypt\, 7pm Moscow\, Russia \nTopic: MSC Western Fellowship Meeting \nJoin Zoom Meeting \nhttps://zoom.us/j/93603824987 \nMeeting ID: 936 0382 4987\nPasscode: 163248
URL:https://acawso.org/calendar/western-global-fellowship-meeting-msc-2-2-2/2026-01-22/
CATEGORIES:committees
END:VEVENT
BEGIN:VEVENT
DTSTART;TZID=America/New_York:20260121T130000
DTEND;TZID=America/New_York:20260121T140000
DTSTAMP:20260420T064418
CREATED:20251217T165807Z
LAST-MODIFIED:20251217T165808Z
UID:10012617-1769000400-1769004000@acawso.org
SUMMARY:Translations Subcommittee
DESCRIPTION:Translation Subcommittee meets every 3rd Wednesday of the month at \n1 pm ET New York\, USA\n12 pm CT Mexico City\, Mexico\n10 am PT Los Angeles\, USA\n6 pm GMT London\, UK\n7 pm CET Madrid\, Spain\n9 pm MK Moscow\, Russia\n11:30pm IST New Delhi\, India\n3 am JT Tokyo\, Japan\n5 am AET Sydney\, AUS \n  \nMeeting ID: 879 0590 2057\nPasscode: 969814 \nAll are welcome!
URL:https://acawso.org/calendar/translations-subcommittee-2-3/2026-01-21/
CATEGORIES:committees
END:VEVENT
BEGIN:VEVENT
DTSTART;TZID=America/New_York:20260120T170000
DTEND;TZID=America/New_York:20260120T183000
DTSTAMP:20260420T064418
CREATED:20240814T181038Z
LAST-MODIFIED:20251216T233353Z
UID:10013857-1768928400-1768933800@acawso.org
SUMMARY:ABC Study
DESCRIPTION:Please see our subcommittee homepage for more information \nThis Study Group meets weekly on Tuesdays at 5:00 pm Eastern. \nMeeting ID: 993 7036 0615\nPasscode: 182011 \nIf you have questions\, please email us at abcstudy@acawso.org.
URL:https://acawso.org/calendar/abc-study-4-2-2/2026-01-20/
CATEGORIES:committees
END:VEVENT
BEGIN:VEVENT
DTSTART;TZID=America/New_York:20260119T160000
DTEND;TZID=America/New_York:20260119T173000
DTSTAMP:20260420T064418
CREATED:20251119T192005Z
LAST-MODIFIED:20251119T192007Z
UID:10010201-1768838400-1768843800@acawso.org
SUMMARY:IT Committee
DESCRIPTION:IT Committee meets as and when needed on Mondays at 4:00pm ET (US). Please contact the IT Chair before attending the meeting to find out if it meets in a given week. \ncontact: itchair@acawso.org \nJoin Zoom Meeting \nhttps://us02web.zoom.us/j/89520227175 \nMeeting ID: 895 2022 7175\nPasscode: 90755
URL:https://acawso.org/calendar/it-committee-2023-07-19-2-2-2-2/2026-01-19/
CATEGORIES:committees
END:VEVENT
BEGIN:VEVENT
DTSTART;TZID=America/New_York:20260119T120000
DTEND;TZID=America/New_York:20260119T133000
DTSTAMP:20260420T064418
CREATED:20250801T144133Z
LAST-MODIFIED:20250801T144134Z
UID:10012150-1768824000-1768829400@acawso.org
SUMMARY:IT Website Redesign Working Group
DESCRIPTION:IT website redesign working group meetings every Monday at 12:00pm ET (US) \nContact:  itchair@acawso.org \nJoin Zoom Meeting\nhttps://us02web.zoom.us/j/83771567325 \nMeeting ID: 837 7156 7325\nPasscode: 088655
URL:https://acawso.org/calendar/it-website-redesign-working-group-2-2-2-2/2026-01-19/
CATEGORIES:committees
END:VEVENT
END:VCALENDAR