BEGIN:VCALENDAR
VERSION:2.0
PRODID:-//ACA WSO - ECPv6.15.20//NONSGML v1.0//EN
CALSCALE:GREGORIAN
METHOD:PUBLISH
X-ORIGINAL-URL:https://acawso.org
X-WR-CALDESC:Events for ACA WSO
REFRESH-INTERVAL;VALUE=DURATION:PT1H
X-Robots-Tag:noindex
X-PUBLISHED-TTL:PT1H
BEGIN:VTIMEZONE
TZID:America/New_York
BEGIN:DAYLIGHT
TZOFFSETFROM:-0500
TZOFFSETTO:-0400
TZNAME:EDT
DTSTART:20240310T070000
END:DAYLIGHT
BEGIN:STANDARD
TZOFFSETFROM:-0400
TZOFFSETTO:-0500
TZNAME:EST
DTSTART:20241103T060000
END:STANDARD
BEGIN:DAYLIGHT
TZOFFSETFROM:-0500
TZOFFSETTO:-0400
TZNAME:EDT
DTSTART:20250309T070000
END:DAYLIGHT
BEGIN:STANDARD
TZOFFSETFROM:-0400
TZOFFSETTO:-0500
TZNAME:EST
DTSTART:20251102T060000
END:STANDARD
BEGIN:DAYLIGHT
TZOFFSETFROM:-0500
TZOFFSETTO:-0400
TZNAME:EDT
DTSTART:20260308T070000
END:DAYLIGHT
BEGIN:STANDARD
TZOFFSETFROM:-0400
TZOFFSETTO:-0500
TZNAME:EST
DTSTART:20261101T060000
END:STANDARD
END:VTIMEZONE
BEGIN:VEVENT
DTSTART;TZID=America/New_York:20250908T120000
DTEND;TZID=America/New_York:20250908T133000
DTSTAMP:20260421T221138
CREATED:20250801T144133Z
LAST-MODIFIED:20250801T144134Z
UID:10012131-1757332800-1757338200@acawso.org
SUMMARY:IT Website Redesign Working Group
DESCRIPTION:IT website redesign working group meetings every Monday at 12:00pm ET (US) \nContact:  itchair@acawso.org \nJoin Zoom Meeting\nhttps://us02web.zoom.us/j/83771567325 \nMeeting ID: 837 7156 7325\nPasscode: 088655
URL:https://acawso.org/calendar/it-website-redesign-working-group-2-2-2-2/2025-09-08/
CATEGORIES:committees
END:VEVENT
BEGIN:VEVENT
DTSTART;TZID=America/New_York:20250908T160000
DTEND;TZID=America/New_York:20250908T173000
DTSTAMP:20260421T221138
CREATED:20240812T161937Z
LAST-MODIFIED:20240812T161938Z
UID:10010182-1757347200-1757352600@acawso.org
SUMMARY:IT Committee
DESCRIPTION:IT Committee meets weekly on Monday at 4:00pm ET (US) \ncontact: itchair@acawso.org \nJoin Zoom Meeting \nhttps://us02web.zoom.us/j/89520227175 \nMeeting ID: 895 2022 7175\nPasscode: 90755\nOne tap mobile\n+19292056099\,\,89520227175# US (New York)\n+13126266799\,\,89520227175# US (Chicago) \nDial by your location\n+1 929 205 6099 US (New York)\n+1 312 626 6799 US (Chicago)\n+1 301 715 8592 US (Washington DC)\n+1 253 215 8782 US (Tacoma)\n+1 346 248 7799 US (Houston)\n+1 669 900 6833 US (San Jose)\nMeeting ID: 895 2022 7175\nFind your local number: https://us02web.zoom.us/u/kdrkCQ8UuT
URL:https://acawso.org/calendar/it-committee-2023-07-19-2-2-2/2025-09-08/
CATEGORIES:committees
END:VEVENT
BEGIN:VEVENT
DTSTART;TZID=America/New_York:20250909T100000
DTEND;TZID=America/New_York:20250909T120000
DTSTAMP:20260421T221138
CREATED:20250317T181217Z
LAST-MODIFIED:20250717T182912Z
UID:10016034-1757412000-1757419200@acawso.org
SUMMARY:Ready Set GO!!  Morning Series
DESCRIPTION:Ready Set GO!! is a 6-week introductory program of the ACA program\, the ACA 12 Steps and an introductory Inner Child Workshop “Awakening My Little One”. \nStarts Sept 9th and runs through October 14th. Each session lasts 2 hours. \nClick HERE to download the flyer and view all of the information you will need for Ready Set GO!! (RSG) \nNote that our Thursday Evening series starts Sept 11th and runs through October 16th.
URL:https://acawso.org/calendar/ready-set-go-morning-series-23/
CATEGORIES:events
END:VEVENT
BEGIN:VEVENT
DTSTART;TZID=America/New_York:20250909T170000
DTEND;TZID=America/New_York:20250909T183000
DTSTAMP:20260421T221138
CREATED:20240814T181038Z
LAST-MODIFIED:20251216T233353Z
UID:10013842-1757437200-1757442600@acawso.org
SUMMARY:ABC Study
DESCRIPTION:Please see our subcommittee homepage for more information \nThis Study Group meets weekly on Tuesdays at 5:00 pm Eastern. \nMeeting ID: 993 7036 0615\nPasscode: 182011 \nIf you have questions\, please email us at abcstudy@acawso.org.
URL:https://acawso.org/calendar/abc-study-4-2-2/2025-09-09/
CATEGORIES:committees
END:VEVENT
BEGIN:VEVENT
DTSTART;TZID=America/New_York:20250911T180000
DTEND;TZID=America/New_York:20250911T193000
DTSTAMP:20260421T221138
CREATED:20250731T160916Z
LAST-MODIFIED:20260213T010306Z
UID:10016951-1757613600-1757619000@acawso.org
SUMMARY:Ballot Prep Committee
DESCRIPTION:All are welcome. \nFor more information\, contact the committee at bpc@adultchildren.org \nZoom 2 ACAWSO is inviting you to a scheduled Zoom meeting. \nMeeting ID: 815 3118 9155\nPasscode: 90755
URL:https://acawso.org/calendar/ballot-prep-committee-10-3/2025-09-11/
CATEGORIES:committees
END:VEVENT
BEGIN:VEVENT
DTSTART;TZID=America/New_York:20250911T190000
DTEND;TZID=America/New_York:20250911T210000
DTSTAMP:20260421T221138
CREATED:20250317T181434Z
LAST-MODIFIED:20250717T183015Z
UID:10016046-1757617200-1757624400@acawso.org
SUMMARY:Ready Set Go!! Evening Series
DESCRIPTION:Ready Set GO!! is a 6-week introductory program of the ACA program\, the ACA 12 Steps and an introductory Inner Child Workshop “Awakening My Little One”. \nStarts September 11th and runs through October 16th. Each session lasts 2 hours. \nClick HERE to download the flyer and view all of the information you will need for Ready Set GO!! (RSG) \nNote that our Tuesday Morning series starts September 9th and runs through October 14th.
URL:https://acawso.org/calendar/ready-set-go-evening-series-19/
CATEGORIES:events
END:VEVENT
BEGIN:VEVENT
DTSTART;TZID=America/New_York:20250912T180000
DTEND;TZID=America/New_York:20250912T190000
DTSTAMP:20260421T221138
CREATED:20250816T110030Z
LAST-MODIFIED:20250816T110043Z
UID:10009444-1757700000-1757703600@acawso.org
SUMMARY:Data Analysis Committee
DESCRIPTION:  \nData Analysis Committee meets every third Friday the month at  3 PM PDT\, 4 PM MDT\, 5 PM CDT\, 6 PM EDT\, Saturday at 5 AM Thailand/Vietnam\, 6 AM Singapore/Taiwan/China\, 7 AM Japan \nFor information how to attend please contact the committee.
URL:https://acawso.org/calendar/data-analysis-committee-2-2-2-2-3-2/
CATEGORIES:committees
END:VEVENT
BEGIN:VEVENT
DTSTART;TZID=America/New_York:20250913T090000
DTEND;TZID=America/New_York:20250913T170000
DTSTAMP:20260421T221138
CREATED:20250728T104649Z
LAST-MODIFIED:20250814T211909Z
UID:10017012-1757754000-1757782800@acawso.org
SUMMARY:One Day Convention
DESCRIPTION:One Day Mini-Convention hosted by Southeast Florida ACA Intergroup.\nPlease Join in person for a day of Feelings\, Fellowship\, and FUN in West Palm Beach\, Florida. \nWorkshop presenters are local fellow travelers\, joined by guest presenter\, Bonnie M\, chair of the Loving Parent Guidebook writing committee. See attached flyer for more info! \nSponsored by IG#650
URL:https://acawso.org/calendar/one-day-convention/
CATEGORIES:events
END:VEVENT
BEGIN:VEVENT
DTSTART;TZID=America/New_York:20250913T140000
DTEND;TZID=America/New_York:20250913T160000
DTSTAMP:20260421T221138
CREATED:20250520T152440Z
LAST-MODIFIED:20250520T152440Z
UID:10016644-1757772000-1757779200@acawso.org
SUMMARY:Board Meeting with the Fellowship
DESCRIPTION:All ACA members are invited to attend these meetings. \nThese meetings are held quarterly on the second Saturday of the month from 2:00 – 4:00 PM ET. \nThe 2025 Meeting Dates \n\nMarch 8\nJune 14\nSeptember 13\nDecember 13\n\n  \nMeeting ID: 228 809 511 Passcode: 90755 \nor call in via phone at: +1 305 224 1968 (US) or see: Outside US Phone #’s \nThe WSO Secretary provides the agendas for the Board Meetings with the Fellowship and generates the meeting minutes for subsequent review and approval by the WSO Board.
URL:https://acawso.org/calendar/board-meeting-with-the-fellowship-2/2025-09-13/
CATEGORIES:committees,events
END:VEVENT
BEGIN:VEVENT
DTSTART;TZID=America/New_York:20250913T200000
DTEND;TZID=America/New_York:20250913T213000
DTSTAMP:20260421T221138
CREATED:20241109T132041Z
LAST-MODIFIED:20241109T132042Z
UID:10012527-1757793600-1757799000@acawso.org
SUMMARY:Big Red Book Working Group
DESCRIPTION:Zoom 2 ACAWSO is inviting you to a scheduled Zoom meeting.\nTopic: BRB Revision Working Group- Global East\nTime: Every month on the second and fourth Saturday at 8 PM Eastern US \nJoin Zoom Meeting\nhttps://zoom.us/j/92423141348\nMeeting ID: 924 2314 1348\nPasscode: 112358 \nPlease download and import the following iCalendar (.ics) files to your calendar system.\nMonthly: https://zoom.us/meeting/tJYpdeqpqjopHtwsBMOyTO0tAY5XaN4QYv7-/ics?icsToken=98tyKuCqqjkpG9CUsx2PRowQBojob-vwiH5egrdKjz3ILDlnTVPiF9sXCrNRROnp
URL:https://acawso.org/calendar/brb-revision-working-group-global-east-3-2/2025-09-13/
CATEGORIES:committees
END:VEVENT
BEGIN:VEVENT
DTSTART;TZID=America/New_York:20250915T090000
DTEND;TZID=America/New_York:20250915T103000
DTSTAMP:20260421T221138
CREATED:20250802T111404Z
LAST-MODIFIED:20250802T111748Z
UID:10017258-1757926800-1757932200@acawso.org
SUMMARY:Lit Evaluation Subcommittee
DESCRIPTION:Literature Evaluation meets the 3rd Monday of each month at 09:00 am EDT as well as the 1st Saturday of each month\, 12:45pm-1:45pm ET. \ncontact: liteval@acawso.org \nhttps://us02web.zoom.us/j/86113897454?pwd=UitVN2tHb1E1STJ5YXlWYU1mZXZ5Zz09 \nMeeting ID: 861 1389 7454\nPasscode: 127253
URL:https://acawso.org/calendar/lit-evaluation-subcommittee-2/2025-09-15/
CATEGORIES:committees
END:VEVENT
BEGIN:VEVENT
DTSTART;TZID=America/New_York:20250915T120000
DTEND;TZID=America/New_York:20250915T133000
DTSTAMP:20260421T221138
CREATED:20250801T144133Z
LAST-MODIFIED:20250801T144134Z
UID:10012132-1757937600-1757943000@acawso.org
SUMMARY:IT Website Redesign Working Group
DESCRIPTION:IT website redesign working group meetings every Monday at 12:00pm ET (US) \nContact:  itchair@acawso.org \nJoin Zoom Meeting\nhttps://us02web.zoom.us/j/83771567325 \nMeeting ID: 837 7156 7325\nPasscode: 088655
URL:https://acawso.org/calendar/it-website-redesign-working-group-2-2-2-2/2025-09-15/
CATEGORIES:committees
END:VEVENT
BEGIN:VEVENT
DTSTART;TZID=America/New_York:20250915T160000
DTEND;TZID=America/New_York:20250915T173000
DTSTAMP:20260421T221138
CREATED:20240812T161937Z
LAST-MODIFIED:20240812T161938Z
UID:10010183-1757952000-1757957400@acawso.org
SUMMARY:IT Committee
DESCRIPTION:IT Committee meets weekly on Monday at 4:00pm ET (US) \ncontact: itchair@acawso.org \nJoin Zoom Meeting \nhttps://us02web.zoom.us/j/89520227175 \nMeeting ID: 895 2022 7175\nPasscode: 90755\nOne tap mobile\n+19292056099\,\,89520227175# US (New York)\n+13126266799\,\,89520227175# US (Chicago) \nDial by your location\n+1 929 205 6099 US (New York)\n+1 312 626 6799 US (Chicago)\n+1 301 715 8592 US (Washington DC)\n+1 253 215 8782 US (Tacoma)\n+1 346 248 7799 US (Houston)\n+1 669 900 6833 US (San Jose)\nMeeting ID: 895 2022 7175\nFind your local number: https://us02web.zoom.us/u/kdrkCQ8UuT
URL:https://acawso.org/calendar/it-committee-2023-07-19-2-2-2/2025-09-15/
CATEGORIES:committees
END:VEVENT
BEGIN:VEVENT
DTSTART;TZID=America/New_York:20250916T170000
DTEND;TZID=America/New_York:20250916T183000
DTSTAMP:20260421T221138
CREATED:20240814T181038Z
LAST-MODIFIED:20251216T233353Z
UID:10013843-1758042000-1758047400@acawso.org
SUMMARY:ABC Study
DESCRIPTION:Please see our subcommittee homepage for more information \nThis Study Group meets weekly on Tuesdays at 5:00 pm Eastern. \nMeeting ID: 993 7036 0615\nPasscode: 182011 \nIf you have questions\, please email us at abcstudy@acawso.org.
URL:https://acawso.org/calendar/abc-study-4-2-2/2025-09-16/
CATEGORIES:committees
END:VEVENT
BEGIN:VEVENT
DTSTART;TZID=America/New_York:20250917T130000
DTEND;TZID=America/New_York:20250917T140000
DTSTAMP:20260421T221138
CREATED:20241121T204732Z
LAST-MODIFIED:20241121T204732Z
UID:10012613-1758114000-1758117600@acawso.org
SUMMARY:Translations Subcommittee
DESCRIPTION:Translation Subcommittee meets every 3rd Wednesday of the month at 1 pm ET/7 pm CET/ 6 pm GMT \n  \nMeeting ID: 879 0590 2057\nPasscode: 969814 \nAll are welcome!
URL:https://acawso.org/calendar/translations-subcommittee-2/2025-09-17/
CATEGORIES:committees
END:VEVENT
BEGIN:VEVENT
DTSTART;TZID=America/New_York:20250918T150000
DTEND;TZID=America/New_York:20250918T163000
DTSTAMP:20260421T221138
CREATED:20250801T142910Z
LAST-MODIFIED:20250801T142911Z
UID:10017016-1758207600-1758213000@acawso.org
SUMMARY:Finance Committee
DESCRIPTION:The finance committee meets Thursdays from 2:30 pm ET – 4:00pm ET.  We are looking for members with business\, finance\, or bookkeeping experience. \n  \nPlease contact treasurer@adultchildren.org or finance@acawso.org if you are interested in visiting or joining the finance committee.
URL:https://acawso.org/calendar/finance-committee-2-2/2025-09-18/
CATEGORIES:committees
END:VEVENT
BEGIN:VEVENT
DTSTART;TZID=America/New_York:20250918T161500
DTEND;TZID=America/New_York:20250918T171500
DTSTAMP:20260421T221138
CREATED:20240610T105549Z
LAST-MODIFIED:20240722T102939Z
UID:10013170-1758212100-1758215700@acawso.org
SUMMARY:Oral History Committee
DESCRIPTION:Oral History Committee meets on third Thursday of each month at 4:15pm Eastern. \nhttps://zoom.us/j/87931864867 \nMeeting ID: 879 3186 4867 \nPasscode: 076406
URL:https://acawso.org/calendar/oral-history-committee-2-2/2025-09-18/
CATEGORIES:committees
END:VEVENT
BEGIN:VEVENT
DTSTART;TZID=America/New_York:20250918T173000
DTEND;TZID=America/New_York:20250918T190000
DTSTAMP:20260421T221138
CREATED:20250718T200056Z
LAST-MODIFIED:20250718T200056Z
UID:10009949-1758216600-1758222000@acawso.org
SUMMARY:Concepts Study
DESCRIPTION:This ad hoc committee was created by the 2022 ABC. \nAll ACA’s are welcome \nZoom information: \nhttps://zoom.us/j/83429248013 \nMeeting ID: 834 2924 8013\nPasscode: 90755 \nCommittee’s page
URL:https://acawso.org/calendar/concepts-ii-and-vi-study-2-3-2-2/2025-09-18/
CATEGORIES:committees
END:VEVENT
BEGIN:VEVENT
DTSTART;TZID=America/New_York:20250918T180000
DTEND;TZID=America/New_York:20250918T193000
DTSTAMP:20260421T221138
CREATED:20250731T160916Z
LAST-MODIFIED:20260213T010306Z
UID:10016952-1758218400-1758223800@acawso.org
SUMMARY:Ballot Prep Committee
DESCRIPTION:All are welcome. \nFor more information\, contact the committee at bpc@adultchildren.org \nZoom 2 ACAWSO is inviting you to a scheduled Zoom meeting. \nMeeting ID: 815 3118 9155\nPasscode: 90755
URL:https://acawso.org/calendar/ballot-prep-committee-10-3/2025-09-18/
CATEGORIES:committees
END:VEVENT
BEGIN:VEVENT
DTSTART;TZID=America/New_York:20250920T103000
DTEND;TZID=America/New_York:20250920T120000
DTSTAMP:20260421T221138
CREATED:20250523T040155Z
LAST-MODIFIED:20250816T182356Z
UID:10017350-1758364200-1758369600@acawso.org
SUMMARY:ABC Sustainability Study Sub-Committee
DESCRIPTION:NOTE:  In July we are meeting on the 12th instead of the 5th. \nWe usually meet on the 1st & 3rd Saturday of each month from 10:30AM to Noon EDT. We recommend that you check the WSO Committee Calendar for any changes to this schedule. \nZoom URL: https://zoom.us/j/91045736882  \nMeeting ID: 910 4573 6882 \nPasscode: 992748
URL:https://acawso.org/calendar/abc-sustainability-study-sub-committee-6/2025-09-20/
CATEGORIES:committees
END:VEVENT
BEGIN:VEVENT
DTSTART;TZID=America/New_York:20250920T123000
DTEND;TZID=America/New_York:20250920T140000
DTSTAMP:20260421T221138
CREATED:20250426T032033Z
LAST-MODIFIED:20250827T230724Z
UID:10017592-1758371400-1758376800@acawso.org
SUMMARY:ABC/QDM Committee
DESCRIPTION:The ABC/AWC committee meets first and third Saturday from 12:30 to 2 pm EDT \nJoin Zoom Meeting\nhttps://us02web.zoom.us/j/87582913615?pwd=dWpPNVJPcVNiVjJxbGgzbFVwY05EZz09 \nMeeting ID: 875 8291 3615\nPasscode: ABC2022 \nContact abc@adultchildren.org for more details. \n 
URL:https://acawso.org/calendar/abc-awc-committee-4-2-3/2025-09-20/
CATEGORIES:committees
END:VEVENT
BEGIN:VEVENT
DTSTART;TZID=America/New_York:20250921T100000
DTEND;TZID=America/New_York:20250921T130000
DTSTAMP:20260421T221138
CREATED:20250901T191148Z
LAST-MODIFIED:20250901T191405Z
UID:10017645-1758448800-1758459600@acawso.org
SUMMARY:The Complete Picture
DESCRIPTION:Dear ACA Fellow Traveler\, \nThis workshop marks the turning of the season. Autumn calls us inward—to release what no longer serves us\, to gather wisdom\, and to let our true colors shine. We invite you and your Inner Family to join us for “The Complete Picture.” \nTogether\, we will explore the Drama Triangle\, nurture our Inner Child(ren)\, and deepen connection through ACA readings\, creative expression\, and meditation. Like leaves carried on the autumn wind\, we will let go\, share our stories\, and open space for healing and renewal. \nPlease bring items that comfort and inspire—a childhood photo\, art supplies\, a keepsake\, or a favorite autumn scent. These small offerings will support our creative flow and the unfolding of our journey.\nIn the spirit of harvest and transformation\, we welcome you into this circle of warmth\, courage\, and hope. \nWith love and anticipation\,\nFearless Souls – Adult Children in Recovery – #IG754 \nTime: September 21\, 2025\, @ 4pm Brussels\, 3pm GMT/UK\, 10am ET\, 7am PT\, 8am MT\nDuration: +/- 3 hours\nRegistration link: https://zoom.us/meeting/register/bOSM0wVdRCSd8isyhZ5z3Q\nZoom ID: 922 1575 0139 Passcode: LOVE \nAll Welcome  500 participants \nSponsored by IG#754
URL:https://acawso.org/calendar/the-complete-picture-2/
CATEGORIES:events
END:VEVENT
BEGIN:VEVENT
DTSTART;TZID=America/New_York:20250922T110000
DTEND;TZID=America/New_York:20250922T123000
DTSTAMP:20260421T221138
CREATED:20241230T113323Z
LAST-MODIFIED:20241230T113324Z
UID:10014646-1758538800-1758544200@acawso.org
SUMMARY:Regions Intergroups Subcommittee
DESCRIPTION:Regions Intergroups Subcommittee meets every month on the fourth Monday for approximately one hour by Zoom teleconference at 11:00AM Eastern Time. \nhttps://zoom.us/j/96414155183\nMeeting ID: 964 1415 5183\nPasscode: 308405
URL:https://acawso.org/calendar/regions-subcommittee-2-2-2-2-2/2025-09-22/
CATEGORIES:committees
END:VEVENT
BEGIN:VEVENT
DTSTART;TZID=America/New_York:20250922T110000
DTEND;TZID=America/New_York:20250922T123000
DTSTAMP:20260421T221138
CREATED:20241230T113423Z
LAST-MODIFIED:20241230T113424Z
UID:10014706-1758538800-1758544200@acawso.org
SUMMARY:Members Services Committee
DESCRIPTION:The WSO Member Services Committee (MSC) is looking for volunteers to help assist\, support\, and communicate with the worldwide ACA membership. \nWe meet every month on the fourth Monday for approximately one hour by Zoom teleconference at 11:00AM Eastern Time. \n. \n\n\n\n\n\n\n\n\n\n\n\n\n\n\n\n\n\n\n\n\nJoin Zoom Meeting\nhttps://zoom.us/j/96414155183\nMeeting ID: 964 1415 5183\nPasscode: 308405
URL:https://acawso.org/calendar/members-services-re-vision-3-2-2-2/2025-09-22/
CATEGORIES:committees
END:VEVENT
BEGIN:VEVENT
DTSTART;TZID=America/New_York:20250922T110000
DTEND;TZID=America/New_York:20250922T123000
DTSTAMP:20260421T221138
CREATED:20241230T113530Z
LAST-MODIFIED:20241230T113531Z
UID:10014766-1758538800-1758544200@acawso.org
SUMMARY:Young Adults & Teens Subcommittee
DESCRIPTION:YAT SC meeting is on every 4th Monday of the month on Zoom 2 – from 11:00AM to 12:30AM Eeastern \n  \nhttps://zoom.us/j/96414155183\nMeeting ID: 964 1415 5183\nPasscode: 308405
URL:https://acawso.org/calendar/young-adults-teens-subcommittee-2-2-2-2-2/2025-09-22/
CATEGORIES:committees
END:VEVENT
BEGIN:VEVENT
DTSTART;TZID=America/New_York:20250922T120000
DTEND;TZID=America/New_York:20250922T133000
DTSTAMP:20260421T221138
CREATED:20250801T144133Z
LAST-MODIFIED:20250801T144134Z
UID:10012133-1758542400-1758547800@acawso.org
SUMMARY:IT Website Redesign Working Group
DESCRIPTION:IT website redesign working group meetings every Monday at 12:00pm ET (US) \nContact:  itchair@acawso.org \nJoin Zoom Meeting\nhttps://us02web.zoom.us/j/83771567325 \nMeeting ID: 837 7156 7325\nPasscode: 088655
URL:https://acawso.org/calendar/it-website-redesign-working-group-2-2-2-2/2025-09-22/
CATEGORIES:committees
END:VEVENT
BEGIN:VEVENT
DTSTART;TZID=America/New_York:20250922T160000
DTEND;TZID=America/New_York:20250922T173000
DTSTAMP:20260421T221138
CREATED:20240812T161937Z
LAST-MODIFIED:20240812T161938Z
UID:10010184-1758556800-1758562200@acawso.org
SUMMARY:IT Committee
DESCRIPTION:IT Committee meets weekly on Monday at 4:00pm ET (US) \ncontact: itchair@acawso.org \nJoin Zoom Meeting \nhttps://us02web.zoom.us/j/89520227175 \nMeeting ID: 895 2022 7175\nPasscode: 90755\nOne tap mobile\n+19292056099\,\,89520227175# US (New York)\n+13126266799\,\,89520227175# US (Chicago) \nDial by your location\n+1 929 205 6099 US (New York)\n+1 312 626 6799 US (Chicago)\n+1 301 715 8592 US (Washington DC)\n+1 253 215 8782 US (Tacoma)\n+1 346 248 7799 US (Houston)\n+1 669 900 6833 US (San Jose)\nMeeting ID: 895 2022 7175\nFind your local number: https://us02web.zoom.us/u/kdrkCQ8UuT
URL:https://acawso.org/calendar/it-committee-2023-07-19-2-2-2/2025-09-22/
CATEGORIES:committees
END:VEVENT
BEGIN:VEVENT
DTSTART;TZID=America/New_York:20250923T170000
DTEND;TZID=America/New_York:20250923T183000
DTSTAMP:20260421T221138
CREATED:20240814T181038Z
LAST-MODIFIED:20251216T233353Z
UID:10013844-1758646800-1758652200@acawso.org
SUMMARY:ABC Study
DESCRIPTION:Please see our subcommittee homepage for more information \nThis Study Group meets weekly on Tuesdays at 5:00 pm Eastern. \nMeeting ID: 993 7036 0615\nPasscode: 182011 \nIf you have questions\, please email us at abcstudy@acawso.org.
URL:https://acawso.org/calendar/abc-study-4-2-2/2025-09-23/
CATEGORIES:committees
END:VEVENT
BEGIN:VEVENT
DTSTART;TZID=America/New_York:20250925T110000
DTEND;TZID=America/New_York:20250925T123000
DTSTAMP:20260421T221138
CREATED:20250807T102550Z
LAST-MODIFIED:20250807T102551Z
UID:10017265-1758798000-1758803400@acawso.org
SUMMARY:MSC Global Fellowship Meeting
DESCRIPTION:Meeting times: Americas 11am ET New York\, 8am PT California\, 4pm England\, 5pm France\, 5pm Spain\, 6pm Lithuania\, 6pm South Africa\, 6pm Egypt\, 7pm Moscow\, Russia \nTopic: MSC Western Fellowship Meeting \nJoin Zoom Meeting \nhttps://zoom.us/j/93603824987 \nMeeting ID: 936 0382 4987\nPasscode: 163248
URL:https://acawso.org/calendar/western-global-fellowship-meeting-msc-2-2/2025-09-25/
CATEGORIES:committees
END:VEVENT
BEGIN:VEVENT
DTSTART;TZID=America/New_York:20250925T180000
DTEND;TZID=America/New_York:20250925T193000
DTSTAMP:20260421T221138
CREATED:20250731T160916Z
LAST-MODIFIED:20260213T010306Z
UID:10016953-1758823200-1758828600@acawso.org
SUMMARY:Ballot Prep Committee
DESCRIPTION:All are welcome. \nFor more information\, contact the committee at bpc@adultchildren.org \nZoom 2 ACAWSO is inviting you to a scheduled Zoom meeting. \nMeeting ID: 815 3118 9155\nPasscode: 90755
URL:https://acawso.org/calendar/ballot-prep-committee-10-3/2025-09-25/
CATEGORIES:committees
END:VEVENT
END:VCALENDAR