BEGIN:VCALENDAR
VERSION:2.0
PRODID:-//ACA WSO - ECPv6.15.20//NONSGML v1.0//EN
CALSCALE:GREGORIAN
METHOD:PUBLISH
X-ORIGINAL-URL:https://acawso.org
X-WR-CALDESC:Events for ACA WSO
REFRESH-INTERVAL;VALUE=DURATION:PT1H
X-Robots-Tag:noindex
X-PUBLISHED-TTL:PT1H
BEGIN:VTIMEZONE
TZID:America/New_York
BEGIN:DAYLIGHT
TZOFFSETFROM:-0500
TZOFFSETTO:-0400
TZNAME:EDT
DTSTART:20240310T070000
END:DAYLIGHT
BEGIN:STANDARD
TZOFFSETFROM:-0400
TZOFFSETTO:-0500
TZNAME:EST
DTSTART:20241103T060000
END:STANDARD
BEGIN:DAYLIGHT
TZOFFSETFROM:-0500
TZOFFSETTO:-0400
TZNAME:EDT
DTSTART:20250309T070000
END:DAYLIGHT
BEGIN:STANDARD
TZOFFSETFROM:-0400
TZOFFSETTO:-0500
TZNAME:EST
DTSTART:20251102T060000
END:STANDARD
BEGIN:DAYLIGHT
TZOFFSETFROM:-0500
TZOFFSETTO:-0400
TZNAME:EDT
DTSTART:20260308T070000
END:DAYLIGHT
BEGIN:STANDARD
TZOFFSETFROM:-0400
TZOFFSETTO:-0500
TZNAME:EST
DTSTART:20261101T060000
END:STANDARD
END:VTIMEZONE
BEGIN:VEVENT
DTSTART;TZID=America/New_York:20250926T093000
DTEND;TZID=America/New_York:20250926T113000
DTSTAMP:20260422T145359
CREATED:20250514T104841Z
LAST-MODIFIED:20250514T104841Z
UID:10014465-1758879000-1758886200@acawso.org
SUMMARY:Publishing Committee
DESCRIPTION:Publishing Committee \nWe meet on Fridays once a month on the 4th Friday of each month. \n \nTime: 6:30 am PDT\, 9:30 am EDT\, 2:30 pm UK/GBST\, 3:30 pm CET \, 3:30 pm SAST\, 7:00 pm India \nMeeting ID: 857 7189 3168\nPasscode: 382777 \nAny questions\, contact Sue V at publishingchair@acawso.org  or on slack \n 
URL:https://acawso.org/calendar/publishing-committee-3-2/2025-09-26/
CATEGORIES:committees
END:VEVENT
BEGIN:VEVENT
DTSTART;TZID=America/New_York:20250927T200000
DTEND;TZID=America/New_York:20250927T213000
DTSTAMP:20260422T145359
CREATED:20240212T162730Z
LAST-MODIFIED:20240212T162730Z
UID:10012406-1759003200-1759008600@acawso.org
SUMMARY:Big Red Book Working Group
DESCRIPTION:Zoom 2 ACAWSO is inviting you to a scheduled Zoom meeting.\nTopic: BRB Revision Working Group- Global East\nTime: Every month on the second and fourth Saturday at 8 PM Eastern US \nJoin Zoom Meeting\nhttps://zoom.us/j/92423141348\nMeeting ID: 924 2314 1348\nPasscode: 112358 \nPlease download and import the following iCalendar (.ics) files to your calendar system.\nMonthly: https://zoom.us/meeting/tJYpdeqpqjopHtwsBMOyTO0tAY5XaN4QYv7-/ics?icsToken=98tyKuCqqjkpG9CUsx2PRowQBojob-vwiH5egrdKjz3ILDlnTVPiF9sXCrNRROnp
URL:https://acawso.org/calendar/big-red-book-working-group/2025-09-27/
CATEGORIES:committees
END:VEVENT
BEGIN:VEVENT
DTSTART;TZID=America/New_York:20250929T120000
DTEND;TZID=America/New_York:20250929T133000
DTSTAMP:20260422T145359
CREATED:20250801T144133Z
LAST-MODIFIED:20250801T144134Z
UID:10012134-1759147200-1759152600@acawso.org
SUMMARY:IT Website Redesign Working Group
DESCRIPTION:IT website redesign working group meetings every Monday at 12:00pm ET (US) \nContact:  itchair@acawso.org \nJoin Zoom Meeting\nhttps://us02web.zoom.us/j/83771567325 \nMeeting ID: 837 7156 7325\nPasscode: 088655
URL:https://acawso.org/calendar/it-website-redesign-working-group-2-2-2-2/2025-09-29/
CATEGORIES:committees
END:VEVENT
BEGIN:VEVENT
DTSTART;TZID=America/New_York:20250929T160000
DTEND;TZID=America/New_York:20250929T173000
DTSTAMP:20260422T145359
CREATED:20240812T161937Z
LAST-MODIFIED:20240812T161938Z
UID:10010185-1759161600-1759167000@acawso.org
SUMMARY:IT Committee
DESCRIPTION:IT Committee meets weekly on Monday at 4:00pm ET (US) \ncontact: itchair@acawso.org \nJoin Zoom Meeting \nhttps://us02web.zoom.us/j/89520227175 \nMeeting ID: 895 2022 7175\nPasscode: 90755\nOne tap mobile\n+19292056099\,\,89520227175# US (New York)\n+13126266799\,\,89520227175# US (Chicago) \nDial by your location\n+1 929 205 6099 US (New York)\n+1 312 626 6799 US (Chicago)\n+1 301 715 8592 US (Washington DC)\n+1 253 215 8782 US (Tacoma)\n+1 346 248 7799 US (Houston)\n+1 669 900 6833 US (San Jose)\nMeeting ID: 895 2022 7175\nFind your local number: https://us02web.zoom.us/u/kdrkCQ8UuT
URL:https://acawso.org/calendar/it-committee-2023-07-19-2-2-2/2025-09-29/
CATEGORIES:committees
END:VEVENT
BEGIN:VEVENT
DTSTART;TZID=America/New_York:20250930T170000
DTEND;TZID=America/New_York:20250930T183000
DTSTAMP:20260422T145359
CREATED:20240814T181038Z
LAST-MODIFIED:20251216T233353Z
UID:10013845-1759251600-1759257000@acawso.org
SUMMARY:ABC Study
DESCRIPTION:Please see our subcommittee homepage for more information \nThis Study Group meets weekly on Tuesdays at 5:00 pm Eastern. \nMeeting ID: 993 7036 0615\nPasscode: 182011 \nIf you have questions\, please email us at abcstudy@acawso.org.
URL:https://acawso.org/calendar/abc-study-4-2-2/2025-09-30/
CATEGORIES:committees
END:VEVENT
BEGIN:VEVENT
DTSTART;TZID=America/New_York:20251002T150000
DTEND;TZID=America/New_York:20251002T163000
DTSTAMP:20260422T145359
CREATED:20250801T142910Z
LAST-MODIFIED:20250801T142911Z
UID:10017017-1759417200-1759422600@acawso.org
SUMMARY:Finance Committee
DESCRIPTION:The finance committee meets Thursdays from 2:30 pm ET – 4:00pm ET.  We are looking for members with business\, finance\, or bookkeeping experience. \n  \nPlease contact treasurer@adultchildren.org or finance@acawso.org if you are interested in visiting or joining the finance committee.
URL:https://acawso.org/calendar/finance-committee-2-2/2025-10-02/
CATEGORIES:committees
END:VEVENT
BEGIN:VEVENT
DTSTART;TZID=America/New_York:20251002T173000
DTEND;TZID=America/New_York:20251002T190000
DTSTAMP:20260422T145359
CREATED:20240710T202917Z
LAST-MODIFIED:20240710T202917Z
UID:10009771-1759426200-1759431600@acawso.org
SUMMARY:Concepts Study
DESCRIPTION:This ad hoc committee was created by the 2022 ABC. \nAll ACA’s are welcome \nZoom information: \nhttps://zoom.us/j/83429248013 \nMeeting ID: 834 2924 8013\nPasscode: 90755 \nCommittee’s page
URL:https://acawso.org/calendar/concepts-ii-and-vi-study-2-2-2/2025-10-02/
CATEGORIES:committees
END:VEVENT
BEGIN:VEVENT
DTSTART;TZID=America/New_York:20251002T180000
DTEND;TZID=America/New_York:20251002T193000
DTSTAMP:20260422T145359
CREATED:20250731T160916Z
LAST-MODIFIED:20260213T010306Z
UID:10016954-1759428000-1759433400@acawso.org
SUMMARY:Ballot Prep Committee
DESCRIPTION:All are welcome. \nFor more information\, contact the committee at bpc@adultchildren.org \nZoom 2 ACAWSO is inviting you to a scheduled Zoom meeting. \nMeeting ID: 815 3118 9155\nPasscode: 90755
URL:https://acawso.org/calendar/ballot-prep-committee-10-3/2025-10-02/
CATEGORIES:committees
END:VEVENT
BEGIN:VEVENT
DTSTART;TZID=America/New_York:20251004T103000
DTEND;TZID=America/New_York:20251004T120000
DTSTAMP:20260422T145359
CREATED:20250523T040734Z
LAST-MODIFIED:20251031T215100Z
UID:10016702-1759573800-1759579200@acawso.org
SUMMARY:ABC Sustainability Study Sub-Committee
DESCRIPTION:We meet on the 1st & 3rd Saturday of each month from 10:30AM to Noon EDT. Always check this WSO Committee Calendar for any changes to this schedule. \nZoom URL: https://zoom.us/j/91045736882  \nMeeting ID: 910 4573 6882 \nPasscode: 992748
URL:https://acawso.org/calendar/abc-sustainability-study-sub-committee-7/2025-10-04/
CATEGORIES:committees
END:VEVENT
BEGIN:VEVENT
DTSTART;TZID=America/New_York:20251004T110000
DTEND;TZID=America/New_York:20251004T123000
DTSTAMP:20260422T145359
CREATED:20250916T193244Z
LAST-MODIFIED:20250919T205454Z
UID:10017652-1759575600-1759581000@acawso.org
SUMMARY:Fellowship Group Voting Town Hall/Forum
DESCRIPTION:Fellowship Group Voting begins on October 1st for the proposed Name Change. \nTown Halls/Forums have been scheduled\, as shown below\, and there are several reasons why we recommend that you attend one or more of them. You will: \n\nHear an explanation of the Fellowship Group Voting process\nHave the opportunity to get support for conducting an effective group conscience\nLearn about the WSO voting system that is being used for this Fellowship Group Vote\n\nThere will be six 90 minute Town Halls held on three days at two different times so that groups in different time zones will have equal access: \nOctober 4\, 2025 at 11:00 am ET\nOctober 4\, 2025 at  9:00 pm ET\nDecember 6\, 2025 at 11:00 am ET\nDecember 6\, 20252 at 9:00 pm ET\nJanuary 17\, 2026 at 11:00 am ET\nJanuary 17\, 2026 at 9:00 pm ET \n  \nThe Zoom link for all of the Town Halls is:\nhttps://zoom.us/j/94640487526\nMeeting ID: 946 4048 7526\nPasscode: 607305
URL:https://acawso.org/calendar/fellowship-group-voting-town-hall-forum/2025-10-04/1/
CATEGORIES:events
END:VEVENT
BEGIN:VEVENT
DTSTART;TZID=America/New_York:20251004T123000
DTEND;TZID=America/New_York:20251004T140000
DTSTAMP:20260422T145359
CREATED:20250129T193225Z
LAST-MODIFIED:20250510T175944Z
UID:10015722-1759581000-1759586400@acawso.org
SUMMARY:ABC/QDM Committee
DESCRIPTION:The ABC/AWC committee meets first and third Saturdays from 12:30 to 2 pm EDT \nJoin Zoom Meeting\nhttps://us02web.zoom.us/j/87582913615?pwd=dWpPNVJPcVNiVjJxbGgzbFVwY05EZz09 \nMeeting ID: 875 8291 3615\nPasscode: ABC2022 \nContact abc@adultchildren.org for more details.
URL:https://acawso.org/calendar/abc-awc-committee-5/2025-10-04/
CATEGORIES:committees
END:VEVENT
BEGIN:VEVENT
DTSTART;TZID=America/New_York:20251004T124500
DTEND;TZID=America/New_York:20251004T134500
DTSTAMP:20260422T145359
CREATED:20210626T131806Z
LAST-MODIFIED:20260115T115550Z
UID:10018120-1759581900-1759585500@acawso.org
SUMMARY:Lit Evaluation Subcommittee
DESCRIPTION:Literature Evaluation meets the 1st Saturday of each month\, 12:45pm-1:45pm ET. \ncontact: liteval@acawso.org \nhttps://us02web.zoom.us/j/86113897454?pwd=UitVN2tHb1E1STJ5YXlWYU1mZXZ5Zz09 \nMeeting ID: 861 1389 7454\nPasscode: 127253
URL:https://acawso.org/calendar/lit-evaluation-subcommittee-3/2025-10-04/
CATEGORIES:committees
END:VEVENT
BEGIN:VEVENT
DTSTART;TZID=America/New_York:20251004T160000
DTEND;TZID=America/New_York:20251004T173000
DTSTAMP:20260422T145359
CREATED:20250315T203407Z
LAST-MODIFIED:20250315T203408Z
UID:10011422-1759593600-1759599000@acawso.org
SUMMARY:SRC Committee Meeting
DESCRIPTION:Service Resources Committee meets on the 1st and 3rd Saturday of the month at 4pm ET. \nZoom 2 ACAWSO is inviting you to a scheduled Zoom meeting. \nTopic: SRC Committee Meeting\nJoin Zoom Meeting\nhttps://us02web.zoom.us/j/82077851277 \nMeeting ID: 820 7785 1277\nPasscode: 987321 \n  \nPlease download and import the following iCalendar (.ics) files to your calendar system.\nWeekly: https://us02web.zoom.us/meeting/tZYtcO6gqzooHdN_nSsMjGe-HFnItRpAbjLl/ics?icsToken=98tyKuGqrjwtEtGUsh6ARpwQAo_CKPzwmH5BgqdzoxHWEA1ZRQa7HsRMG6ZNAPnS
URL:https://acawso.org/calendar/mssc-committee-meeting-2-2/2025-10-04/
CATEGORIES:committees
END:VEVENT
BEGIN:VEVENT
DTSTART;TZID=America/New_York:20251004T210000
DTEND;TZID=America/New_York:20251004T223000
DTSTAMP:20260422T145359
CREATED:20250916T193244Z
LAST-MODIFIED:20250919T205454Z
UID:10017653-1759611600-1759617000@acawso.org
SUMMARY:Fellowship Group Voting Town Hall/Forum
DESCRIPTION:Fellowship Group Voting begins on October 1st for the proposed Name Change. \nTown Halls/Forums have been scheduled\, as shown below\, and there are several reasons why we recommend that you attend one or more of them. You will: \n\nHear an explanation of the Fellowship Group Voting process\nHave the opportunity to get support for conducting an effective group conscience\nLearn about the WSO voting system that is being used for this Fellowship Group Vote\n\nThere will be six 90 minute Town Halls held on three days at two different times so that groups in different time zones will have equal access: \nOctober 4\, 2025 at 11:00 am ET\nOctober 4\, 2025 at  9:00 pm ET\nDecember 6\, 2025 at 11:00 am ET\nDecember 6\, 20252 at 9:00 pm ET\nJanuary 17\, 2026 at 11:00 am ET\nJanuary 17\, 2026 at 9:00 pm ET \n  \nThe Zoom link for all of the Town Halls is:\nhttps://zoom.us/j/94640487526\nMeeting ID: 946 4048 7526\nPasscode: 607305
URL:https://acawso.org/calendar/fellowship-group-voting-town-hall-forum/2025-10-04/2/
CATEGORIES:events
END:VEVENT
BEGIN:VEVENT
DTSTART;TZID=America/New_York:20251006T120000
DTEND;TZID=America/New_York:20251006T133000
DTSTAMP:20260422T145359
CREATED:20250801T144133Z
LAST-MODIFIED:20250801T144134Z
UID:10012135-1759752000-1759757400@acawso.org
SUMMARY:IT Website Redesign Working Group
DESCRIPTION:IT website redesign working group meetings every Monday at 12:00pm ET (US) \nContact:  itchair@acawso.org \nJoin Zoom Meeting\nhttps://us02web.zoom.us/j/83771567325 \nMeeting ID: 837 7156 7325\nPasscode: 088655
URL:https://acawso.org/calendar/it-website-redesign-working-group-2-2-2-2/2025-10-06/
CATEGORIES:committees
END:VEVENT
BEGIN:VEVENT
DTSTART;TZID=America/New_York:20251006T160000
DTEND;TZID=America/New_York:20251006T173000
DTSTAMP:20260422T145359
CREATED:20240812T161937Z
LAST-MODIFIED:20240812T161938Z
UID:10010186-1759766400-1759771800@acawso.org
SUMMARY:IT Committee
DESCRIPTION:IT Committee meets weekly on Monday at 4:00pm ET (US) \ncontact: itchair@acawso.org \nJoin Zoom Meeting \nhttps://us02web.zoom.us/j/89520227175 \nMeeting ID: 895 2022 7175\nPasscode: 90755\nOne tap mobile\n+19292056099\,\,89520227175# US (New York)\n+13126266799\,\,89520227175# US (Chicago) \nDial by your location\n+1 929 205 6099 US (New York)\n+1 312 626 6799 US (Chicago)\n+1 301 715 8592 US (Washington DC)\n+1 253 215 8782 US (Tacoma)\n+1 346 248 7799 US (Houston)\n+1 669 900 6833 US (San Jose)\nMeeting ID: 895 2022 7175\nFind your local number: https://us02web.zoom.us/u/kdrkCQ8UuT
URL:https://acawso.org/calendar/it-committee-2023-07-19-2-2-2/2025-10-06/
CATEGORIES:committees
END:VEVENT
BEGIN:VEVENT
DTSTART;TZID=America/New_York:20251007T133000
DTEND;TZID=America/New_York:20251007T143000
DTSTAMP:20260422T145359
CREATED:20250107T111344Z
LAST-MODIFIED:20250107T111417Z
UID:10014954-1759843800-1759847400@acawso.org
SUMMARY:European Committee
DESCRIPTION:The monthly meeting is hosted by Zoom the First Tuesday of the month at 19:30 Central European Time / 18:30 UK / 20:30 Baltics / Helsinki / 21:30 Moscow time / 1:30pm ET \nhttps://us02web.zoom.us/j/83834372326 \nMeeting ID: 838 3437 2326\nPasscode: 437668 \nMore information about the European Committee can be found at https://acawso.org/category/european-connection/
URL:https://acawso.org/calendar/european-committee-2-2/2025-10-07/
CATEGORIES:committees
END:VEVENT
BEGIN:VEVENT
DTSTART;TZID=America/New_York:20251007T170000
DTEND;TZID=America/New_York:20251007T183000
DTSTAMP:20260422T145359
CREATED:20240814T181038Z
LAST-MODIFIED:20251216T233353Z
UID:10011752-1759856400-1759861800@acawso.org
SUMMARY:ABC Study
DESCRIPTION:Please see our subcommittee homepage for more information \nThis Study Group meets weekly on Tuesdays at 5:00 pm Eastern. \nMeeting ID: 993 7036 0615\nPasscode: 182011 \nIf you have questions\, please email us at abcstudy@acawso.org.
URL:https://acawso.org/calendar/abc-study-4-2-2/2025-10-07/
CATEGORIES:committees
END:VEVENT
BEGIN:VEVENT
DTSTART;TZID=America/New_York:20251009T180000
DTEND;TZID=America/New_York:20251009T193000
DTSTAMP:20260422T145359
CREATED:20250731T160916Z
LAST-MODIFIED:20260213T010306Z
UID:10016955-1760032800-1760038200@acawso.org
SUMMARY:Ballot Prep Committee
DESCRIPTION:All are welcome. \nFor more information\, contact the committee at bpc@adultchildren.org \nZoom 2 ACAWSO is inviting you to a scheduled Zoom meeting. \nMeeting ID: 815 3118 9155\nPasscode: 90755
URL:https://acawso.org/calendar/ballot-prep-committee-10-3/2025-10-09/
CATEGORIES:committees
END:VEVENT
BEGIN:VEVENT
DTSTART;TZID=America/New_York:20251010T150000
DTEND;TZID=America/New_York:20251012T120000
DTSTAMP:20260422T145400
CREATED:20250527T104141Z
LAST-MODIFIED:20250527T104141Z
UID:10016731-1760108400-1760270400@acawso.org
SUMMARY:ACA Oregon Retreat 2025
DESCRIPTION:Join us for the 2025 ACA Oregon Retreat on the weekend of October 10 – 12\, 2025 at Canby Grove Conference Center. \nWe’ll be hosting Workshops\, Fellowship\, Variety Show\, Affirmation Circle\, Games\, Music\, Crafts and more! \nFind more information on: https://acaoregon.org/aca-retreat/ \nSponsored by IG#589
URL:https://acawso.org/calendar/aca-oregon-retreat-2025/
CATEGORIES:events
END:VEVENT
BEGIN:VEVENT
DTSTART;TZID=America/New_York:20251010T150000
DTEND;TZID=America/New_York:20251012T150000
DTSTAMP:20260422T145400
CREATED:20250804T112000Z
LAST-MODIFIED:20250805T130354Z
UID:10017263-1760108400-1760281200@acawso.org
SUMMARY:ACA Fall Mountain Retreat
DESCRIPTION:Come join us for a weekend of recovery\, friendship\, fellowship\, 12 Step Meetings\, Workshops\, Arts & Crafts\, Talent no Talent Show and physical activities amid the beautiful pines in the San Bernardino National Forest! \nRegister at: https://sites.google.com/view/aca-fall-mountain-retreat/home \nSponsored by IG#625
URL:https://acawso.org/calendar/aca-fall-mountain-retreat/
CATEGORIES:events
END:VEVENT
BEGIN:VEVENT
DTSTART;TZID=America/New_York:20251010T160000
DTEND;TZID=America/New_York:20251012T120000
DTSTAMP:20260422T145400
CREATED:20250730T123217Z
LAST-MODIFIED:20250730T123217Z
UID:10017013-1760112000-1760270400@acawso.org
SUMMARY:Weekend Event 2night stay-5meals served
DESCRIPTION:This is a weekend event beginning @ 4:00 pm on Friday October 10th till Sunday October 12th Noontime.\n2 Night stay & 5 meals served. Cost is $250.00 There will be workshops\, meetings. \nSponsored by IG#044
URL:https://acawso.org/calendar/weekend-event-2night-stay-5meals-served/
CATEGORIES:events
END:VEVENT
BEGIN:VEVENT
DTSTART;TZID=America/New_York:20251011T200000
DTEND;TZID=America/New_York:20251011T213000
DTSTAMP:20260422T145400
CREATED:20241109T132041Z
LAST-MODIFIED:20241109T132042Z
UID:10012528-1760212800-1760218200@acawso.org
SUMMARY:Big Red Book Working Group
DESCRIPTION:Zoom 2 ACAWSO is inviting you to a scheduled Zoom meeting.\nTopic: BRB Revision Working Group- Global East\nTime: Every month on the second and fourth Saturday at 8 PM Eastern US \nJoin Zoom Meeting\nhttps://zoom.us/j/92423141348\nMeeting ID: 924 2314 1348\nPasscode: 112358 \nPlease download and import the following iCalendar (.ics) files to your calendar system.\nMonthly: https://zoom.us/meeting/tJYpdeqpqjopHtwsBMOyTO0tAY5XaN4QYv7-/ics?icsToken=98tyKuCqqjkpG9CUsx2PRowQBojob-vwiH5egrdKjz3ILDlnTVPiF9sXCrNRROnp
URL:https://acawso.org/calendar/brb-revision-working-group-global-east-3-2/2025-10-11/
CATEGORIES:committees
END:VEVENT
BEGIN:VEVENT
DTSTART;TZID=America/New_York:20251013T120000
DTEND;TZID=America/New_York:20251013T133000
DTSTAMP:20260422T145400
CREATED:20250801T144133Z
LAST-MODIFIED:20250801T144134Z
UID:10012136-1760356800-1760362200@acawso.org
SUMMARY:IT Website Redesign Working Group
DESCRIPTION:IT website redesign working group meetings every Monday at 12:00pm ET (US) \nContact:  itchair@acawso.org \nJoin Zoom Meeting\nhttps://us02web.zoom.us/j/83771567325 \nMeeting ID: 837 7156 7325\nPasscode: 088655
URL:https://acawso.org/calendar/it-website-redesign-working-group-2-2-2-2/2025-10-13/
CATEGORIES:committees
END:VEVENT
BEGIN:VEVENT
DTSTART;TZID=America/New_York:20251013T160000
DTEND;TZID=America/New_York:20251013T173000
DTSTAMP:20260422T145400
CREATED:20240812T161937Z
LAST-MODIFIED:20240812T161938Z
UID:10010187-1760371200-1760376600@acawso.org
SUMMARY:IT Committee
DESCRIPTION:IT Committee meets weekly on Monday at 4:00pm ET (US) \ncontact: itchair@acawso.org \nJoin Zoom Meeting \nhttps://us02web.zoom.us/j/89520227175 \nMeeting ID: 895 2022 7175\nPasscode: 90755\nOne tap mobile\n+19292056099\,\,89520227175# US (New York)\n+13126266799\,\,89520227175# US (Chicago) \nDial by your location\n+1 929 205 6099 US (New York)\n+1 312 626 6799 US (Chicago)\n+1 301 715 8592 US (Washington DC)\n+1 253 215 8782 US (Tacoma)\n+1 346 248 7799 US (Houston)\n+1 669 900 6833 US (San Jose)\nMeeting ID: 895 2022 7175\nFind your local number: https://us02web.zoom.us/u/kdrkCQ8UuT
URL:https://acawso.org/calendar/it-committee-2023-07-19-2-2-2/2025-10-13/
CATEGORIES:committees
END:VEVENT
BEGIN:VEVENT
DTSTART;TZID=America/New_York:20251014T170000
DTEND;TZID=America/New_York:20251014T183000
DTSTAMP:20260422T145400
CREATED:20240814T181038Z
LAST-MODIFIED:20251216T233353Z
UID:10013846-1760461200-1760466600@acawso.org
SUMMARY:ABC Study
DESCRIPTION:Please see our subcommittee homepage for more information \nThis Study Group meets weekly on Tuesdays at 5:00 pm Eastern. \nMeeting ID: 993 7036 0615\nPasscode: 182011 \nIf you have questions\, please email us at abcstudy@acawso.org.
URL:https://acawso.org/calendar/abc-study-4-2-2/2025-10-14/
CATEGORIES:committees
END:VEVENT
BEGIN:VEVENT
DTSTART;TZID=America/New_York:20251015T130000
DTEND;TZID=America/New_York:20251015T140000
DTSTAMP:20260422T145400
CREATED:20241121T204732Z
LAST-MODIFIED:20241121T204732Z
UID:10012614-1760533200-1760536800@acawso.org
SUMMARY:Translations Subcommittee
DESCRIPTION:Translation Subcommittee meets every 3rd Wednesday of the month at 1 pm ET/7 pm CET/ 6 pm GMT \n  \nMeeting ID: 879 0590 2057\nPasscode: 969814 \nAll are welcome!
URL:https://acawso.org/calendar/translations-subcommittee-2/2025-10-15/
CATEGORIES:committees
END:VEVENT
BEGIN:VEVENT
DTSTART;TZID=America/New_York:20251016T150000
DTEND;TZID=America/New_York:20251016T163000
DTSTAMP:20260422T145400
CREATED:20250801T142910Z
LAST-MODIFIED:20250801T142911Z
UID:10017018-1760626800-1760632200@acawso.org
SUMMARY:Finance Committee
DESCRIPTION:The finance committee meets Thursdays from 2:30 pm ET – 4:00pm ET.  We are looking for members with business\, finance\, or bookkeeping experience. \n  \nPlease contact treasurer@adultchildren.org or finance@acawso.org if you are interested in visiting or joining the finance committee.
URL:https://acawso.org/calendar/finance-committee-2-2/2025-10-16/
CATEGORIES:committees
END:VEVENT
BEGIN:VEVENT
DTSTART;TZID=America/New_York:20251016T161500
DTEND;TZID=America/New_York:20251016T171500
DTSTAMP:20260422T145400
CREATED:20240610T105549Z
LAST-MODIFIED:20240722T102939Z
UID:10013171-1760631300-1760634900@acawso.org
SUMMARY:Oral History Committee
DESCRIPTION:Oral History Committee meets on third Thursday of each month at 4:15pm Eastern. \nhttps://zoom.us/j/87931864867 \nMeeting ID: 879 3186 4867 \nPasscode: 076406
URL:https://acawso.org/calendar/oral-history-committee-2-2/2025-10-16/
CATEGORIES:committees
END:VEVENT
BEGIN:VEVENT
DTSTART;TZID=America/New_York:20251016T170000
DTEND;TZID=America/New_York:20251016T200000
DTSTAMP:20260422T145400
CREATED:20250909T170229Z
LAST-MODIFIED:20250909T170229Z
UID:10017646-1760634000-1760644800@acawso.org
SUMMARY:Anniversary / Birthday event
DESCRIPTION:Binghamton New York ACA face to face meeting is turning 6 years old! \nSponsored by NY0220
URL:https://acawso.org/calendar/anniversary-birthday-event/
CATEGORIES:events
END:VEVENT
END:VCALENDAR