BEGIN:VCALENDAR
VERSION:2.0
PRODID:-//ACA WSO - ECPv6.15.20//NONSGML v1.0//EN
CALSCALE:GREGORIAN
METHOD:PUBLISH
X-WR-CALNAME:ACA WSO
X-ORIGINAL-URL:https://acawso.org
X-WR-CALDESC:Events for ACA WSO
REFRESH-INTERVAL;VALUE=DURATION:PT1H
X-Robots-Tag:noindex
X-PUBLISHED-TTL:PT1H
BEGIN:VTIMEZONE
TZID:America/New_York
BEGIN:DAYLIGHT
TZOFFSETFROM:-0500
TZOFFSETTO:-0400
TZNAME:EDT
DTSTART:20230312T070000
END:DAYLIGHT
BEGIN:STANDARD
TZOFFSETFROM:-0400
TZOFFSETTO:-0500
TZNAME:EST
DTSTART:20231105T060000
END:STANDARD
BEGIN:DAYLIGHT
TZOFFSETFROM:-0500
TZOFFSETTO:-0400
TZNAME:EDT
DTSTART:20240310T070000
END:DAYLIGHT
BEGIN:STANDARD
TZOFFSETFROM:-0400
TZOFFSETTO:-0500
TZNAME:EST
DTSTART:20241103T060000
END:STANDARD
BEGIN:DAYLIGHT
TZOFFSETFROM:-0500
TZOFFSETTO:-0400
TZNAME:EDT
DTSTART:20250309T070000
END:DAYLIGHT
BEGIN:STANDARD
TZOFFSETFROM:-0400
TZOFFSETTO:-0500
TZNAME:EST
DTSTART:20251102T060000
END:STANDARD
END:VTIMEZONE
BEGIN:VEVENT
DTSTART;TZID=America/New_York:20240902T120000
DTEND;TZID=America/New_York:20240902T130000
DTSTAMP:20260421T065254
CREATED:20240812T161857Z
LAST-MODIFIED:20240812T161858Z
UID:10012078-1725278400-1725282000@acawso.org
SUMMARY:IT Website Redesign Working Group
DESCRIPTION:IT website redesign working group meetings every Monday at 12:00pm ET (US) \nContact:  itchair@acawso.org \nJoin Zoom Meeting\nhttps://us02web.zoom.us/j/83771567325 \nMeeting ID: 837 7156 7325\nPasscode: 088655
URL:https://acawso.org/calendar/it-website-redesign-working-group-2-2-2/2024-09-02/
CATEGORIES:committees
END:VEVENT
BEGIN:VEVENT
DTSTART;TZID=America/New_York:20240902T050000
DTEND;TZID=America/New_York:20240903T030000
DTSTAMP:20260421T065254
CREATED:20240813T115247Z
LAST-MODIFIED:20240813T115247Z
UID:10013792-1725253200-1725332400@acawso.org
SUMMARY:Labor Day Marathon Meeting
DESCRIPTION:Holiday Marathon Meeting \nPlease see the flyer for details. \nSponsored by TEL0427
URL:https://acawso.org/calendar/labor-day-marathon-meeting/
CATEGORIES:events
END:VEVENT
BEGIN:VEVENT
DTSTART;TZID=America/New_York:20240901T190000
DTEND;TZID=America/New_York:20240901T203000
DTSTAMP:20260421T065254
CREATED:20240825T031905Z
LAST-MODIFIED:20240825T031905Z
UID:10014039-1725217200-1725222600@acawso.org
SUMMARY:Ballot Prep Q&A 7 PM ET
DESCRIPTION:If your group\, intergroup or region has a suggestion for how to improve ACA/DF\, now is the time to craft it into a Ballot Proposal.   \nAnd if you have questions about how to do that\, or even just the process in general\, join us. \nIf you are unable to join us and you have questions\, please email us at bpc@acawso.org and/or visit our web page: https://acawso.org/bpc/ for more information. \nZoom information for 7 PM ET: https://zoom.us/j/91035544258 \nMeeting ID: 910 3554 4258\nPasscode: Ballot \n  \nFind your local number to dial in by phone: https://zoom.us/u/ab9vrRMpac \nMeeting ID: 910 3554 4258\nPasscode: 728645 \n 
URL:https://acawso.org/calendar/ballot-prep-qa-7-pm-et/
CATEGORIES:events
END:VEVENT
BEGIN:VEVENT
DTSTART;TZID=America/New_York:20240901T070000
DTEND;TZID=America/New_York:20240901T083000
DTSTAMP:20260421T065254
CREATED:20240825T031228Z
LAST-MODIFIED:20240825T031406Z
UID:10014038-1725174000-1725179400@acawso.org
SUMMARY:Ballot Prep Q&A - 7 AM ET
DESCRIPTION:If your group\, intergroup or region has a suggestion for how to improve ACA/DF\, now is the time to craft it into a Ballot Proposal.   \nAnd if you have questions about how to do that\, or even just the process in general\, join us. \nIf you are unable to join us and you have questions\, please email us at bpc@acawso.org and/or visit our web page: https://acawso.org/bpc/ for more information. \nZoom information for 7 am ET:  https://zoom.us/j/94818637830 \nMeeting ID: 948 1863 7830\nPasscode: Ballot \n— \nOne tap mobile\n+13092053325\,\,94818637830#\,\,\,\,*178005# US\n+13126266799\,\,94818637830#\,\,\,\,*178005# US (Chicago) \nFind your local number to dial in by phone:  https://zoom.us/u/aciURkSNbk \nMeeting ID: 948 1863 7830\nPasscode: 178005
URL:https://acawso.org/calendar/ballot-prep-qa-7-am-et/
CATEGORIES:events
END:VEVENT
BEGIN:VEVENT
DTSTART;TZID=America/New_York:20240831T123000
DTEND;TZID=America/New_York:20240831T140000
DTSTAMP:20260421T065254
CREATED:20240826T044353Z
LAST-MODIFIED:20240826T154241Z
UID:10014040-1725107400-1725112800@acawso.org
SUMMARY:ABC Sustainability Sub-Committee
DESCRIPTION:Everyone welcome. \nJoin Zoom Meeting\nhttps://zoom.us/j/91045736882 \nMeeting ID: 910 4573 6882\nPasscode: 992748 
URL:https://acawso.org/calendar/abc-sustainability-sub-committee/
CATEGORIES:committees
END:VEVENT
BEGIN:VEVENT
DTSTART;TZID=America/New_York:20240830T093000
DTEND;TZID=America/New_York:20240830T113000
DTSTAMP:20260421T065254
CREATED:20240513T155628Z
LAST-MODIFIED:20240513T155629Z
UID:10012911-1725010200-1725017400@acawso.org
SUMMARY:Publishing Committee
DESCRIPTION:Publishing Committee \nWe meet on Fridays every 2 weeks. \n \nTime: 6:30 am PDT\, 9:30 am EDT\, 2:30 pm UK/GBST\, 3:30 pm CET \, 3:30 pm SAST\, 7:00 pm India \nMeeting ID: 857 7189 3168\nPasscode: 382777 \nAny questions\, contact Sue V at publishingchair@acawso.org  or on slack \n 
URL:https://acawso.org/calendar/publishing-committee-2-2-2-3-4/2024-08-30/
CATEGORIES:committees
END:VEVENT
BEGIN:VEVENT
DTSTART;TZID=America/New_York:20240829T180000
DTEND;TZID=America/New_York:20240829T193000
DTSTAMP:20260421T065254
CREATED:20240826T044921Z
LAST-MODIFIED:20241213T193038Z
UID:10014041-1724954400-1724959800@acawso.org
SUMMARY:Ballot Prep Committee
DESCRIPTION:All are welcome. \nFor more information\, contact the committee at bpc@adultchildren.org \nZoom 2 ACAWSO is inviting you to a scheduled Zoom meeting. \nhttps://zoom.us/j/81531189155 \nMeeting ID: 815 3118 9155\nPasscode: 90755 \n  \nNote: We will not meet on December 26\, 2024
URL:https://acawso.org/calendar/ballot-prep-committee-4/2024-08-29/
CATEGORIES:committees
END:VEVENT
BEGIN:VEVENT
DTSTART;TZID=America/New_York:20240829T143000
DTEND;TZID=America/New_York:20240829T160000
DTSTAMP:20260421T065254
CREATED:20221215T201448Z
LAST-MODIFIED:20221215T201448Z
UID:10005765-1724941800-1724947200@acawso.org
SUMMARY:Finance Committee
DESCRIPTION:The finance committee meets Thursdays from 2:30 pm ET – 4:00pm ET.  We are looking for members with business\, finance\, or bookkeeping experience. \n  \nPlease contact treasurer@adultchildren.org or finance@acawso.org if you are interested in visiting or joining the finance committee.
URL:https://acawso.org/calendar/finance-committee/2024-08-29/
CATEGORIES:committees
END:VEVENT
BEGIN:VEVENT
DTSTART;TZID=America/New_York:20240827T170000
DTEND;TZID=America/New_York:20240827T183000
DTSTAMP:20260421T065254
CREATED:20240814T181038Z
LAST-MODIFIED:20251216T233353Z
UID:10013801-1724778000-1724783400@acawso.org
SUMMARY:ABC Study
DESCRIPTION:Please see our subcommittee homepage for more information \nThis Study Group meets weekly on Tuesdays at 5:00 pm Eastern. \nMeeting ID: 993 7036 0615\nPasscode: 182011 \nIf you have questions\, please email us at abcstudy@acawso.org.
URL:https://acawso.org/calendar/abc-study-4-2-2/2024-08-27/
CATEGORIES:committees
END:VEVENT
BEGIN:VEVENT
DTSTART;TZID=America/New_York:20240825T090000
DTEND;TZID=America/New_York:20240825T104500
DTSTAMP:20260421T065254
CREATED:20240801T183217Z
LAST-MODIFIED:20240801T183408Z
UID:10013701-1724576400-1724582700@acawso.org
SUMMARY:9th Anniversary Meeting of do talk\, do trust\, do feel (MA0075)
DESCRIPTION:MA0075 Do talk\, do trust\, do feel will be hosting its 9th anniversary meeting on August 25 at the Fitchburg Art Museum\, 185 Elm St\, Fitchburg\, MA. \nThis is a hybrid meeting\, so you may also join us online at Zoom ID 536 856 7242\, Pw 8jqdC9. \nThere will be two speakers and sharing. Hope to see you there!
URL:https://acawso.org/calendar/9th-anniversary-meeting-of-do-talk-do-trust-do-feel-ma0075/
CATEGORIES:events
END:VEVENT
BEGIN:VEVENT
DTSTART;TZID=America/New_York:20240824T200000
DTEND;TZID=America/New_York:20240824T213000
DTSTAMP:20260421T065254
CREATED:20240212T162730Z
LAST-MODIFIED:20240212T162730Z
UID:10012393-1724529600-1724535000@acawso.org
SUMMARY:Big Red Book Working Group
DESCRIPTION:Zoom 2 ACAWSO is inviting you to a scheduled Zoom meeting.\nTopic: BRB Revision Working Group- Global East\nTime: Every month on the second and fourth Saturday at 8 PM Eastern US \nJoin Zoom Meeting\nhttps://zoom.us/j/92423141348\nMeeting ID: 924 2314 1348\nPasscode: 112358 \nPlease download and import the following iCalendar (.ics) files to your calendar system.\nMonthly: https://zoom.us/meeting/tJYpdeqpqjopHtwsBMOyTO0tAY5XaN4QYv7-/ics?icsToken=98tyKuCqqjkpG9CUsx2PRowQBojob-vwiH5egrdKjz3ILDlnTVPiF9sXCrNRROnp
URL:https://acawso.org/calendar/big-red-book-working-group/2024-08-24/
CATEGORIES:committees
END:VEVENT
BEGIN:VEVENT
DTSTART;TZID=America/New_York:20240822T180000
DTEND;TZID=America/New_York:20240822T193000
DTSTAMP:20260421T065254
CREATED:20240711T234230Z
LAST-MODIFIED:20240801T220648Z
UID:10013705-1724349600-1724355000@acawso.org
SUMMARY:Ballot Prep Committee
DESCRIPTION:During the month of July the Ballot Prep Committee will meet on the 11th\, 18th\, and 25th.  During the month of August 2024 we will meet on meets on the 1st\, the 8th\, and the 22nd. \nWe meet from 6 to 7:30 pm ET. \nFor more information\, contact the committee at bpc@adultchildren.org \nZoom 2 ACAWSO is inviting you to a scheduled Zoom meeting. \nhttps://zoom.us/j/81531189155 \nMeeting ID: 815 3118 9155\nPasscode: 90755
URL:https://acawso.org/calendar/ballot-prep-committee-2-2-2-2-2/2024-08-22/
CATEGORIES:committees
END:VEVENT
BEGIN:VEVENT
DTSTART;TZID=America/New_York:20240822T143000
DTEND;TZID=America/New_York:20240822T160000
DTSTAMP:20260421T065254
CREATED:20221215T201448Z
LAST-MODIFIED:20221215T201448Z
UID:10005764-1724337000-1724342400@acawso.org
SUMMARY:Finance Committee
DESCRIPTION:The finance committee meets Thursdays from 2:30 pm ET – 4:00pm ET.  We are looking for members with business\, finance\, or bookkeeping experience. \n  \nPlease contact treasurer@adultchildren.org or finance@acawso.org if you are interested in visiting or joining the finance committee.
URL:https://acawso.org/calendar/finance-committee/2024-08-22/
CATEGORIES:committees
END:VEVENT
BEGIN:VEVENT
DTSTART;TZID=America/New_York:20240821T130000
DTEND;TZID=America/New_York:20240821T140000
DTSTAMP:20260421T065254
CREATED:20220618T101140Z
LAST-MODIFIED:20240326T160315Z
UID:10005451-1724245200-1724248800@acawso.org
SUMMARY:Translations Subcommittee
DESCRIPTION:Translation Subcommittee meets every 3rd Wednesday of the month at 1 pm ET/7 pm CET/ 6 pm GMT \n  \nMeeting ID: 879 0590 2057\nPasscode: 969814 \nAll are welcome!
URL:https://acawso.org/calendar/translations-subcommittee/2024-08-21/
CATEGORIES:committees
END:VEVENT
BEGIN:VEVENT
DTSTART;TZID=America/New_York:20240820T170000
DTEND;TZID=America/New_York:20240820T183000
DTSTAMP:20260421T065254
CREATED:20240814T181038Z
LAST-MODIFIED:20251216T233353Z
UID:10013800-1724173200-1724178600@acawso.org
SUMMARY:ABC Study
DESCRIPTION:Please see our subcommittee homepage for more information \nThis Study Group meets weekly on Tuesdays at 5:00 pm Eastern. \nMeeting ID: 993 7036 0615\nPasscode: 182011 \nIf you have questions\, please email us at abcstudy@acawso.org.
URL:https://acawso.org/calendar/abc-study-4-2-2/2024-08-20/
CATEGORIES:committees
END:VEVENT
BEGIN:VEVENT
DTSTART;TZID=America/New_York:20240819T160000
DTEND;TZID=America/New_York:20240819T173000
DTSTAMP:20260421T065254
CREATED:20240812T161937Z
LAST-MODIFIED:20240812T161938Z
UID:10007485-1724083200-1724088600@acawso.org
SUMMARY:IT Committee
DESCRIPTION:IT Committee meets weekly on Monday at 4:00pm ET (US) \ncontact: itchair@acawso.org \nJoin Zoom Meeting \nhttps://us02web.zoom.us/j/89520227175 \nMeeting ID: 895 2022 7175\nPasscode: 90755\nOne tap mobile\n+19292056099\,\,89520227175# US (New York)\n+13126266799\,\,89520227175# US (Chicago) \nDial by your location\n+1 929 205 6099 US (New York)\n+1 312 626 6799 US (Chicago)\n+1 301 715 8592 US (Washington DC)\n+1 253 215 8782 US (Tacoma)\n+1 346 248 7799 US (Houston)\n+1 669 900 6833 US (San Jose)\nMeeting ID: 895 2022 7175\nFind your local number: https://us02web.zoom.us/u/kdrkCQ8UuT
URL:https://acawso.org/calendar/it-committee-2023-07-19-2-2-2/2024-08-19/
CATEGORIES:committees
END:VEVENT
BEGIN:VEVENT
DTSTART;TZID=America/New_York:20240819T120000
DTEND;TZID=America/New_York:20240819T130000
DTSTAMP:20260421T065254
CREATED:20240812T161857Z
LAST-MODIFIED:20240812T161858Z
UID:10012076-1724068800-1724072400@acawso.org
SUMMARY:IT Website Redesign Working Group
DESCRIPTION:IT website redesign working group meetings every Monday at 12:00pm ET (US) \nContact:  itchair@acawso.org \nJoin Zoom Meeting\nhttps://us02web.zoom.us/j/83771567325 \nMeeting ID: 837 7156 7325\nPasscode: 088655
URL:https://acawso.org/calendar/it-website-redesign-working-group-2-2-2/2024-08-19/
CATEGORIES:committees
END:VEVENT
BEGIN:VEVENT
DTSTART;TZID=America/New_York:20240818T120000
DTEND;TZID=America/New_York:20240818T170000
DTSTAMP:20260421T065254
CREATED:20240502T105637Z
LAST-MODIFIED:20240502T105637Z
UID:10012900-1723982400-1724000400@acawso.org
SUMMARY:ACA Play Day in the Woods - Exploring Promise 7
DESCRIPTION:ACA Play Day\nIn the Woods\nSunday August 18\, 2024 \nFort Washington State Park\nMilitia Hill Pavilion 3 \nWe will plan the meetings\, speakers etc\nYou bring a picnic lunch\, inner child and your favorite outdoor toy \nWe have MH-3 (militia hill) reserved for the whole day if you want to get there early for a hike\, fishing or bird watching. We will have meetings\, speakers and games from 12-5pm decoration time starts at 9am \nFor more information or RSVP paacaigevents@gmail.com\nor visit https://www.paacaintergroup.com \nSponsored by IG#599 \nDownloadable flyer.
URL:https://acawso.org/calendar/aca-play-day-in-the-woods-exploring-promise-7/
CATEGORIES:events
END:VEVENT
BEGIN:VEVENT
DTSTART;TZID=America/New_York:20240817T140000
DTEND;TZID=America/New_York:20240817T150000
DTSTAMP:20260421T065254
CREATED:20210628T210848Z
LAST-MODIFIED:20221215T110738Z
UID:10004783-1723903200-1723906800@acawso.org
SUMMARY:Comline SubCommittee
DESCRIPTION:Comline Subcommittee meets the third Saturday of the month at 2:00pm ET (US) \nWe are currently working on developing an ACA blog. \nJoin Zoom Meeting\nhttps://us02web.zoom.us/j/85733515540?pwd=amV0K0ZIVXAwWDltdkViVEFnczlUQT09 \nMeeting ID: 857 3351 5540\nPasscode: comline \nFind your local number: https://us02web.zoom.us/u/kz0Qm1NB6
URL:https://acawso.org/calendar/comline-subcommittee/2024-08-17/
CATEGORIES:committees
END:VEVENT
BEGIN:VEVENT
DTSTART;TZID=America/New_York:20240817T103000
DTEND;TZID=America/New_York:20240817T120000
DTSTAMP:20260421T065254
CREATED:20230524T174507Z
LAST-MODIFIED:20230524T174507Z
UID:10007684-1723890600-1723896000@acawso.org
SUMMARY:ABC/AWC Committee
DESCRIPTION:The ABC/AWC committee meets first and third Saturday at 10:30AM EDT \nJoin Zoom Meeting\nhttps://us02web.zoom.us/j/87582913615?pwd=dWpPNVJPcVNiVjJxbGgzbFVwY05EZz09 \nMeeting ID: 875 8291 3615\nPasscode: ABC2022 \nContact abc@adultchildren.org for more details. \nMonthly reports posted at https://acawso.org/category/abc-committee/
URL:https://acawso.org/calendar/abc-awc-committee-4/2024-08-17/
CATEGORIES:committees
END:VEVENT
BEGIN:VEVENT
DTSTART;TZID=America/New_York:20240817T090000
DTEND;TZID=America/New_York:20240817T130000
DTSTAMP:20260421T065254
CREATED:20240715T095928Z
LAST-MODIFIED:20240715T095928Z
UID:10013607-1723885200-1723899600@acawso.org
SUMMARY:Quarterly Delegate Meeting
DESCRIPTION:The Quarterly Delegate Meeting will occur on the 17th August between 9am-1pm ET. \nEmail invites will be sent to all registered delegates a few days before the event
URL:https://acawso.org/calendar/quarterly-delegate-meeting/
CATEGORIES:committees
END:VEVENT
BEGIN:VEVENT
DTSTART;TZID=America/New_York:20240816T180000
DTEND;TZID=America/New_York:20240816T190000
DTSTAMP:20260421T065254
CREATED:20240805T174438Z
LAST-MODIFIED:20240805T174439Z
UID:10014880-1723831200-1723834800@acawso.org
SUMMARY:Data Analysis Committee
DESCRIPTION:Meeting in August moved to 9th of August to accomodate the August QDM. Please email data@acawso.org or post in data_request in Slack if have a request. \nData Analysis Committee meets every third Friday the month at  3 PM PDT\, 4 PM MDT\, 5 PM CDT\, 6 PM EDT\, Saturday at 5 AM Thailand/Vietnam\, 6 AM Singapore/Taiwan/China\, 7 AM Japan \nFor information how to attend please contact the committee.
URL:https://acawso.org/calendar/data-analysis-committee-2-2-2-2/2024-08-16/
CATEGORIES:committees
END:VEVENT
BEGIN:VEVENT
DTSTART;TZID=America/New_York:20240816T093000
DTEND;TZID=America/New_York:20240816T113000
DTSTAMP:20260421T065254
CREATED:20240814T181726Z
LAST-MODIFIED:20240814T181726Z
UID:10012910-1723800600-1723807800@acawso.org
SUMMARY:Publishing Committee
DESCRIPTION:August 16 Cancelled \nPublishing Committee \nWe meet on Fridays every 2 weeks. \n \nTime: 6:30 am PDT\, 9:30 am EDT\, 2:30 pm UK/GBST\, 3:30 pm CET \, 3:30 pm SAST\, 7:00 pm India \nMeeting ID: 857 7189 3168\nPasscode: 382777 \nAny questions\, contact Sue V at publishingchair@acawso.org  or on slack \n 
URL:https://acawso.org/calendar/publishing-committee-2-2-2-3-4-2/
CATEGORIES:committees
END:VEVENT
BEGIN:VEVENT
DTSTART;TZID=America/New_York:20240815T190000
DTEND;TZID=America/New_York:20240815T210000
DTSTAMP:20260421T065254
CREATED:20240603T040757Z
LAST-MODIFIED:20240603T040757Z
UID:10013026-1723748400-1723755600@acawso.org
SUMMARY:Ready Set GO!!  Evening Series
DESCRIPTION:Download Flyer Here \n\n		\n			\n			\n		\n\n		\n  \nReady Set GO!! is a 6-week introductory program of the ACA program\, the ACA 12 Steps and an introductory Inner Child Workshop “Awakening My Little One”. \nRSG is a meeting/workshop with: \n\nMembers volunteering to be the leader will read the leader’s parts of the RSG material while other volunteer members will read the other parts as we screen share the RSG script.\nMembers will have 2 fifteen minute sharing times with 3 minute shares for each member using breakout rooms.\n\nOccasionally the leader will ask members for brief questions about the readings and the leader or others at the meeting may respond with brief answers. (Time is limited) \nRSG’s weekly schedule:\nWeek 1: Introduction\, Steps 1\, 2\, 3\nWeek 2: Steps 4\, 5\nWeek 3: Steps 6\, 7\, 8\, 9\nWeek 4: Steps 10\, 11\, 12\nWeek 5: RSG Inner Child Workshop\nWeek 6: RSG Inner Child Workshop \nClick on the link and then click on: open the link\, or copy and paste \nHere is the link for your RSG material: including dated flyers for: https://drive.google.com/drive/folders/1pAjkUD35MtBbKZzRG2Jmyhh1BLxaaFpA?ths=true \nPlease read the PARTICIPANT_PREPARATION_RSG_pdf first\, then the flyer. \nThe first week after the closing of the meeting we will discuss RSG Sharing Partner/ Outreach List. Time permitting\, we will have a Q&A of ACA and RSG. \nAll RSG introductory meetings/workshop are registered and closed meetings (ACA members only). \nRSG has been developed especially to support newcomers\, while also being beneficial to the experienced member. \nOur RSG online/telephone meeting ID# for this session is WEB1120. \nIn accordance with the 7th Tradition: \nTo contribute directly to WSO: \n\nBy Venmo to @acawso\nOnline at https://adultchildren.org/7th-tradition/\nBy calling 562-595-7831\nBy mail\, check payable to ACA WSO\, PO Box 811 Lakewood\, CA 90714\n\nPlease also consider contributing to our sponsoring intergroup WEST GREAT LAKES ACA INTERGROUP\, IG#70 at westgreatlakesaca.org \nThank you for supporting ACA and the World Service Organization. Contribute only what you can afford. All amounts\, no matter the size\, are important to our tradition of self-support through our own contributions and to your own recovery. \nNewcomers are encouraged to buy literature or books and are welcome to contribute to the 7th tradition when they are ready. \nContacts: \nToni P: acatoni5617@comcast.net\nMargaret H: readysetgo.pa19@gmail.com\nComments: acatoni5617@comcast.net \n  \nOur RSG online/phone Meeting ID# for this sessions is WEB1120. \nThursdays\, \n6:00pm CT\, 7:00pm ET\, 4:00pm PT\, 5:00pm MT \nJuly 11\, 18\, 25\, August 1\, 8 15 – 2024 \nClick here -> LINK to find your own time zone.
URL:https://acawso.org/calendar/ready-set-go-evening-series-14/2024-08-15/
CATEGORIES:events
END:VEVENT
BEGIN:VEVENT
DTSTART;TZID=America/New_York:20240815T173000
DTEND;TZID=America/New_York:20240815T190000
DTSTAMP:20260421T065254
CREATED:20240710T195014Z
LAST-MODIFIED:20240710T203031Z
UID:10009936-1723743000-1723748400@acawso.org
SUMMARY:Concepts Study
DESCRIPTION:This ad hoc committee was created by the 2022 ABC. \nAll ACA’s are welcome \nZoom information: \nhttps://zoom.us/j/83429248013 \nMeeting ID: 834 2924 8013\nPasscode: 90755 \nCommittee’s page
URL:https://acawso.org/calendar/concepts-ii-and-vi-study-2-3-2/2024-08-15/
CATEGORIES:committees
END:VEVENT
BEGIN:VEVENT
DTSTART;TZID=America/New_York:20240815T161500
DTEND;TZID=America/New_York:20240815T171500
DTSTAMP:20260421T065254
CREATED:20240610T105549Z
LAST-MODIFIED:20240722T102939Z
UID:10013159-1723738500-1723742100@acawso.org
SUMMARY:Oral History Committee
DESCRIPTION:Oral History Committee meets on third Thursday of each month at 4:15pm Eastern. \nhttps://zoom.us/j/87931864867 \nMeeting ID: 879 3186 4867 \nPasscode: 076406
URL:https://acawso.org/calendar/oral-history-committee-2-2/2024-08-15/
CATEGORIES:committees
END:VEVENT
BEGIN:VEVENT
DTSTART;TZID=America/New_York:20240815T143000
DTEND;TZID=America/New_York:20240815T160000
DTSTAMP:20260421T065254
CREATED:20221215T201448Z
LAST-MODIFIED:20221215T201448Z
UID:10005763-1723732200-1723737600@acawso.org
SUMMARY:Finance Committee
DESCRIPTION:The finance committee meets Thursdays from 2:30 pm ET – 4:00pm ET.  We are looking for members with business\, finance\, or bookkeeping experience. \n  \nPlease contact treasurer@adultchildren.org or finance@acawso.org if you are interested in visiting or joining the finance committee.
URL:https://acawso.org/calendar/finance-committee/2024-08-15/
CATEGORIES:committees
END:VEVENT
BEGIN:VEVENT
DTSTART;TZID=America/New_York:20240815T123000
DTEND;TZID=America/New_York:20240815T140000
DTSTAMP:20260421T065254
CREATED:20210612T223946Z
LAST-MODIFIED:20210612T224144Z
UID:10004671-1723725000-1723730400@acawso.org
SUMMARY:Board Executive Committee
DESCRIPTION:The WSO Board’s Executive committee meets twice a month on the 1st and 3rd Thursdays at 12:30pm Eastern Time
URL:https://acawso.org/calendar/board-executive-committee/2024-08-15/
END:VEVENT
BEGIN:VEVENT
DTSTART;TZID=America/New_York:20240813T170000
DTEND;TZID=America/New_York:20240813T183000
DTSTAMP:20260421T065254
CREATED:20240814T181038Z
LAST-MODIFIED:20251216T233353Z
UID:10013799-1723568400-1723573800@acawso.org
SUMMARY:ABC Study
DESCRIPTION:Please see our subcommittee homepage for more information \nThis Study Group meets weekly on Tuesdays at 5:00 pm Eastern. \nMeeting ID: 993 7036 0615\nPasscode: 182011 \nIf you have questions\, please email us at abcstudy@acawso.org.
URL:https://acawso.org/calendar/abc-study-4-2-2/2024-08-13/
CATEGORIES:committees
END:VEVENT
BEGIN:VEVENT
DTSTART;TZID=America/New_York:20240813T140000
DTEND;TZID=America/New_York:20240813T153000
DTSTAMP:20260421T065254
CREATED:20220902T154208Z
LAST-MODIFIED:20220902T154208Z
UID:10007883-1723557600-1723563000@acawso.org
SUMMARY:Archives Committee Meeting
DESCRIPTION:Join the Archives Committee at \nhttps://us02web.zoom.us/j/89913165113 \nMeeting ID: 899 1316 5113\nPasscode: 495053
URL:https://acawso.org/calendar/archives-committee-meeting/2024-08-13/
END:VEVENT
END:VCALENDAR