BEGIN:VCALENDAR
VERSION:2.0
PRODID:-//ACA WSO - ECPv6.15.20//NONSGML v1.0//EN
CALSCALE:GREGORIAN
METHOD:PUBLISH
X-WR-CALNAME:ACA WSO
X-ORIGINAL-URL:https://acawso.org
X-WR-CALDESC:Events for ACA WSO
REFRESH-INTERVAL;VALUE=DURATION:PT1H
X-Robots-Tag:noindex
X-PUBLISHED-TTL:PT1H
BEGIN:VTIMEZONE
TZID:America/New_York
BEGIN:DAYLIGHT
TZOFFSETFROM:-0500
TZOFFSETTO:-0400
TZNAME:EDT
DTSTART:20240310T070000
END:DAYLIGHT
BEGIN:STANDARD
TZOFFSETFROM:-0400
TZOFFSETTO:-0500
TZNAME:EST
DTSTART:20241103T060000
END:STANDARD
BEGIN:DAYLIGHT
TZOFFSETFROM:-0500
TZOFFSETTO:-0400
TZNAME:EDT
DTSTART:20250309T070000
END:DAYLIGHT
BEGIN:STANDARD
TZOFFSETFROM:-0400
TZOFFSETTO:-0500
TZNAME:EST
DTSTART:20251102T060000
END:STANDARD
BEGIN:DAYLIGHT
TZOFFSETFROM:-0500
TZOFFSETTO:-0400
TZNAME:EDT
DTSTART:20260308T070000
END:DAYLIGHT
BEGIN:STANDARD
TZOFFSETFROM:-0400
TZOFFSETTO:-0500
TZNAME:EST
DTSTART:20261101T060000
END:STANDARD
BEGIN:DAYLIGHT
TZOFFSETFROM:-0500
TZOFFSETTO:-0400
TZNAME:EDT
DTSTART:20270314T070000
END:DAYLIGHT
BEGIN:STANDARD
TZOFFSETFROM:-0400
TZOFFSETTO:-0500
TZNAME:EST
DTSTART:20271107T060000
END:STANDARD
END:VTIMEZONE
BEGIN:VEVENT
DTSTART;TZID=America/New_York:20260118T103000
DTEND;TZID=America/New_York:20260118T120000
DTSTAMP:20260420T094758
CREATED:20251031T215409Z
LAST-MODIFIED:20260228T184519Z
UID:10018191-1768732200-1768737600@acawso.org
SUMMARY:ABC Sustainability Study Sub-Committee
DESCRIPTION:We generally meet on the 1st & 3rd Saturday of each month from 10:30AM to Noon EDT. \nAlways check this WSO Committee Calendar for any changes to our schedule. \nWe meet on Zoom 2: \nZoom URL: https://zoom.us/j/91045736882  \nMeeting ID: 910 4573 6882 \nPasscode: 992748
URL:https://acawso.org/calendar/abc-sustainability-study-sub-committee-7-2/2026-01-18/
CATEGORIES:committees
END:VEVENT
BEGIN:VEVENT
DTSTART;TZID=America/New_York:20260117T210000
DTEND;TZID=America/New_York:20260117T223000
DTSTAMP:20260420T094758
CREATED:20251004T223818Z
LAST-MODIFIED:20251206T171747Z
UID:10017660-1768683600-1768689000@acawso.org
SUMMARY:Fellowship Group Voting Town Hall/Forum
DESCRIPTION:Fellowship Group Voting began on October 1st for the proposed Name Change. \nThere have been four Town Halls/Forums on this topic already\, but it’s not too late. The remaining two are two scheduled for today/tonight for 90 minutes each (in different time zones so groups have equal access): \nJanuary 17\, 2026 at 11:00 am ETJanuary 17\, 2026 at 9:00 pm ET \n  \nThere are several reasons why we recommend that you attend. You will: \n\nHear an explanation of the Fellowship Group Voting process\nHave the opportunity to get support for conducting an effective group conscience\nLearn about the WSO voting system that is being used for this Fellowship Group Vote\n\n  \nTopic: Fellowship Group VotingTime: Jan 17\, 2026 9:00 PM Eastern Time (US and Canada)Join Zoom Meetinghttps://zoom.us/j/96175175199 (Passcode: 080125)
URL:https://acawso.org/calendar/fellowship-group-voting-town-hall-forum-5/
CATEGORIES:events
END:VEVENT
BEGIN:VEVENT
DTSTART;TZID=America/New_York:20260117T123000
DTEND;TZID=America/New_York:20260117T140000
DTSTAMP:20260420T094758
CREATED:20250426T032033Z
LAST-MODIFIED:20250827T230724Z
UID:10017596-1768653000-1768658400@acawso.org
SUMMARY:ABC/QDM Committee
DESCRIPTION:The ABC/AWC committee meets first and third Saturday from 12:30 to 2 pm EDT \nJoin Zoom Meeting\nhttps://us02web.zoom.us/j/87582913615?pwd=dWpPNVJPcVNiVjJxbGgzbFVwY05EZz09 \nMeeting ID: 875 8291 3615\nPasscode: ABC2022 \nContact abc@adultchildren.org for more details. \n 
URL:https://acawso.org/calendar/abc-awc-committee-4-2-3/2026-01-17/
CATEGORIES:committees
END:VEVENT
BEGIN:VEVENT
DTSTART;TZID=America/New_York:20260117T110000
DTEND;TZID=America/New_York:20260117T123000
DTSTAMP:20260420T094758
CREATED:20251004T223550Z
LAST-MODIFIED:20251206T171837Z
UID:10017659-1768647600-1768653000@acawso.org
SUMMARY:Fellowship Group Voting Town Hall/Forum
DESCRIPTION:Fellowship Group Voting began on October 1st for the proposed Name Change. \nThere have been four Town Halls/Forums on this topic already\, but it’s not too late. The remaining two are two scheduled for today/tonight for 90 minutes each (in different time zones so groups have equal access): \nJanuary 17\, 2026 at 11:00 am ET\nJanuary 17\, 2026 at 9:00 pm ET \n  \nThere are several reasons why we recommend that you attend. You will: \n\nHear an explanation of the Fellowship Group Voting process\nHave the opportunity to get support for conducting an effective group conscience\nLearn about the WSO voting system that is being used for this Fellowship Group Vote\n\n  \nTopic: Fellowship Group Voting\nTime: January 17\, 2026 11:00 AM Eastern Time (US and Canada)\nJoin Zoom Meeting\nhttps://zoom.us/j/96175175199 (Passcode: 080125)
URL:https://acawso.org/calendar/fellowship-group-voting-town-hall-forum-4/
CATEGORIES:events
END:VEVENT
BEGIN:VEVENT
DTSTART;TZID=America/New_York:20260117T103000
DTEND;TZID=America/New_York:20260117T120000
DTSTAMP:20260420T094758
CREATED:20260117T154318Z
LAST-MODIFIED:20260119T114552Z
UID:10017354-1768645800-1768651200@acawso.org
SUMMARY:ABC Sustainability Study Sub-Committee
DESCRIPTION:NOTE:  In January we are meeting on the 18th instead of the 17th. \nWe usually meet on the 1st & 3rd Saturday of each month from 10:30AM to Noon EDT. We recommend that you check the WSO Committee Calendar for any changes to this schedule. \nZoom URL: https://zoom.us/j/91045736882  \nMeeting ID: 910 4573 6882 \nPasscode: 992748
URL:https://acawso.org/calendar/abc-sustainability-study-sub-committee-6-3/2026-01-17/
CATEGORIES:committees
END:VEVENT
BEGIN:VEVENT
DTSTART;TZID=America/New_York:20260116T180000
DTEND;TZID=America/New_York:20260116T190000
DTSTAMP:20260420T094758
CREATED:20250816T110018Z
LAST-MODIFIED:20260302T110304Z
UID:10009448-1768586400-1768590000@acawso.org
SUMMARY:Data Analysis Committee
DESCRIPTION:  \nData Analysis Committee meets every third Friday the month at  3 PM PDT\, 4 PM MDT\, 5 PM CDT\, 6 PM EDT\, Saturday at 5 AM Thailand/Vietnam\, 6 AM Singapore/Taiwan/China\, 7 AM Japan \nFor information how to attend please contact the committee.
URL:https://acawso.org/calendar/data-analysis-committee-2-2-2-2-3/2026-01-16/
CATEGORIES:committees
END:VEVENT
BEGIN:VEVENT
DTSTART;TZID=America/New_York:20260115T161500
DTEND;TZID=America/New_York:20260115T171500
DTSTAMP:20260420T094758
CREATED:20240610T105549Z
LAST-MODIFIED:20240722T102939Z
UID:10013173-1768493700-1768497300@acawso.org
SUMMARY:Oral History Committee
DESCRIPTION:Oral History Committee meets on third Thursday of each month at 4:15pm Eastern. \nhttps://zoom.us/j/87931864867 \nMeeting ID: 879 3186 4867 \nPasscode: 076406
URL:https://acawso.org/calendar/oral-history-committee-2-2/2026-01-15/
CATEGORIES:committees
END:VEVENT
BEGIN:VEVENT
DTSTART;TZID=America/New_York:20260113T170000
DTEND;TZID=America/New_York:20260113T183000
DTSTAMP:20260420T094758
CREATED:20240814T181038Z
LAST-MODIFIED:20251216T233353Z
UID:10013856-1768323600-1768329000@acawso.org
SUMMARY:ABC Study
DESCRIPTION:Please see our subcommittee homepage for more information \nThis Study Group meets weekly on Tuesdays at 5:00 pm Eastern. \nMeeting ID: 993 7036 0615\nPasscode: 182011 \nIf you have questions\, please email us at abcstudy@acawso.org.
URL:https://acawso.org/calendar/abc-study-4-2-2/2026-01-13/
CATEGORIES:committees
END:VEVENT
BEGIN:VEVENT
DTSTART;TZID=America/New_York:20260112T160000
DTEND;TZID=America/New_York:20260112T173000
DTSTAMP:20260420T094758
CREATED:20251119T192005Z
LAST-MODIFIED:20251119T192007Z
UID:10010200-1768233600-1768239000@acawso.org
SUMMARY:IT Committee
DESCRIPTION:IT Committee meets as and when needed on Mondays at 4:00pm ET (US). Please contact the IT Chair before attending the meeting to find out if it meets in a given week. \ncontact: itchair@acawso.org \nJoin Zoom Meeting \nhttps://us02web.zoom.us/j/89520227175 \nMeeting ID: 895 2022 7175\nPasscode: 90755
URL:https://acawso.org/calendar/it-committee-2023-07-19-2-2-2-2/2026-01-12/
CATEGORIES:committees
END:VEVENT
BEGIN:VEVENT
DTSTART;TZID=America/New_York:20260112T120000
DTEND;TZID=America/New_York:20260112T133000
DTSTAMP:20260420T094758
CREATED:20250801T144133Z
LAST-MODIFIED:20250801T144134Z
UID:10012149-1768219200-1768224600@acawso.org
SUMMARY:IT Website Redesign Working Group
DESCRIPTION:IT website redesign working group meetings every Monday at 12:00pm ET (US) \nContact:  itchair@acawso.org \nJoin Zoom Meeting\nhttps://us02web.zoom.us/j/83771567325 \nMeeting ID: 837 7156 7325\nPasscode: 088655
URL:https://acawso.org/calendar/it-website-redesign-working-group-2-2-2-2/2026-01-12/
CATEGORIES:committees
END:VEVENT
BEGIN:VEVENT
DTSTART;TZID=America/New_York:20260110T200000
DTEND;TZID=America/New_York:20260110T213000
DTSTAMP:20260420T094758
CREATED:20251218T121534Z
LAST-MODIFIED:20260110T153655Z
UID:10018111-1768075200-1768080600@acawso.org
SUMMARY:Meet the Trustees
DESCRIPTION:Join us on Saturday\, 10th January 2026 at 10:00am or 8pm ET to meet and talk to the Trustees. \nZoom Info: https://zoom.us/j/91694985625 \nMeeting ID: 916 9498 5625Passcode: 112358 \nSponsored by the Board of Trustees.
URL:https://acawso.org/calendar/meet-the-trustees/
CATEGORIES:committees,events
END:VEVENT
BEGIN:VEVENT
DTSTART;TZID=America/New_York:20260110T200000
DTEND;TZID=America/New_York:20260110T213000
DTSTAMP:20260420T094758
CREATED:20241109T132041Z
LAST-MODIFIED:20241109T132042Z
UID:10012531-1768075200-1768080600@acawso.org
SUMMARY:Big Red Book Working Group
DESCRIPTION:Zoom 2 ACAWSO is inviting you to a scheduled Zoom meeting.\nTopic: BRB Revision Working Group- Global East\nTime: Every month on the second and fourth Saturday at 8 PM Eastern US \nJoin Zoom Meeting\nhttps://zoom.us/j/92423141348\nMeeting ID: 924 2314 1348\nPasscode: 112358 \nPlease download and import the following iCalendar (.ics) files to your calendar system.\nMonthly: https://zoom.us/meeting/tJYpdeqpqjopHtwsBMOyTO0tAY5XaN4QYv7-/ics?icsToken=98tyKuCqqjkpG9CUsx2PRowQBojob-vwiH5egrdKjz3ILDlnTVPiF9sXCrNRROnp
URL:https://acawso.org/calendar/brb-revision-working-group-global-east-3-2/2026-01-10/
CATEGORIES:committees
END:VEVENT
BEGIN:VEVENT
DTSTART;TZID=America/New_York:20260110T123000
DTEND;TZID=America/New_York:20260110T133000
DTSTAMP:20260420T094758
CREATED:20251030T042728Z
LAST-MODIFIED:20251030T204943Z
UID:10017676-1768048200-1768051800@acawso.org
SUMMARY:Floor Motion Task Force
DESCRIPTION:Meeting 2nd and 4th Saturday of the month\nFirst meeting November 8th\n12:30 pm-1:30 pm est\nMeeting ID: 875 8291 3615\nPasscode: ABC2022
URL:https://acawso.org/calendar/floor-motion-task-force/2026-01-10/
CATEGORIES:committees
END:VEVENT
BEGIN:VEVENT
DTSTART;TZID=America/New_York:20260110T120000
DTEND;TZID=America/New_York:20260110T130000
DTSTAMP:20260420T094758
CREATED:20260101T175833Z
LAST-MODIFIED:20260217T160844Z
UID:10018108-1768046400-1768050000@acawso.org
SUMMARY:Sponsorship
DESCRIPTION:Sponsorship Workshop invites newcomers and old timers to meet. Newcomers can ask questions and Old timers can offer suggestions. The Sponsorship Workshop will be held every 2nd Saturday at 9 am PST noon EST. \nSponsored by Region 6 and IG#640
URL:https://acawso.org/calendar/sponsorship/2026-01-10/
CATEGORIES:events
END:VEVENT
BEGIN:VEVENT
DTSTART;TZID=America/New_York:20260110T100000
DTEND;TZID=America/New_York:20260110T113000
DTSTAMP:20260420T094758
CREATED:20260110T151302Z
LAST-MODIFIED:20260110T151303Z
UID:10018096-1768039200-1768044600@acawso.org
SUMMARY:Meet the Trustees
DESCRIPTION:Join us on Saturday\, 10th January 2026 at 10:00am or 8pm ET to meet and talk to the Trustees. \nZoom Info: https://zoom.us/j/91694985625 Meeting ID: 916 9498 5625Passcode: 112358 \nSponsored by the Board of Trustees.
URL:https://acawso.org/calendar/meet-the-trustees-2/
CATEGORIES:committees,events
END:VEVENT
BEGIN:VEVENT
DTSTART;TZID=America/New_York:20260108T190000
DTEND;TZID=America/New_York:20260108T210000
DTSTAMP:20260420T094758
CREATED:20250623T193058Z
LAST-MODIFIED:20250717T183347Z
UID:10016931-1767898800-1767906000@acawso.org
SUMMARY:Ready Set GO!!  Evening Series
DESCRIPTION:Ready Set GO!! is a 6-week introductory program of the ACA program\, the ACA 12 Steps and an introductory Inner Child Workshop “Awakening My Little One”. \nStarts January 8th and runs through February 12th. Each session lasts 2 hours. \nClick HERE to download the flyer and view all of the information you will need for Ready Set GO!! (RSG) \nNote that our Tuesday Morning series starts January 6th and runs through February 10th.
URL:https://acawso.org/calendar/ready-set-go-evening-series-21/
CATEGORIES:events
END:VEVENT
BEGIN:VEVENT
DTSTART;TZID=America/New_York:20260108T180000
DTEND;TZID=America/New_York:20260108T193000
DTSTAMP:20260420T094758
CREATED:20250731T160916Z
LAST-MODIFIED:20260213T010306Z
UID:10016968-1767895200-1767900600@acawso.org
SUMMARY:Ballot Prep Committee
DESCRIPTION:All are welcome. \nFor more information\, contact the committee at bpc@adultchildren.org \nZoom 2 ACAWSO is inviting you to a scheduled Zoom meeting. \nMeeting ID: 815 3118 9155\nPasscode: 90755
URL:https://acawso.org/calendar/ballot-prep-committee-10-3/2026-01-08/
CATEGORIES:committees
END:VEVENT
BEGIN:VEVENT
DTSTART;TZID=America/New_York:20260108T150000
DTEND;TZID=America/New_York:20260108T163000
DTSTAMP:20260420T094758
CREATED:20250801T142910Z
LAST-MODIFIED:20250801T142911Z
UID:10017024-1767884400-1767889800@acawso.org
SUMMARY:Finance Committee
DESCRIPTION:The finance committee meets Thursdays from 2:30 pm ET – 4:00pm ET.  We are looking for members with business\, finance\, or bookkeeping experience. \n  \nPlease contact treasurer@adultchildren.org or finance@acawso.org if you are interested in visiting or joining the finance committee.
URL:https://acawso.org/calendar/finance-committee-2-2/2026-01-08/
CATEGORIES:committees
END:VEVENT
BEGIN:VEVENT
DTSTART;TZID=America/New_York:20260106T170000
DTEND;TZID=America/New_York:20260106T183000
DTSTAMP:20260420T094758
CREATED:20240814T181038Z
LAST-MODIFIED:20251216T233353Z
UID:10011755-1767718800-1767724200@acawso.org
SUMMARY:ABC Study
DESCRIPTION:Please see our subcommittee homepage for more information \nThis Study Group meets weekly on Tuesdays at 5:00 pm Eastern. \nMeeting ID: 993 7036 0615\nPasscode: 182011 \nIf you have questions\, please email us at abcstudy@acawso.org.
URL:https://acawso.org/calendar/abc-study-4-2-2/2026-01-06/
CATEGORIES:committees
END:VEVENT
BEGIN:VEVENT
DTSTART;TZID=America/New_York:20260106T133000
DTEND;TZID=America/New_York:20260106T143000
DTSTAMP:20260420T094758
CREATED:20250107T111344Z
LAST-MODIFIED:20250107T111417Z
UID:10014957-1767706200-1767709800@acawso.org
SUMMARY:European Committee
DESCRIPTION:The monthly meeting is hosted by Zoom the First Tuesday of the month at 19:30 Central European Time / 18:30 UK / 20:30 Baltics / Helsinki / 21:30 Moscow time / 1:30pm ET \nhttps://us02web.zoom.us/j/83834372326 \nMeeting ID: 838 3437 2326\nPasscode: 437668 \nMore information about the European Committee can be found at https://acawso.org/category/european-connection/
URL:https://acawso.org/calendar/european-committee-2-2/2026-01-06/
CATEGORIES:committees
END:VEVENT
BEGIN:VEVENT
DTSTART;TZID=America/New_York:20260106T100000
DTEND;TZID=America/New_York:20260106T120000
DTSTAMP:20260420T094758
CREATED:20250623T193600Z
LAST-MODIFIED:20250717T183255Z
UID:10016925-1767693600-1767700800@acawso.org
SUMMARY:Ready Set GO!!  Morning Series
DESCRIPTION:Ready Set GO!! is a 6-week introductory program of the ACA program\, the ACA 12 Steps and an introductory Inner Child Workshop “Awakening My Little One”. \nStarts January 6th and runs through February 10th. Each session lasts 2 hours. \nClick HERE to download the flyer and view all of the information you will need for Ready Set GO!! (RSG) \nNote that our Tuesday Evening series starts January 8th and runs through February 12th.
URL:https://acawso.org/calendar/ready-set-go-morning-series-25/
CATEGORIES:events
END:VEVENT
BEGIN:VEVENT
DTSTART;TZID=America/New_York:20260105T160000
DTEND;TZID=America/New_York:20260105T173000
DTSTAMP:20260420T094758
CREATED:20251119T192005Z
LAST-MODIFIED:20251119T192007Z
UID:10010199-1767628800-1767634200@acawso.org
SUMMARY:IT Committee
DESCRIPTION:IT Committee meets as and when needed on Mondays at 4:00pm ET (US). Please contact the IT Chair before attending the meeting to find out if it meets in a given week. \ncontact: itchair@acawso.org \nJoin Zoom Meeting \nhttps://us02web.zoom.us/j/89520227175 \nMeeting ID: 895 2022 7175\nPasscode: 90755
URL:https://acawso.org/calendar/it-committee-2023-07-19-2-2-2-2/2026-01-05/
CATEGORIES:committees
END:VEVENT
BEGIN:VEVENT
DTSTART;TZID=America/New_York:20260105T120000
DTEND;TZID=America/New_York:20260105T133000
DTSTAMP:20260420T094758
CREATED:20250801T144133Z
LAST-MODIFIED:20250801T144134Z
UID:10012148-1767614400-1767619800@acawso.org
SUMMARY:IT Website Redesign Working Group
DESCRIPTION:IT website redesign working group meetings every Monday at 12:00pm ET (US) \nContact:  itchair@acawso.org \nJoin Zoom Meeting\nhttps://us02web.zoom.us/j/83771567325 \nMeeting ID: 837 7156 7325\nPasscode: 088655
URL:https://acawso.org/calendar/it-website-redesign-working-group-2-2-2-2/2026-01-05/
CATEGORIES:committees
END:VEVENT
BEGIN:VEVENT
DTSTART;TZID=America/New_York:20260103T160000
DTEND;TZID=America/New_York:20260103T173000
DTSTAMP:20260420T094758
CREATED:20250315T203407Z
LAST-MODIFIED:20250315T203408Z
UID:10011425-1767456000-1767461400@acawso.org
SUMMARY:SRC Committee Meeting
DESCRIPTION:Service Resources Committee meets on the 1st and 3rd Saturday of the month at 4pm ET. \nZoom 2 ACAWSO is inviting you to a scheduled Zoom meeting. \nTopic: SRC Committee Meeting\nJoin Zoom Meeting\nhttps://us02web.zoom.us/j/82077851277 \nMeeting ID: 820 7785 1277\nPasscode: 987321 \n  \nPlease download and import the following iCalendar (.ics) files to your calendar system.\nWeekly: https://us02web.zoom.us/meeting/tZYtcO6gqzooHdN_nSsMjGe-HFnItRpAbjLl/ics?icsToken=98tyKuGqrjwtEtGUsh6ARpwQAo_CKPzwmH5BgqdzoxHWEA1ZRQa7HsRMG6ZNAPnS
URL:https://acawso.org/calendar/mssc-committee-meeting-2-2/2026-01-03/
CATEGORIES:committees
END:VEVENT
BEGIN:VEVENT
DTSTART;TZID=America/New_York:20260103T124500
DTEND;TZID=America/New_York:20260103T134500
DTSTAMP:20260420T094758
CREATED:20210626T131806Z
LAST-MODIFIED:20260115T115550Z
UID:10018123-1767444300-1767447900@acawso.org
SUMMARY:Lit Evaluation Subcommittee
DESCRIPTION:Literature Evaluation meets the 1st Saturday of each month\, 12:45pm-1:45pm ET. \ncontact: liteval@acawso.org \nhttps://us02web.zoom.us/j/86113897454?pwd=UitVN2tHb1E1STJ5YXlWYU1mZXZ5Zz09 \nMeeting ID: 861 1389 7454\nPasscode: 127253
URL:https://acawso.org/calendar/lit-evaluation-subcommittee-3/2026-01-03/
CATEGORIES:committees
END:VEVENT
BEGIN:VEVENT
DTSTART;TZID=America/New_York:20260103T123000
DTEND;TZID=America/New_York:20260103T140000
DTSTAMP:20260420T094758
CREATED:20250129T193225Z
LAST-MODIFIED:20250510T175944Z
UID:10015725-1767443400-1767448800@acawso.org
SUMMARY:ABC/QDM Committee
DESCRIPTION:The ABC/AWC committee meets first and third Saturdays from 12:30 to 2 pm EDT \nJoin Zoom Meeting\nhttps://us02web.zoom.us/j/87582913615?pwd=dWpPNVJPcVNiVjJxbGgzbFVwY05EZz09 \nMeeting ID: 875 8291 3615\nPasscode: ABC2022 \nContact abc@adultchildren.org for more details.
URL:https://acawso.org/calendar/abc-awc-committee-5/2026-01-03/
CATEGORIES:committees
END:VEVENT
BEGIN:VEVENT
DTSTART;TZID=America/New_York:20260103T103000
DTEND;TZID=America/New_York:20260103T120000
DTSTAMP:20260420T094758
CREATED:20251031T215409Z
LAST-MODIFIED:20260228T184519Z
UID:10016705-1767436200-1767441600@acawso.org
SUMMARY:ABC Sustainability Study Sub-Committee
DESCRIPTION:We generally meet on the 1st & 3rd Saturday of each month from 10:30AM to Noon EDT. \nAlways check this WSO Committee Calendar for any changes to our schedule. \nWe meet on Zoom 2: \nZoom URL: https://zoom.us/j/91045736882  \nMeeting ID: 910 4573 6882 \nPasscode: 992748
URL:https://acawso.org/calendar/abc-sustainability-study-sub-committee-7-2/2026-01-03/
CATEGORIES:committees
END:VEVENT
BEGIN:VEVENT
DTSTART;TZID=America/New_York:20251231T050000
DTEND;TZID=America/New_York:20260101T030000
DTSTAMP:20260420T094759
CREATED:20251117T114535Z
LAST-MODIFIED:20251117T114535Z
UID:10017765-1767157200-1767236400@acawso.org
SUMMARY:New Years Eve and Day Marathon
DESCRIPTION:Holidays can be a difficult time for adult children. For New Years\, there will be 46 hours of back to back meetings. Please share this phone meeting in your groups and fellow travelers \nTo Attend:\n5:00 am EST December 31 to 3:00 am EST January 2.\nCall-in number is 712-432-8808 access code 247676# \nWant to boost your recovery? Consider doing service as a Moderator\, Back-Up Moderator\, or Timekeeper. \nFor the signup link please text Tim at 773-510-0622\, aca.service2023@gmail.com \nFor a moderator script please text Tim (We’re using the same script as previous meetings) \nPlease do not hesitate to contact us with any questions. Moderator code will be sent out 24hrs before the marathon starts.\nXO\nIn-Service\,\nTim \nSponsored by TEL0427
URL:https://acawso.org/calendar/new-years-eve-and-day-marathon/
CATEGORIES:events
END:VEVENT
BEGIN:VEVENT
DTSTART;TZID=America/New_York:20251230T170000
DTEND;TZID=America/New_York:20251230T183000
DTSTAMP:20260420T094759
CREATED:20240814T181038Z
LAST-MODIFIED:20251216T233353Z
UID:10013855-1767114000-1767119400@acawso.org
SUMMARY:ABC Study
DESCRIPTION:Please see our subcommittee homepage for more information \nThis Study Group meets weekly on Tuesdays at 5:00 pm Eastern. \nMeeting ID: 993 7036 0615\nPasscode: 182011 \nIf you have questions\, please email us at abcstudy@acawso.org.
URL:https://acawso.org/calendar/abc-study-4-2-2/2025-12-30/
CATEGORIES:committees
END:VEVENT
BEGIN:VEVENT
DTSTART;TZID=America/New_York:20251229T160000
DTEND;TZID=America/New_York:20251229T173000
DTSTAMP:20260420T094759
CREATED:20251119T192005Z
LAST-MODIFIED:20251119T192007Z
UID:10010198-1767024000-1767029400@acawso.org
SUMMARY:IT Committee
DESCRIPTION:IT Committee meets as and when needed on Mondays at 4:00pm ET (US). Please contact the IT Chair before attending the meeting to find out if it meets in a given week. \ncontact: itchair@acawso.org \nJoin Zoom Meeting \nhttps://us02web.zoom.us/j/89520227175 \nMeeting ID: 895 2022 7175\nPasscode: 90755
URL:https://acawso.org/calendar/it-committee-2023-07-19-2-2-2-2/2025-12-29/
CATEGORIES:committees
END:VEVENT
END:VCALENDAR