BEGIN:VCALENDAR
VERSION:2.0
PRODID:-//ACA WSO - ECPv6.15.20//NONSGML v1.0//EN
CALSCALE:GREGORIAN
METHOD:PUBLISH
X-WR-CALNAME:ACA WSO
X-ORIGINAL-URL:https://acawso.org
X-WR-CALDESC:Events for ACA WSO
REFRESH-INTERVAL;VALUE=DURATION:PT1H
X-Robots-Tag:noindex
X-PUBLISHED-TTL:PT1H
BEGIN:VTIMEZONE
TZID:America/New_York
BEGIN:DAYLIGHT
TZOFFSETFROM:-0500
TZOFFSETTO:-0400
TZNAME:EDT
DTSTART:20230312T070000
END:DAYLIGHT
BEGIN:STANDARD
TZOFFSETFROM:-0400
TZOFFSETTO:-0500
TZNAME:EST
DTSTART:20231105T060000
END:STANDARD
BEGIN:DAYLIGHT
TZOFFSETFROM:-0500
TZOFFSETTO:-0400
TZNAME:EDT
DTSTART:20240310T070000
END:DAYLIGHT
BEGIN:STANDARD
TZOFFSETFROM:-0400
TZOFFSETTO:-0500
TZNAME:EST
DTSTART:20241103T060000
END:STANDARD
BEGIN:DAYLIGHT
TZOFFSETFROM:-0500
TZOFFSETTO:-0400
TZNAME:EDT
DTSTART:20250309T070000
END:DAYLIGHT
BEGIN:STANDARD
TZOFFSETFROM:-0400
TZOFFSETTO:-0500
TZNAME:EST
DTSTART:20251102T060000
END:STANDARD
END:VTIMEZONE
BEGIN:VEVENT
DTSTART;TZID=America/New_York:20241207T080000
DTEND;TZID=America/New_York:20241207T093000
DTSTAMP:20260421T001236
CREATED:20201031T134047Z
LAST-MODIFIED:20230107T130017Z
UID:10004380-1733558400-1733563800@acawso.org
SUMMARY:European Committee
DESCRIPTION:The monthly meeting is hosted by Zoom the First Saturday of the month 14:00 (2pm) CET (GMT+1) \nhttps://us02web.zoom.us/j/83834372326 \nMeeting ID: 838 3437 2326\nPasscode: 437668 \nMore information about the European Committee can be found at https://acawso.org/category/european-connection/
URL:https://acawso.org/calendar/european-committee/2024-12-07/
CATEGORIES:committees
END:VEVENT
BEGIN:VEVENT
DTSTART;TZID=America/New_York:20241207T090000
DTEND;TZID=America/New_York:20241207T130000
DTSTAMP:20260421T001236
CREATED:20241111T115012Z
LAST-MODIFIED:20241111T115012Z
UID:10014366-1733562000-1733576400@acawso.org
SUMMARY:Quarterly Delegate Meeting
DESCRIPTION:The Quarterly Delegate Meeting will occur on the 7th December between 9am-1pm ET. \nEmail invites will be sent to all registered delegates a few days before the event.
URL:https://acawso.org/calendar/quarterly-delegate-meeting-2/
CATEGORIES:committees
END:VEVENT
BEGIN:VEVENT
DTSTART;TZID=America/New_York:20241207T103000
DTEND;TZID=America/New_York:20241207T120000
DTSTAMP:20260421T001236
CREATED:20230718T154707Z
LAST-MODIFIED:20230718T154707Z
UID:10007652-1733567400-1733572800@acawso.org
SUMMARY:ABC/AWC Committee
DESCRIPTION:The ABC/AWC committee meets first and third Saturday at 10:30AM EDT \nJoin Zoom Meeting\nhttps://us02web.zoom.us/j/87582913615?pwd=dWpPNVJPcVNiVjJxbGgzbFVwY05EZz09 \nMeeting ID: 875 8291 3615\nPasscode: ABC2022 \nContact abc@adultchildren.org for more details. \nMonthly reports posted at https://acawso.org/category/abc-committee/
URL:https://acawso.org/calendar/abc-awc-committee-4-2-2/2024-12-07/
CATEGORIES:committees
END:VEVENT
BEGIN:VEVENT
DTSTART;TZID=America/New_York:20241207T124500
DTEND;TZID=America/New_York:20241207T134500
DTSTAMP:20260421T001236
CREATED:20210626T131806Z
LAST-MODIFIED:20260115T115550Z
UID:10007267-1733575500-1733579100@acawso.org
SUMMARY:Lit Evaluation Subcommittee
DESCRIPTION:Literature Evaluation meets the 1st Saturday of each month\, 12:45pm-1:45pm ET. \ncontact: liteval@acawso.org \nhttps://us02web.zoom.us/j/86113897454?pwd=UitVN2tHb1E1STJ5YXlWYU1mZXZ5Zz09 \nMeeting ID: 861 1389 7454\nPasscode: 127253
URL:https://acawso.org/calendar/lit-evaluation-subcommittee-3/2024-12-07/
CATEGORIES:committees
END:VEVENT
BEGIN:VEVENT
DTSTART;TZID=America/New_York:20241207T160000
DTEND;TZID=America/New_York:20241207T173000
DTSTAMP:20260421T001236
CREATED:20220716T210629Z
LAST-MODIFIED:20231031T133925Z
UID:10011412-1733587200-1733592600@acawso.org
SUMMARY:SRC Committee Meeting
DESCRIPTION:Service Resources Committee meets on the 1st and 3rd Saturday of the month at 4pm ET. \nZoom 2 ACAWSO is inviting you to a scheduled Zoom meeting. \nTopic: SRC Committee Meeting\nJoin Zoom Meeting\nhttps://us02web.zoom.us/j/82077851277 \nMeeting ID: 820 7785 1277\nPasscode: 987321 \n  \nPlease download and import the following iCalendar (.ics) files to your calendar system.\nWeekly: https://us02web.zoom.us/meeting/tZYtcO6gqzooHdN_nSsMjGe-HFnItRpAbjLl/ics?icsToken=98tyKuGqrjwtEtGUsh6ARpwQAo_CKPzwmH5BgqdzoxHWEA1ZRQa7HsRMG6ZNAPnS
URL:https://acawso.org/calendar/mssc-committee-meeting-2/2024-12-07/
CATEGORIES:committees
END:VEVENT
BEGIN:VEVENT
DTSTART;TZID=America/New_York:20241209T120000
DTEND;TZID=America/New_York:20241209T130000
DTSTAMP:20260421T001236
CREATED:20240812T161857Z
LAST-MODIFIED:20240812T161858Z
UID:10012092-1733745600-1733749200@acawso.org
SUMMARY:IT Website Redesign Working Group
DESCRIPTION:IT website redesign working group meetings every Monday at 12:00pm ET (US) \nContact:  itchair@acawso.org \nJoin Zoom Meeting\nhttps://us02web.zoom.us/j/83771567325 \nMeeting ID: 837 7156 7325\nPasscode: 088655
URL:https://acawso.org/calendar/it-website-redesign-working-group-2-2-2/2024-12-09/
CATEGORIES:committees
END:VEVENT
BEGIN:VEVENT
DTSTART;TZID=America/New_York:20241209T160000
DTEND;TZID=America/New_York:20241209T173000
DTSTAMP:20260421T001236
CREATED:20240812T161937Z
LAST-MODIFIED:20240812T161938Z
UID:10007501-1733760000-1733765400@acawso.org
SUMMARY:IT Committee
DESCRIPTION:IT Committee meets weekly on Monday at 4:00pm ET (US) \ncontact: itchair@acawso.org \nJoin Zoom Meeting \nhttps://us02web.zoom.us/j/89520227175 \nMeeting ID: 895 2022 7175\nPasscode: 90755\nOne tap mobile\n+19292056099\,\,89520227175# US (New York)\n+13126266799\,\,89520227175# US (Chicago) \nDial by your location\n+1 929 205 6099 US (New York)\n+1 312 626 6799 US (Chicago)\n+1 301 715 8592 US (Washington DC)\n+1 253 215 8782 US (Tacoma)\n+1 346 248 7799 US (Houston)\n+1 669 900 6833 US (San Jose)\nMeeting ID: 895 2022 7175\nFind your local number: https://us02web.zoom.us/u/kdrkCQ8UuT
URL:https://acawso.org/calendar/it-committee-2023-07-19-2-2-2/2024-12-09/
CATEGORIES:committees
END:VEVENT
BEGIN:VEVENT
DTSTART;TZID=America/New_York:20241210T140000
DTEND;TZID=America/New_York:20241210T153000
DTSTAMP:20260421T001236
CREATED:20220902T154208Z
LAST-MODIFIED:20220902T154208Z
UID:10007887-1733839200-1733844600@acawso.org
SUMMARY:Archives Committee Meeting
DESCRIPTION:Join the Archives Committee at \nhttps://us02web.zoom.us/j/89913165113 \nMeeting ID: 899 1316 5113\nPasscode: 495053
URL:https://acawso.org/calendar/archives-committee-meeting/2024-12-10/
END:VEVENT
BEGIN:VEVENT
DTSTART;TZID=America/New_York:20241210T170000
DTEND;TZID=America/New_York:20241210T183000
DTSTAMP:20260421T001236
CREATED:20240814T181038Z
LAST-MODIFIED:20251216T233353Z
UID:10013812-1733850000-1733855400@acawso.org
SUMMARY:ABC Study
DESCRIPTION:Please see our subcommittee homepage for more information \nThis Study Group meets weekly on Tuesdays at 5:00 pm Eastern. \nMeeting ID: 993 7036 0615\nPasscode: 182011 \nIf you have questions\, please email us at abcstudy@acawso.org.
URL:https://acawso.org/calendar/abc-study-4-2-2/2024-12-10/
CATEGORIES:committees
END:VEVENT
BEGIN:VEVENT
DTSTART;TZID=America/New_York:20241212T130000
DTEND;TZID=America/New_York:20241212T140000
DTSTAMP:20260421T001236
CREATED:20230524T174119Z
LAST-MODIFIED:20240521T193905Z
UID:10012934-1734008400-1734012000@acawso.org
SUMMARY:Public Services with H&I Committee
DESCRIPTION:The Public Services Committee is now meeting on the 2nd Thursday monthly at 1:00 PM Eastern. \nJoin Zoom Meeting\nhttps://us02web.zoom.us/j/84770678588 \nMeeting ID: 847 7067 8588\nPasscode: 1978 \nFind your local number: https://us02web.zoom.us/u/kelv4LyGf0 \nWe are holding a combined meeting with the Hospitals and Intuitions subcommittee. https://acawso.org/category/public-information/
URL:https://acawso.org/calendar/public-services-with-hi-committee-2/2024-12-12/
CATEGORIES:committees
END:VEVENT
BEGIN:VEVENT
DTSTART;TZID=America/New_York:20241212T143000
DTEND;TZID=America/New_York:20241212T160000
DTSTAMP:20260421T001236
CREATED:20221215T201448Z
LAST-MODIFIED:20221215T201448Z
UID:10005780-1734013800-1734019200@acawso.org
SUMMARY:Finance Committee
DESCRIPTION:The finance committee meets Thursdays from 2:30 pm ET – 4:00pm ET.  We are looking for members with business\, finance\, or bookkeeping experience. \n  \nPlease contact treasurer@adultchildren.org or finance@acawso.org if you are interested in visiting or joining the finance committee.
URL:https://acawso.org/calendar/finance-committee/2024-12-12/
CATEGORIES:committees
END:VEVENT
BEGIN:VEVENT
DTSTART;TZID=America/New_York:20241212T180000
DTEND;TZID=America/New_York:20241212T193000
DTSTAMP:20260421T001236
CREATED:20240826T044921Z
LAST-MODIFIED:20241213T193038Z
UID:10014056-1734026400-1734031800@acawso.org
SUMMARY:Ballot Prep Committee
DESCRIPTION:All are welcome. \nFor more information\, contact the committee at bpc@adultchildren.org \nZoom 2 ACAWSO is inviting you to a scheduled Zoom meeting. \nhttps://zoom.us/j/81531189155 \nMeeting ID: 815 3118 9155\nPasscode: 90755 \n  \nNote: We will not meet on December 26\, 2024
URL:https://acawso.org/calendar/ballot-prep-committee-4/2024-12-12/
CATEGORIES:committees
END:VEVENT
BEGIN:VEVENT
DTSTART;TZID=America/New_York:20241214T140000
DTEND;TZID=America/New_York:20241214T160000
DTSTAMP:20260421T001236
CREATED:20240611T162644Z
LAST-MODIFIED:20240611T162734Z
UID:10013210-1734184800-1734192000@acawso.org
SUMMARY:Board Meeting with the Fellowship
DESCRIPTION:You can participate through Zoom video conference\nMeeting ID: 228 809 511 Passcode: 90755\nor call in via phone at: +1 305 224 1968 (US) or see: Outside US Phone #’s\n\nSeptember 14\nDecember 14
URL:https://acawso.org/calendar/board-meeting-with-the-fellowship/2024-12-14/
CATEGORIES:committees
END:VEVENT
BEGIN:VEVENT
DTSTART;TZID=America/New_York:20241214T200000
DTEND;TZID=America/New_York:20241214T213000
DTSTAMP:20260421T001236
CREATED:20241109T132041Z
LAST-MODIFIED:20241109T132042Z
UID:10012518-1734206400-1734211800@acawso.org
SUMMARY:Big Red Book Working Group
DESCRIPTION:Zoom 2 ACAWSO is inviting you to a scheduled Zoom meeting.\nTopic: BRB Revision Working Group- Global East\nTime: Every month on the second and fourth Saturday at 8 PM Eastern US \nJoin Zoom Meeting\nhttps://zoom.us/j/92423141348\nMeeting ID: 924 2314 1348\nPasscode: 112358 \nPlease download and import the following iCalendar (.ics) files to your calendar system.\nMonthly: https://zoom.us/meeting/tJYpdeqpqjopHtwsBMOyTO0tAY5XaN4QYv7-/ics?icsToken=98tyKuCqqjkpG9CUsx2PRowQBojob-vwiH5egrdKjz3ILDlnTVPiF9sXCrNRROnp
URL:https://acawso.org/calendar/brb-revision-working-group-global-east-3-2/2024-12-14/
CATEGORIES:committees
END:VEVENT
BEGIN:VEVENT
DTSTART;TZID=America/New_York:20241215T040000
DTEND;TZID=America/New_York:20241215T133000
DTSTAMP:20260421T001236
CREATED:20241212T175818Z
LAST-MODIFIED:20241212T175844Z
UID:10014472-1734235200-1734269400@acawso.org
SUMMARY:ACA Structure\, ACA Teen\, ACA Literature\, Predatory behaviour\, Relationships & Conflicts in ACA
DESCRIPTION:The second Russian speaking online convention: round tables\, meetings presentations\, talent show. \nZoom link to join:\nhttps://us06web.zoom.us/j/6261313985?pwd=myvWpb2hNnPjK569TpFXaGXJsduoPv.1&omn=84617782775 \nSponsored by IG#645
URL:https://acawso.org/calendar/aca-structure-aca-teen-aca-literature-predatory-behaviour-relationships-conflicts-in-aca/
CATEGORIES:events
END:VEVENT
BEGIN:VEVENT
DTSTART;TZID=America/New_York:20241216T120000
DTEND;TZID=America/New_York:20241216T130000
DTSTAMP:20260421T001236
CREATED:20240812T161857Z
LAST-MODIFIED:20240812T161858Z
UID:10012093-1734350400-1734354000@acawso.org
SUMMARY:IT Website Redesign Working Group
DESCRIPTION:IT website redesign working group meetings every Monday at 12:00pm ET (US) \nContact:  itchair@acawso.org \nJoin Zoom Meeting\nhttps://us02web.zoom.us/j/83771567325 \nMeeting ID: 837 7156 7325\nPasscode: 088655
URL:https://acawso.org/calendar/it-website-redesign-working-group-2-2-2/2024-12-16/
CATEGORIES:committees
END:VEVENT
BEGIN:VEVENT
DTSTART;TZID=America/New_York:20241216T160000
DTEND;TZID=America/New_York:20241216T173000
DTSTAMP:20260421T001236
CREATED:20240812T161937Z
LAST-MODIFIED:20240812T161938Z
UID:10007502-1734364800-1734370200@acawso.org
SUMMARY:IT Committee
DESCRIPTION:IT Committee meets weekly on Monday at 4:00pm ET (US) \ncontact: itchair@acawso.org \nJoin Zoom Meeting \nhttps://us02web.zoom.us/j/89520227175 \nMeeting ID: 895 2022 7175\nPasscode: 90755\nOne tap mobile\n+19292056099\,\,89520227175# US (New York)\n+13126266799\,\,89520227175# US (Chicago) \nDial by your location\n+1 929 205 6099 US (New York)\n+1 312 626 6799 US (Chicago)\n+1 301 715 8592 US (Washington DC)\n+1 253 215 8782 US (Tacoma)\n+1 346 248 7799 US (Houston)\n+1 669 900 6833 US (San Jose)\nMeeting ID: 895 2022 7175\nFind your local number: https://us02web.zoom.us/u/kdrkCQ8UuT
URL:https://acawso.org/calendar/it-committee-2023-07-19-2-2-2/2024-12-16/
CATEGORIES:committees
END:VEVENT
BEGIN:VEVENT
DTSTART;TZID=America/New_York:20241217T170000
DTEND;TZID=America/New_York:20241217T183000
DTSTAMP:20260421T001236
CREATED:20240814T181038Z
LAST-MODIFIED:20251216T233353Z
UID:10013813-1734454800-1734460200@acawso.org
SUMMARY:ABC Study
DESCRIPTION:Please see our subcommittee homepage for more information \nThis Study Group meets weekly on Tuesdays at 5:00 pm Eastern. \nMeeting ID: 993 7036 0615\nPasscode: 182011 \nIf you have questions\, please email us at abcstudy@acawso.org.
URL:https://acawso.org/calendar/abc-study-4-2-2/2024-12-17/
CATEGORIES:committees
END:VEVENT
BEGIN:VEVENT
DTSTART;TZID=America/New_York:20241219T123000
DTEND;TZID=America/New_York:20241219T140000
DTSTAMP:20260421T001236
CREATED:20210612T223946Z
LAST-MODIFIED:20210612T224144Z
UID:10004675-1734611400-1734616800@acawso.org
SUMMARY:Board Executive Committee
DESCRIPTION:The WSO Board’s Executive committee meets twice a month on the 1st and 3rd Thursdays at 12:30pm Eastern Time
URL:https://acawso.org/calendar/board-executive-committee/2024-12-19/
END:VEVENT
BEGIN:VEVENT
DTSTART;TZID=America/New_York:20241219T143000
DTEND;TZID=America/New_York:20241219T160000
DTSTAMP:20260421T001236
CREATED:20221215T201448Z
LAST-MODIFIED:20221215T201448Z
UID:10005781-1734618600-1734624000@acawso.org
SUMMARY:Finance Committee
DESCRIPTION:The finance committee meets Thursdays from 2:30 pm ET – 4:00pm ET.  We are looking for members with business\, finance\, or bookkeeping experience. \n  \nPlease contact treasurer@adultchildren.org or finance@acawso.org if you are interested in visiting or joining the finance committee.
URL:https://acawso.org/calendar/finance-committee/2024-12-19/
CATEGORIES:committees
END:VEVENT
BEGIN:VEVENT
DTSTART;TZID=America/New_York:20241219T161500
DTEND;TZID=America/New_York:20241219T171500
DTSTAMP:20260421T001236
CREATED:20240610T105549Z
LAST-MODIFIED:20240722T102939Z
UID:10013163-1734624900-1734628500@acawso.org
SUMMARY:Oral History Committee
DESCRIPTION:Oral History Committee meets on third Thursday of each month at 4:15pm Eastern. \nhttps://zoom.us/j/87931864867 \nMeeting ID: 879 3186 4867 \nPasscode: 076406
URL:https://acawso.org/calendar/oral-history-committee-2-2/2024-12-19/
CATEGORIES:committees
END:VEVENT
BEGIN:VEVENT
DTSTART;TZID=America/New_York:20241219T173000
DTEND;TZID=America/New_York:20241219T190000
DTSTAMP:20260421T001236
CREATED:20240710T195014Z
LAST-MODIFIED:20240710T203031Z
UID:10009940-1734629400-1734634800@acawso.org
SUMMARY:Concepts Study
DESCRIPTION:This ad hoc committee was created by the 2022 ABC. \nAll ACA’s are welcome \nZoom information: \nhttps://zoom.us/j/83429248013 \nMeeting ID: 834 2924 8013\nPasscode: 90755 \nCommittee’s page
URL:https://acawso.org/calendar/concepts-ii-and-vi-study-2-3-2/2024-12-19/
CATEGORIES:committees
END:VEVENT
BEGIN:VEVENT
DTSTART;TZID=America/New_York:20241219T180000
DTEND;TZID=America/New_York:20241219T193000
DTSTAMP:20260421T001236
CREATED:20240826T044921Z
LAST-MODIFIED:20241213T193038Z
UID:10014057-1734631200-1734636600@acawso.org
SUMMARY:Ballot Prep Committee
DESCRIPTION:All are welcome. \nFor more information\, contact the committee at bpc@adultchildren.org \nZoom 2 ACAWSO is inviting you to a scheduled Zoom meeting. \nhttps://zoom.us/j/81531189155 \nMeeting ID: 815 3118 9155\nPasscode: 90755 \n  \nNote: We will not meet on December 26\, 2024
URL:https://acawso.org/calendar/ballot-prep-committee-4/2024-12-19/
CATEGORIES:committees
END:VEVENT
BEGIN:VEVENT
DTSTART;TZID=America/New_York:20241220T093000
DTEND;TZID=America/New_York:20241220T113000
DTSTAMP:20260421T001236
CREATED:20241001T200406Z
LAST-MODIFIED:20241001T200407Z
UID:10012919-1734687000-1734694200@acawso.org
SUMMARY:Publishing Committee
DESCRIPTION:Publishing Committee \nWe meet on Fridays once a month.  \n \nTime: 6:30 am PDT\, 9:30 am EDT\, 2:30 pm UK/GBST\, 3:30 pm CET \, 3:30 pm SAST\, 7:00 pm India \nMeeting ID: 857 7189 3168\nPasscode: 382777 \nAny questions\, contact Sue V at publishingchair@acawso.org  or on slack \n 
URL:https://acawso.org/calendar/publishing-committee-2-2-2-3-4-4/2024-12-20/
CATEGORIES:committees
END:VEVENT
BEGIN:VEVENT
DTSTART;TZID=America/New_York:20241220T180000
DTEND;TZID=America/New_York:20241220T190000
DTSTAMP:20260421T001236
CREATED:20240805T174438Z
LAST-MODIFIED:20240805T174439Z
UID:10009437-1734717600-1734721200@acawso.org
SUMMARY:Data Analysis Committee
DESCRIPTION:Meeting in August moved to 9th of August to accomodate the August QDM. Please email data@acawso.org or post in data_request in Slack if have a request. \nData Analysis Committee meets every third Friday the month at  3 PM PDT\, 4 PM MDT\, 5 PM CDT\, 6 PM EDT\, Saturday at 5 AM Thailand/Vietnam\, 6 AM Singapore/Taiwan/China\, 7 AM Japan \nFor information how to attend please contact the committee.
URL:https://acawso.org/calendar/data-analysis-committee-2-2-2-2/2024-12-20/
CATEGORIES:committees
END:VEVENT
BEGIN:VEVENT
DTSTART;TZID=America/New_York:20241221T100000
DTEND;TZID=America/New_York:20241221T130000
DTSTAMP:20260421T001236
CREATED:20241113T171411Z
LAST-MODIFIED:20241113T171411Z
UID:10014376-1734775200-1734786000@acawso.org
SUMMARY:“A Fourth Possibility – Completing the Recovery Process”
DESCRIPTION:Dear ACA Fellow Traveler\, \nWe warmly invite you to join us for the upcoming workshop: “A Fourth Possibility – Completing the Recovery Process”.\nThis workshop is designed to be a space of healing and discovery\, where we explore the dynamics of the Drama Triangle and deepen our understanding of our Inner Family members – both within ourselves and in our relationships with others. As we journey together\, we will explore how to break free from old patterns and create new possibilities for growth and connection.\nIn addition to ACA readings\, we’ll engage in creative and healing activities\, including collage-making\, writing with our non-dominant hand\, journaling\, drawing\, coloring\, and even meditation. These tools help us connect more deeply with our Inner Family members\, while also inviting the guidance of a Higher Power to support us along the way. \nWe’re honored to have several guest speakers joining us\, who will share their wisdom and personal experiences to inspire and uplift us on this journey. Their stories of courage and transformation will be woven throughout our time together\, helping us all feel more connected and supported in our recovery process.\nBefore the workshop\, you might want to gather a few items to help create a safe\, nurturing space for your Inner Child(ren) to feel free to express themselves: a childhood photo\, blank paper\, pencils\, crayons\, scissors\, old magazines for collage-making\, glue\, and anything that makes you feel cozy – perhaps a blanket or a stuffed animal. These simple materials will help you tap into your creativity and allow your healing process to unfold naturally.\nWe’d love to have you join us if this speaks to your heart. Together\, we will share our experience\, strength\, and hope in a spirit of love and compassion. \nHere’s when and where we’ll meet:\nTime: December 21\, 2024\, @ 4pm Brussels\, 3pm GMT/UK\, 10am ET\, 7am PT\, 8am MT\nDuration: 3 hours\nRegistration link: https://zoom.us/meeting/register/tJYqcOyurj8pHNbdapZhiqrZa1oNP4Rx_oU0\nZoom ID: 927 7560 4362\nPasscode: LOVE \nSponsored by IG#754
URL:https://acawso.org/calendar/a-fourth-possibility-completing-the-recovery-process-6/
CATEGORIES:events
END:VEVENT
BEGIN:VEVENT
DTSTART;TZID=America/New_York:20241221T103000
DTEND;TZID=America/New_York:20241221T120000
DTSTAMP:20260421T001236
CREATED:20230524T174507Z
LAST-MODIFIED:20230524T174507Z
UID:10007688-1734777000-1734782400@acawso.org
SUMMARY:ABC/AWC Committee
DESCRIPTION:The ABC/AWC committee meets first and third Saturday at 10:30AM EDT \nJoin Zoom Meeting\nhttps://us02web.zoom.us/j/87582913615?pwd=dWpPNVJPcVNiVjJxbGgzbFVwY05EZz09 \nMeeting ID: 875 8291 3615\nPasscode: ABC2022 \nContact abc@adultchildren.org for more details. \nMonthly reports posted at https://acawso.org/category/abc-committee/
URL:https://acawso.org/calendar/abc-awc-committee-4/2024-12-21/
CATEGORIES:committees
END:VEVENT
BEGIN:VEVENT
DTSTART;TZID=America/New_York:20241221T123000
DTEND;TZID=America/New_York:20241221T140000
DTSTAMP:20260421T001236
CREATED:20241112T202626Z
LAST-MODIFIED:20241115T201224Z
UID:10014182-1734784200-1734789600@acawso.org
SUMMARY:ABC Sustainability Study Sub-Committee
DESCRIPTION:We are currently meeting the 1st & 3rd Saturday of (generally) every month\, at 12:30AM-2 EDT (always check with the WSO Committee Calendar) \nZoom URL: https://zoom.us/j/91045736882  \n    -or- \nMeeting ID: 910 4573 6882  \n    -and use- \nPasscode: 992748
URL:https://acawso.org/calendar/abc-sustainability-study-sub-committee-2-2/2024-12-21/
CATEGORIES:committees
END:VEVENT
BEGIN:VEVENT
DTSTART;TZID=America/New_York:20241221T140000
DTEND;TZID=America/New_York:20241221T150000
DTSTAMP:20260421T001236
CREATED:20210628T210848Z
LAST-MODIFIED:20221215T110738Z
UID:10004787-1734789600-1734793200@acawso.org
SUMMARY:Comline SubCommittee
DESCRIPTION:Comline Subcommittee meets the third Saturday of the month at 2:00pm ET (US) \nWe are currently working on developing an ACA blog. \nJoin Zoom Meeting\nhttps://us02web.zoom.us/j/85733515540?pwd=amV0K0ZIVXAwWDltdkViVEFnczlUQT09 \nMeeting ID: 857 3351 5540\nPasscode: comline \nFind your local number: https://us02web.zoom.us/u/kz0Qm1NB6
URL:https://acawso.org/calendar/comline-subcommittee/2024-12-21/
CATEGORIES:committees
END:VEVENT
BEGIN:VEVENT
DTSTART;TZID=America/New_York:20241223T110000
DTEND;TZID=America/New_York:20241223T123000
DTSTAMP:20260421T001236
CREATED:20241230T113323Z
LAST-MODIFIED:20241230T113324Z
UID:10010540-1734951600-1734957000@acawso.org
SUMMARY:Regions Intergroups Subcommittee
DESCRIPTION:Regions Intergroups Subcommittee meets every month on the fourth Monday for approximately one hour by Zoom teleconference at 11:00AM Eastern Time. \nhttps://zoom.us/j/96414155183\nMeeting ID: 964 1415 5183\nPasscode: 308405
URL:https://acawso.org/calendar/regions-subcommittee-2-2-2-2-2/2024-12-23/
CATEGORIES:committees
END:VEVENT
END:VCALENDAR