BEGIN:VCALENDAR
VERSION:2.0
PRODID:-//ACA WSO - ECPv6.15.20//NONSGML v1.0//EN
CALSCALE:GREGORIAN
METHOD:PUBLISH
X-WR-CALNAME:ACA WSO
X-ORIGINAL-URL:https://acawso.org
X-WR-CALDESC:Events for ACA WSO
REFRESH-INTERVAL;VALUE=DURATION:PT1H
X-Robots-Tag:noindex
X-PUBLISHED-TTL:PT1H
BEGIN:VTIMEZONE
TZID:America/New_York
BEGIN:DAYLIGHT
TZOFFSETFROM:-0500
TZOFFSETTO:-0400
TZNAME:EDT
DTSTART:20240310T070000
END:DAYLIGHT
BEGIN:STANDARD
TZOFFSETFROM:-0400
TZOFFSETTO:-0500
TZNAME:EST
DTSTART:20241103T060000
END:STANDARD
BEGIN:DAYLIGHT
TZOFFSETFROM:-0500
TZOFFSETTO:-0400
TZNAME:EDT
DTSTART:20250309T070000
END:DAYLIGHT
BEGIN:STANDARD
TZOFFSETFROM:-0400
TZOFFSETTO:-0500
TZNAME:EST
DTSTART:20251102T060000
END:STANDARD
BEGIN:DAYLIGHT
TZOFFSETFROM:-0500
TZOFFSETTO:-0400
TZNAME:EDT
DTSTART:20260308T070000
END:DAYLIGHT
BEGIN:STANDARD
TZOFFSETFROM:-0400
TZOFFSETTO:-0500
TZNAME:EST
DTSTART:20261101T060000
END:STANDARD
END:VTIMEZONE
BEGIN:VEVENT
DTSTART;TZID=America/New_York:20251211T150000
DTEND;TZID=America/New_York:20251211T163000
DTSTAMP:20260420T155127
CREATED:20250801T142910Z
LAST-MODIFIED:20250801T142911Z
UID:10017022-1765465200-1765470600@acawso.org
SUMMARY:Finance Committee
DESCRIPTION:The finance committee meets Thursdays from 2:30 pm ET – 4:00pm ET.  We are looking for members with business\, finance\, or bookkeeping experience. \n  \nPlease contact treasurer@adultchildren.org or finance@acawso.org if you are interested in visiting or joining the finance committee.
URL:https://acawso.org/calendar/finance-committee-2-2/2025-12-11/
CATEGORIES:committees
END:VEVENT
BEGIN:VEVENT
DTSTART;TZID=America/New_York:20251209T170000
DTEND;TZID=America/New_York:20251209T183000
DTSTAMP:20260420T155127
CREATED:20240814T181038Z
LAST-MODIFIED:20251216T233353Z
UID:10013852-1765299600-1765305000@acawso.org
SUMMARY:ABC Study
DESCRIPTION:Please see our subcommittee homepage for more information \nThis Study Group meets weekly on Tuesdays at 5:00 pm Eastern. \nMeeting ID: 993 7036 0615\nPasscode: 182011 \nIf you have questions\, please email us at abcstudy@acawso.org.
URL:https://acawso.org/calendar/abc-study-4-2-2/2025-12-09/
CATEGORIES:committees
END:VEVENT
BEGIN:VEVENT
DTSTART;TZID=America/New_York:20251208T160000
DTEND;TZID=America/New_York:20251208T173000
DTSTAMP:20260420T155127
CREATED:20251119T192005Z
LAST-MODIFIED:20251119T192007Z
UID:10010195-1765209600-1765215000@acawso.org
SUMMARY:IT Committee
DESCRIPTION:IT Committee meets as and when needed on Mondays at 4:00pm ET (US). Please contact the IT Chair before attending the meeting to find out if it meets in a given week. \ncontact: itchair@acawso.org \nJoin Zoom Meeting \nhttps://us02web.zoom.us/j/89520227175 \nMeeting ID: 895 2022 7175\nPasscode: 90755
URL:https://acawso.org/calendar/it-committee-2023-07-19-2-2-2-2/2025-12-08/
CATEGORIES:committees
END:VEVENT
BEGIN:VEVENT
DTSTART;TZID=America/New_York:20251208T120000
DTEND;TZID=America/New_York:20251208T133000
DTSTAMP:20260420T155127
CREATED:20250801T144133Z
LAST-MODIFIED:20250801T144134Z
UID:10012144-1765195200-1765200600@acawso.org
SUMMARY:IT Website Redesign Working Group
DESCRIPTION:IT website redesign working group meetings every Monday at 12:00pm ET (US) \nContact:  itchair@acawso.org \nJoin Zoom Meeting\nhttps://us02web.zoom.us/j/83771567325 \nMeeting ID: 837 7156 7325\nPasscode: 088655
URL:https://acawso.org/calendar/it-website-redesign-working-group-2-2-2-2/2025-12-08/
CATEGORIES:committees
END:VEVENT
BEGIN:VEVENT
DTSTART;TZID=America/New_York:20251206T210000
DTEND;TZID=America/New_York:20251206T223000
DTSTAMP:20260420T155127
CREATED:20251004T143614Z
LAST-MODIFIED:20251206T163716Z
UID:10017658-1765054800-1765060200@acawso.org
SUMMARY:Fellowship Group Voting Town Hall/Forum
DESCRIPTION:Fellowship Group Voting began on October 1st for the proposed Name Change. \nTown Halls/Forums have been scheduled and this is the second day in the series. \nThere are several reasons why we recommend that you attend at least one and hopefully more of them. You will: \n\nHear an explanation of the Fellowship Group Voting process\nHave the opportunity to get support for conducting an effective group conscience\nLearn about the WSO voting system that is being used for this Fellowship Group Vote\n\nThe remaining 90 minute Town Halls to be held\, including today\, are shown below and are being done at two different times each day so that groups in different time zones will have equal access: \nDecember 6\, 2025 at 11:00 am ET\nDecember 6\, 20252 at 9:00 pm ET\nJanuary 17\, 2026 at 11:00 am ET\nJanuary 17\, 2026 at 9:00 pm ET \nTopic: Fellowship Group Voting\nTime: Dec 6\, 2025 9:00 PM Eastern Time (US and Canada)\nJoin Zoom Meeting\nhttps://zoom.us/j/96175175199 (Passcode: 080125)
URL:https://acawso.org/calendar/fellowship-group-voting-town-hall-forum-3/
CATEGORIES:events
END:VEVENT
BEGIN:VEVENT
DTSTART;TZID=America/New_York:20251206T160000
DTEND;TZID=America/New_York:20251206T173000
DTSTAMP:20260420T155127
CREATED:20250315T203407Z
LAST-MODIFIED:20250315T203408Z
UID:10011424-1765036800-1765042200@acawso.org
SUMMARY:SRC Committee Meeting
DESCRIPTION:Service Resources Committee meets on the 1st and 3rd Saturday of the month at 4pm ET. \nZoom 2 ACAWSO is inviting you to a scheduled Zoom meeting. \nTopic: SRC Committee Meeting\nJoin Zoom Meeting\nhttps://us02web.zoom.us/j/82077851277 \nMeeting ID: 820 7785 1277\nPasscode: 987321 \n  \nPlease download and import the following iCalendar (.ics) files to your calendar system.\nWeekly: https://us02web.zoom.us/meeting/tZYtcO6gqzooHdN_nSsMjGe-HFnItRpAbjLl/ics?icsToken=98tyKuGqrjwtEtGUsh6ARpwQAo_CKPzwmH5BgqdzoxHWEA1ZRQa7HsRMG6ZNAPnS
URL:https://acawso.org/calendar/mssc-committee-meeting-2-2/2025-12-06/
CATEGORIES:committees
END:VEVENT
BEGIN:VEVENT
DTSTART;TZID=America/New_York:20251206T124500
DTEND;TZID=America/New_York:20251206T134500
DTSTAMP:20260420T155127
CREATED:20210626T131806Z
LAST-MODIFIED:20260115T115550Z
UID:10018122-1765025100-1765028700@acawso.org
SUMMARY:Lit Evaluation Subcommittee
DESCRIPTION:Literature Evaluation meets the 1st Saturday of each month\, 12:45pm-1:45pm ET. \ncontact: liteval@acawso.org \nhttps://us02web.zoom.us/j/86113897454?pwd=UitVN2tHb1E1STJ5YXlWYU1mZXZ5Zz09 \nMeeting ID: 861 1389 7454\nPasscode: 127253
URL:https://acawso.org/calendar/lit-evaluation-subcommittee-3/2025-12-06/
CATEGORIES:committees
END:VEVENT
BEGIN:VEVENT
DTSTART;TZID=America/New_York:20251206T123000
DTEND;TZID=America/New_York:20251206T140000
DTSTAMP:20260420T155127
CREATED:20250129T193225Z
LAST-MODIFIED:20250510T175944Z
UID:10015724-1765024200-1765029600@acawso.org
SUMMARY:ABC/QDM Committee
DESCRIPTION:The ABC/AWC committee meets first and third Saturdays from 12:30 to 2 pm EDT \nJoin Zoom Meeting\nhttps://us02web.zoom.us/j/87582913615?pwd=dWpPNVJPcVNiVjJxbGgzbFVwY05EZz09 \nMeeting ID: 875 8291 3615\nPasscode: ABC2022 \nContact abc@adultchildren.org for more details.
URL:https://acawso.org/calendar/abc-awc-committee-5/2025-12-06/
CATEGORIES:committees
END:VEVENT
BEGIN:VEVENT
DTSTART;TZID=America/New_York:20251206T120000
DTEND;TZID=America/New_York:20251206T133000
DTSTAMP:20260420T155127
CREATED:20251023T115606Z
LAST-MODIFIED:20251028T203042Z
UID:10017663-1765022400-1765027800@acawso.org
SUMMARY:Healing for the Holidays online fellowship event
DESCRIPTION:The event is proposed for December 6th from 9:00 to 10:30 Pacific time. The focus of the event is creating writing or art as a way to connect with our inner children\, inner loving parent\, and higher power. We will also have a 45 minute of sharing. 7th tradition will be collected \nSponsored by CA1648
URL:https://acawso.org/calendar/healing-for-the-holidays-online-fellowship-event/
CATEGORIES:events
END:VEVENT
BEGIN:VEVENT
DTSTART;TZID=America/New_York:20251206T110000
DTEND;TZID=America/New_York:20251206T123000
DTSTAMP:20260420T155127
CREATED:20251004T143345Z
LAST-MODIFIED:20251206T171353Z
UID:10017657-1765018800-1765024200@acawso.org
SUMMARY:Fellowship Group Voting Town Hall/Forum
DESCRIPTION:Fellowship Group Voting began on October 1st for the proposed Name Change. \nTown Halls/Forums have been scheduled and this is the second day in the series. \nThere are several reasons why we recommend that you attend at least one and hopefully more of them. You will: \n\nHear an explanation of the Fellowship Group Voting process\nHave the opportunity to get support for conducting an effective group conscience\nLearn about the WSO voting system that is being used for this Fellowship Group Vote\n\nThe remaining 90 minute Town Halls to be held\, including today\, are shown below and are being done at two different times each day so that groups in different time zones will have equal access: \nDecember 6\, 2025 at 11:00 am ET\nDecember 6\, 20252 at 9:00 pm ET\nJanuary 17\, 2026 at 11:00 am ET\nJanuary 17\, 2026 at 9:00 pm ET \n  \nTopic: Fellowship Group Voting\nTime: Dec 6\, 2025 11:00 AM Eastern Time (US and Canada)\nJoin Zoom Meeting\nhttps://zoom.us/j/96175175199 (Passcode: 080125) \n 
URL:https://acawso.org/calendar/fellowship-group-voting-town-hall-forum-2/
CATEGORIES:events
END:VEVENT
BEGIN:VEVENT
DTSTART;TZID=America/New_York:20251206T103000
DTEND;TZID=America/New_York:20251206T120000
DTSTAMP:20260420T155127
CREATED:20251031T215409Z
LAST-MODIFIED:20260228T184519Z
UID:10016704-1765017000-1765022400@acawso.org
SUMMARY:ABC Sustainability Study Sub-Committee
DESCRIPTION:We generally meet on the 1st & 3rd Saturday of each month from 10:30AM to Noon EDT. \nAlways check this WSO Committee Calendar for any changes to our schedule. \nWe meet on Zoom 2: \nZoom URL: https://zoom.us/j/91045736882  \nMeeting ID: 910 4573 6882 \nPasscode: 992748
URL:https://acawso.org/calendar/abc-sustainability-study-sub-committee-7-2/2025-12-06/
CATEGORIES:committees
END:VEVENT
BEGIN:VEVENT
DTSTART;TZID=America/New_York:20251204T180000
DTEND;TZID=America/New_York:20251204T193000
DTSTAMP:20260420T155127
CREATED:20250731T160916Z
LAST-MODIFIED:20260213T010306Z
UID:10016963-1764871200-1764876600@acawso.org
SUMMARY:Ballot Prep Committee
DESCRIPTION:All are welcome. \nFor more information\, contact the committee at bpc@adultchildren.org \nZoom 2 ACAWSO is inviting you to a scheduled Zoom meeting. \nMeeting ID: 815 3118 9155\nPasscode: 90755
URL:https://acawso.org/calendar/ballot-prep-committee-10-3/2025-12-04/
CATEGORIES:committees
END:VEVENT
BEGIN:VEVENT
DTSTART;TZID=America/New_York:20251204T160000
DTEND;TZID=America/New_York:20251204T173000
DTSTAMP:20260420T155127
CREATED:20251121T010224Z
LAST-MODIFIED:20251219T051900Z
UID:10009773-1764864000-1764869400@acawso.org
SUMMARY:Concepts Study
DESCRIPTION:This ad hoc committee was created by the 2022 ABC. \nAll ACA’s are welcome \nZoom information: \nhttps://zoom.us/j/83429248013 \nMeeting ID: 834 2924 8013\nPasscode: 90755 \nCommittee’s page
URL:https://acawso.org/calendar/concepts-ii-and-vi-study-2-2-2-2/2025-12-04/
CATEGORIES:committees
END:VEVENT
BEGIN:VEVENT
DTSTART;TZID=America/New_York:20251202T170000
DTEND;TZID=America/New_York:20251202T183000
DTSTAMP:20260420T155127
CREATED:20240814T181038Z
LAST-MODIFIED:20251216T233353Z
UID:10011754-1764694800-1764700200@acawso.org
SUMMARY:ABC Study
DESCRIPTION:Please see our subcommittee homepage for more information \nThis Study Group meets weekly on Tuesdays at 5:00 pm Eastern. \nMeeting ID: 993 7036 0615\nPasscode: 182011 \nIf you have questions\, please email us at abcstudy@acawso.org.
URL:https://acawso.org/calendar/abc-study-4-2-2/2025-12-02/
CATEGORIES:committees
END:VEVENT
BEGIN:VEVENT
DTSTART;TZID=America/New_York:20251202T133000
DTEND;TZID=America/New_York:20251202T143000
DTSTAMP:20260420T155127
CREATED:20250107T111344Z
LAST-MODIFIED:20250107T111417Z
UID:10014956-1764682200-1764685800@acawso.org
SUMMARY:European Committee
DESCRIPTION:The monthly meeting is hosted by Zoom the First Tuesday of the month at 19:30 Central European Time / 18:30 UK / 20:30 Baltics / Helsinki / 21:30 Moscow time / 1:30pm ET \nhttps://us02web.zoom.us/j/83834372326 \nMeeting ID: 838 3437 2326\nPasscode: 437668 \nMore information about the European Committee can be found at https://acawso.org/category/european-connection/
URL:https://acawso.org/calendar/european-committee-2-2/2025-12-02/
CATEGORIES:committees
END:VEVENT
BEGIN:VEVENT
DTSTART;TZID=America/New_York:20251201T160000
DTEND;TZID=America/New_York:20251201T173000
DTSTAMP:20260420T155127
CREATED:20251119T192005Z
LAST-MODIFIED:20251119T192007Z
UID:10010194-1764604800-1764610200@acawso.org
SUMMARY:IT Committee
DESCRIPTION:IT Committee meets as and when needed on Mondays at 4:00pm ET (US). Please contact the IT Chair before attending the meeting to find out if it meets in a given week. \ncontact: itchair@acawso.org \nJoin Zoom Meeting \nhttps://us02web.zoom.us/j/89520227175 \nMeeting ID: 895 2022 7175\nPasscode: 90755
URL:https://acawso.org/calendar/it-committee-2023-07-19-2-2-2-2/2025-12-01/
CATEGORIES:committees
END:VEVENT
BEGIN:VEVENT
DTSTART;TZID=America/New_York:20251201T120000
DTEND;TZID=America/New_York:20251201T133000
DTSTAMP:20260420T155127
CREATED:20250801T144133Z
LAST-MODIFIED:20250801T144134Z
UID:10012143-1764590400-1764595800@acawso.org
SUMMARY:IT Website Redesign Working Group
DESCRIPTION:IT website redesign working group meetings every Monday at 12:00pm ET (US) \nContact:  itchair@acawso.org \nJoin Zoom Meeting\nhttps://us02web.zoom.us/j/83771567325 \nMeeting ID: 837 7156 7325\nPasscode: 088655
URL:https://acawso.org/calendar/it-website-redesign-working-group-2-2-2-2/2025-12-01/
CATEGORIES:committees
END:VEVENT
BEGIN:VEVENT
DTSTART;TZID=America/New_York:20251128T130000
DTEND;TZID=America/New_York:20251128T150000
DTSTAMP:20260420T155127
CREATED:20251027T215217Z
LAST-MODIFIED:20251027T215217Z
UID:10017673-1764334800-1764342000@acawso.org
SUMMARY:ACA Women's Talent / No Talent Show
DESCRIPTION:Feeling it during American Thanksgivng weekend? Come join us for a good time where people will share their experience\, strength\, and hope by showcasing their creative works on FRIDAY NOVEMBER 28\, 2025 on Zoom at 9:30am PST. \n⌛Run of show:\n(9:00am PST: Host & Co-hosts pre-show run-through ✅)\n9:30am PST: Zoom Room opens for DJ Dance Party 💃\n10:00am PST: Show starts (~1hr 30min depending on # of performers) 🎭\n~11:30am PST: after-show hang out (~30min) \nCOME SHOWCASE YOUR TALENT / NO TALENT! 😁\nDon’t consider yourself an “artist???” WHO CARES? 🙂 This is a Talent / No Talent show. No experience needed. Just come show us your inner child\, inner teen\, and inner you. Some people present their modeling clay art\, some people sing a song they wrote\, a poem they wrote\, a painting they did\, a meditation they wrote/want to lead\, etc. Whatever is your medium\, you’re welcome to present it whether it’s your first time writing a poem or 1000th time. It can be a very cathartic experience for both the performer and audience. Please note: SHARES ARE LIMITED TO 5 MINUTES PER PERSON. \nAccess event info here: \nREGISTER TO ATTEND OR TO PERFORM / PRESENT HERE: https://bit.ly/ACATNT11282025 \nSponsored by CA1162
URL:https://acawso.org/calendar/aca-womens-talent-no-talent-show/
CATEGORIES:events
END:VEVENT
BEGIN:VEVENT
DTSTART;TZID=America/New_York:20251127T180000
DTEND;TZID=America/New_York:20251127T193000
DTSTAMP:20260420T155127
CREATED:20250731T160916Z
LAST-MODIFIED:20260213T010306Z
UID:10016962-1764266400-1764271800@acawso.org
SUMMARY:Ballot Prep Committee
DESCRIPTION:All are welcome. \nFor more information\, contact the committee at bpc@adultchildren.org \nZoom 2 ACAWSO is inviting you to a scheduled Zoom meeting. \nMeeting ID: 815 3118 9155\nPasscode: 90755
URL:https://acawso.org/calendar/ballot-prep-committee-10-3/2025-11-27/
CATEGORIES:committees
END:VEVENT
BEGIN:VEVENT
DTSTART;TZID=America/New_York:20251127T150000
DTEND;TZID=America/New_York:20251127T163000
DTSTAMP:20260420T155127
CREATED:20250801T142910Z
LAST-MODIFIED:20250801T142911Z
UID:10017021-1764255600-1764261000@acawso.org
SUMMARY:Finance Committee
DESCRIPTION:The finance committee meets Thursdays from 2:30 pm ET – 4:00pm ET.  We are looking for members with business\, finance\, or bookkeeping experience. \n  \nPlease contact treasurer@adultchildren.org or finance@acawso.org if you are interested in visiting or joining the finance committee.
URL:https://acawso.org/calendar/finance-committee-2-2/2025-11-27/
CATEGORIES:committees
END:VEVENT
BEGIN:VEVENT
DTSTART;TZID=America/New_York:20251127T110000
DTEND;TZID=America/New_York:20251127T123000
DTSTAMP:20260420T155127
CREATED:20251127T112704Z
LAST-MODIFIED:20260314T033456Z
UID:10017267-1764241200-1764246600@acawso.org
SUMMARY:MSC Global Fellowship Meeting
DESCRIPTION:Meeting times: Americas 11am ET New York\, 8am PT California\, 4pm England\, 5pm France\, 5pm Spain\, 6pm Lithuania\, 6pm South Africa\, 6pm Egypt\, 7pm Moscow\, Russia \nTopic: MSC Western Fellowship Meeting \nJoin Zoom Meeting \nhttps://zoom.us/j/93603824987 \nMeeting ID: 936 0382 4987\nPasscode: 163248
URL:https://acawso.org/calendar/western-global-fellowship-meeting-msc-2-2-2/2025-11-27/
CATEGORIES:committees
END:VEVENT
BEGIN:VEVENT
DTSTART;TZID=America/New_York:20251127T100000
DTEND;TZID=America/New_York:20251127T111500
DTSTAMP:20260420T155127
CREATED:20251025T103327Z
LAST-MODIFIED:20251025T103327Z
UID:10017668-1764237600-1764242100@acawso.org
SUMMARY:Second Annual ACA Thanksgiving Meeting
DESCRIPTION:Cultivating Gratitude in Our Recovery Journey\nBuilding fellowship and connection during the holiday season\nThursday\, November 27\, 2025\n10:00 am – 11:15 am (EST)\nPresbyterian Church of Newtown Square\n3600 Goshen Road\nNewtown Square\, PA 19073\n(Go to the back of the church\, see classrooms — second white door on the left)\nCoffee will be available\nPotluck-style refreshments are welcome! \nSponsored by PA0184
URL:https://acawso.org/calendar/second-annual-aca-thanksgiving-meeting/
CATEGORIES:events
END:VEVENT
BEGIN:VEVENT
DTSTART;TZID=America/New_York:20251127T050000
DTEND;TZID=America/New_York:20251128T030000
DTSTAMP:20260420T155127
CREATED:20251106T025503Z
LAST-MODIFIED:20251106T025503Z
UID:10017700-1764219600-1764298800@acawso.org
SUMMARY:Thanksgiving Marathon
DESCRIPTION:2025 ACOA Thanksgiving Marathon \nWelcome to the TEL 0427 ACOA Phone Marathon sign-up! You are invited to strengthen your recovery by moderating\, back-up moderating\, and timekeeping. The Marathon meets:\nThursday\, November 27 at 5am EST until Friday\, November 28 at 3am EST. \nHolidays may be a difficult time for adult children. We encourage you to share this phone meeting with anyone who would like to heal from the effects of alcoholism or family dysfunction.\nYou may serve in one of three ways:\n1. Attend the meeting. The call-in number is: 712-432-8808 access code 247676# \n2. Share this Marathon meeting phone number and time with other Adult children. Please announce it at all appropriate ACOA meetings\, using the following approved announcement below. \n3. Moderators\, Back-Up Moderators\, and Timekeepers are needed. Sign up to serve as Moderator\, Back up moderator\, or Timekeeper by contacting Tim at: aca.service2023@gmail.com \nThe Moderator code will be emailed to moderators and backup moderators a day before the marathon begins. We are using the SAME script and moderator code as prior meetings. \nPlease do not hesitate to contact Tim with any questions.\nXO\nIn-Service\,\nTim\n773-510-0622\naca.service2023@gmail.com
URL:https://acawso.org/calendar/thanksgiving-marathon/
CATEGORIES:events
END:VEVENT
BEGIN:VEVENT
DTSTART;TZID=America/New_York:20251125T170000
DTEND;TZID=America/New_York:20251125T183000
DTSTAMP:20260420T155127
CREATED:20240814T181038Z
LAST-MODIFIED:20251216T233353Z
UID:10013851-1764090000-1764095400@acawso.org
SUMMARY:ABC Study
DESCRIPTION:Please see our subcommittee homepage for more information \nThis Study Group meets weekly on Tuesdays at 5:00 pm Eastern. \nMeeting ID: 993 7036 0615\nPasscode: 182011 \nIf you have questions\, please email us at abcstudy@acawso.org.
URL:https://acawso.org/calendar/abc-study-4-2-2/2025-11-25/
CATEGORIES:committees
END:VEVENT
BEGIN:VEVENT
DTSTART;TZID=America/New_York:20251124T160000
DTEND;TZID=America/New_York:20251124T173000
DTSTAMP:20260420T155127
CREATED:20251119T192005Z
LAST-MODIFIED:20251119T192007Z
UID:10010193-1764000000-1764005400@acawso.org
SUMMARY:IT Committee
DESCRIPTION:IT Committee meets as and when needed on Mondays at 4:00pm ET (US). Please contact the IT Chair before attending the meeting to find out if it meets in a given week. \ncontact: itchair@acawso.org \nJoin Zoom Meeting \nhttps://us02web.zoom.us/j/89520227175 \nMeeting ID: 895 2022 7175\nPasscode: 90755
URL:https://acawso.org/calendar/it-committee-2023-07-19-2-2-2-2/2025-11-24/
CATEGORIES:committees
END:VEVENT
BEGIN:VEVENT
DTSTART;TZID=America/New_York:20251124T120000
DTEND;TZID=America/New_York:20251124T133000
DTSTAMP:20260420T155127
CREATED:20250801T144133Z
LAST-MODIFIED:20250801T144134Z
UID:10012142-1763985600-1763991000@acawso.org
SUMMARY:IT Website Redesign Working Group
DESCRIPTION:IT website redesign working group meetings every Monday at 12:00pm ET (US) \nContact:  itchair@acawso.org \nJoin Zoom Meeting\nhttps://us02web.zoom.us/j/83771567325 \nMeeting ID: 837 7156 7325\nPasscode: 088655
URL:https://acawso.org/calendar/it-website-redesign-working-group-2-2-2-2/2025-11-24/
CATEGORIES:committees
END:VEVENT
BEGIN:VEVENT
DTSTART;TZID=America/New_York:20251124T110000
DTEND;TZID=America/New_York:20251124T123000
DTSTAMP:20260420T155127
CREATED:20251127T112549Z
LAST-MODIFIED:20251127T112550Z
UID:10014708-1763982000-1763987400@acawso.org
SUMMARY:Members Services Committee
DESCRIPTION:The WSO Member Services Committee (MSC) is looking for volunteers to help assist\, support\, and communicate with the worldwide ACA membership. \nWe meet every month on the fourth Monday for approximately one hour by Zoom teleconference at 11:00AM Eastern Time. \n. \n\n\n\n\n\n\n\n\n\n\n\n\n\n\n\n\n\n\n\n\nJoin Zoom Meeting\nhttps://zoom.us/j/96414155183\nMeeting ID: 964 1415 5183\nPasscode: 308405
URL:https://acawso.org/calendar/members-services-re-vision-3-2-2-2-2/2025-11-24/
CATEGORIES:committees
END:VEVENT
BEGIN:VEVENT
DTSTART;TZID=America/New_York:20251124T110000
DTEND;TZID=America/New_York:20251124T123000
DTSTAMP:20260420T155127
CREATED:20241230T113323Z
LAST-MODIFIED:20241230T113324Z
UID:10014648-1763982000-1763987400@acawso.org
SUMMARY:Regions Intergroups Subcommittee
DESCRIPTION:Regions Intergroups Subcommittee meets every month on the fourth Monday for approximately one hour by Zoom teleconference at 11:00AM Eastern Time. \nhttps://zoom.us/j/96414155183\nMeeting ID: 964 1415 5183\nPasscode: 308405
URL:https://acawso.org/calendar/regions-subcommittee-2-2-2-2-2/2025-11-24/
CATEGORIES:committees
END:VEVENT
BEGIN:VEVENT
DTSTART;TZID=America/New_York:20251122T200000
DTEND;TZID=America/New_York:20251122T213000
DTSTAMP:20260420T155127
CREATED:20240212T162730Z
LAST-MODIFIED:20240212T162730Z
UID:10012408-1763841600-1763847000@acawso.org
SUMMARY:Big Red Book Working Group
DESCRIPTION:Zoom 2 ACAWSO is inviting you to a scheduled Zoom meeting.\nTopic: BRB Revision Working Group- Global East\nTime: Every month on the second and fourth Saturday at 8 PM Eastern US \nJoin Zoom Meeting\nhttps://zoom.us/j/92423141348\nMeeting ID: 924 2314 1348\nPasscode: 112358 \nPlease download and import the following iCalendar (.ics) files to your calendar system.\nMonthly: https://zoom.us/meeting/tJYpdeqpqjopHtwsBMOyTO0tAY5XaN4QYv7-/ics?icsToken=98tyKuCqqjkpG9CUsx2PRowQBojob-vwiH5egrdKjz3ILDlnTVPiF9sXCrNRROnp
URL:https://acawso.org/calendar/big-red-book-working-group/2025-11-22/
CATEGORIES:committees
END:VEVENT
BEGIN:VEVENT
DTSTART;TZID=America/New_York:20251122T123000
DTEND;TZID=America/New_York:20251122T133000
DTSTAMP:20260420T155127
CREATED:20251030T042950Z
LAST-MODIFIED:20251030T204843Z
UID:10017683-1763814600-1763818200@acawso.org
SUMMARY:Floor Motion Task Force
DESCRIPTION:Meeting 2nd and 4th Saturday of the month\nFirst meeting November 8th\n12:30 pm-1:30 pm est\nMeeting ID: 875 8291 3615\nPasscode: ABC2022
URL:https://acawso.org/calendar/floor-motion-task-force-2/2025-11-22/
CATEGORIES:committees
END:VEVENT
END:VCALENDAR