BEGIN:VCALENDAR
VERSION:2.0
PRODID:-//ACA WSO - ECPv6.15.20//NONSGML v1.0//EN
CALSCALE:GREGORIAN
METHOD:PUBLISH
X-ORIGINAL-URL:https://acawso.org
X-WR-CALDESC:Events for ACA WSO
REFRESH-INTERVAL;VALUE=DURATION:PT1H
X-Robots-Tag:noindex
X-PUBLISHED-TTL:PT1H
BEGIN:VTIMEZONE
TZID:America/New_York
BEGIN:DAYLIGHT
TZOFFSETFROM:-0500
TZOFFSETTO:-0400
TZNAME:EDT
DTSTART:20240310T070000
END:DAYLIGHT
BEGIN:STANDARD
TZOFFSETFROM:-0400
TZOFFSETTO:-0500
TZNAME:EST
DTSTART:20241103T060000
END:STANDARD
BEGIN:DAYLIGHT
TZOFFSETFROM:-0500
TZOFFSETTO:-0400
TZNAME:EDT
DTSTART:20250309T070000
END:DAYLIGHT
BEGIN:STANDARD
TZOFFSETFROM:-0400
TZOFFSETTO:-0500
TZNAME:EST
DTSTART:20251102T060000
END:STANDARD
BEGIN:DAYLIGHT
TZOFFSETFROM:-0500
TZOFFSETTO:-0400
TZNAME:EDT
DTSTART:20260308T070000
END:DAYLIGHT
BEGIN:STANDARD
TZOFFSETFROM:-0400
TZOFFSETTO:-0500
TZNAME:EST
DTSTART:20261101T060000
END:STANDARD
END:VTIMEZONE
BEGIN:VEVENT
DTSTART;TZID=America/New_York:20250203T120000
DTEND;TZID=America/New_York:20250203T130000
DTSTAMP:20260421T185755
CREATED:20240812T161857Z
LAST-MODIFIED:20240812T161858Z
UID:10012100-1738584000-1738587600@acawso.org
SUMMARY:IT Website Redesign Working Group
DESCRIPTION:IT website redesign working group meetings every Monday at 12:00pm ET (US) \nContact:  itchair@acawso.org \nJoin Zoom Meeting\nhttps://us02web.zoom.us/j/83771567325 \nMeeting ID: 837 7156 7325\nPasscode: 088655
URL:https://acawso.org/calendar/it-website-redesign-working-group-2-2-2/2025-02-03/
CATEGORIES:committees
END:VEVENT
BEGIN:VEVENT
DTSTART;TZID=America/New_York:20250203T160000
DTEND;TZID=America/New_York:20250203T173000
DTSTAMP:20260421T185755
CREATED:20240812T161937Z
LAST-MODIFIED:20240812T161938Z
UID:10007509-1738598400-1738603800@acawso.org
SUMMARY:IT Committee
DESCRIPTION:IT Committee meets weekly on Monday at 4:00pm ET (US) \ncontact: itchair@acawso.org \nJoin Zoom Meeting \nhttps://us02web.zoom.us/j/89520227175 \nMeeting ID: 895 2022 7175\nPasscode: 90755\nOne tap mobile\n+19292056099\,\,89520227175# US (New York)\n+13126266799\,\,89520227175# US (Chicago) \nDial by your location\n+1 929 205 6099 US (New York)\n+1 312 626 6799 US (Chicago)\n+1 301 715 8592 US (Washington DC)\n+1 253 215 8782 US (Tacoma)\n+1 346 248 7799 US (Houston)\n+1 669 900 6833 US (San Jose)\nMeeting ID: 895 2022 7175\nFind your local number: https://us02web.zoom.us/u/kdrkCQ8UuT
URL:https://acawso.org/calendar/it-committee-2023-07-19-2-2-2/2025-02-03/
CATEGORIES:committees
END:VEVENT
BEGIN:VEVENT
DTSTART;TZID=America/New_York:20250204T100000
DTEND;TZID=America/New_York:20250204T120000
DTSTAMP:20260421T185755
CREATED:20241123T171445Z
LAST-MODIFIED:20241123T171816Z
UID:10014403-1738663200-1738670400@acawso.org
SUMMARY:Ready Set GO!!  Morning Series
DESCRIPTION:Ready Set GO!! is a 6-week introductory program of the ACA program\, the ACA 12 Steps and an introductory Inner Child Workshop “Awakening My Little One”. \nStarts January 7th and runs through February 11th. Each session lasts 2 hours. \nClick HERE to view all of the information you will need for Ready Set Go! (RSG) \nNote that our Thursday Evening series starts January 9th and runs through February 13th.
URL:https://acawso.org/calendar/ready-set-go-morning-series-20/2025-02-04/
CATEGORIES:events
END:VEVENT
BEGIN:VEVENT
DTSTART;TZID=America/New_York:20250204T133000
DTEND;TZID=America/New_York:20250204T143000
DTSTAMP:20260421T185755
CREATED:20250107T111344Z
LAST-MODIFIED:20250107T111417Z
UID:10014946-1738675800-1738679400@acawso.org
SUMMARY:European Committee
DESCRIPTION:The monthly meeting is hosted by Zoom the First Tuesday of the month at 19:30 Central European Time / 18:30 UK / 20:30 Baltics / Helsinki / 21:30 Moscow time / 1:30pm ET \nhttps://us02web.zoom.us/j/83834372326 \nMeeting ID: 838 3437 2326\nPasscode: 437668 \nMore information about the European Committee can be found at https://acawso.org/category/european-connection/
URL:https://acawso.org/calendar/european-committee-2-2/2025-02-04/
CATEGORIES:committees
END:VEVENT
BEGIN:VEVENT
DTSTART;TZID=America/New_York:20250204T170000
DTEND;TZID=America/New_York:20250204T183000
DTSTAMP:20260421T185755
CREATED:20240814T181038Z
LAST-MODIFIED:20251216T233353Z
UID:10011744-1738688400-1738693800@acawso.org
SUMMARY:ABC Study
DESCRIPTION:Please see our subcommittee homepage for more information \nThis Study Group meets weekly on Tuesdays at 5:00 pm Eastern. \nMeeting ID: 993 7036 0615\nPasscode: 182011 \nIf you have questions\, please email us at abcstudy@acawso.org.
URL:https://acawso.org/calendar/abc-study-4-2-2/2025-02-04/
CATEGORIES:committees
END:VEVENT
BEGIN:VEVENT
DTSTART;TZID=America/New_York:20250206T123000
DTEND;TZID=America/New_York:20250206T140000
DTSTAMP:20260421T185755
CREATED:20230524T174025Z
LAST-MODIFIED:20230524T174025Z
UID:10004724-1738845000-1738850400@acawso.org
SUMMARY:Board Executive Committee
DESCRIPTION:The WSO Board’s Executive committee meets twice a month on the 1st and 3rd Thursdays at 12:30pm Eastern Time
URL:https://acawso.org/calendar/board-executive-committee/2025-02-06/
END:VEVENT
BEGIN:VEVENT
DTSTART;TZID=America/New_York:20250206T143000
DTEND;TZID=America/New_York:20250206T160000
DTSTAMP:20260421T185755
CREATED:20221215T201448Z
LAST-MODIFIED:20221215T201448Z
UID:10005788-1738852200-1738857600@acawso.org
SUMMARY:Finance Committee
DESCRIPTION:The finance committee meets Thursdays from 2:30 pm ET – 4:00pm ET.  We are looking for members with business\, finance\, or bookkeeping experience. \n  \nPlease contact treasurer@adultchildren.org or finance@acawso.org if you are interested in visiting or joining the finance committee.
URL:https://acawso.org/calendar/finance-committee/2025-02-06/
CATEGORIES:committees
END:VEVENT
BEGIN:VEVENT
DTSTART;TZID=America/New_York:20250206T173000
DTEND;TZID=America/New_York:20250206T190000
DTSTAMP:20260421T185755
CREATED:20240710T202917Z
LAST-MODIFIED:20240710T202917Z
UID:10009763-1738863000-1738868400@acawso.org
SUMMARY:Concepts Study
DESCRIPTION:This ad hoc committee was created by the 2022 ABC. \nAll ACA’s are welcome \nZoom information: \nhttps://zoom.us/j/83429248013 \nMeeting ID: 834 2924 8013\nPasscode: 90755 \nCommittee’s page
URL:https://acawso.org/calendar/concepts-ii-and-vi-study-2-2-2/2025-02-06/
CATEGORIES:committees
END:VEVENT
BEGIN:VEVENT
DTSTART;TZID=America/New_York:20250206T180000
DTEND;TZID=America/New_York:20250206T193000
DTSTAMP:20260421T185755
CREATED:20241213T194151Z
LAST-MODIFIED:20241213T194520Z
UID:10014538-1738864800-1738870200@acawso.org
SUMMARY:Ballot Prep Committee
DESCRIPTION:All are welcome. \nFor more information\, contact the committee at bpc@adultchildren.org \nZoom 2 ACAWSO is inviting you to a scheduled Zoom meeting. \nhttps://zoom.us/j/81531189155 \nMeeting ID: 815 3118 9155\nPasscode: 90755
URL:https://acawso.org/calendar/ballot-prep-committee-5/2025-02-06/
CATEGORIES:committees
END:VEVENT
BEGIN:VEVENT
DTSTART;TZID=America/New_York:20250206T190000
DTEND;TZID=America/New_York:20250206T210000
DTSTAMP:20260421T185755
CREATED:20241123T172329Z
LAST-MODIFIED:20241123T172329Z
UID:10014421-1738868400-1738875600@acawso.org
SUMMARY:Ready Set Go!! Evening Series
DESCRIPTION:Ready Set GO!! is a 6-week introductory program of the ACA program\, the ACA 12 Steps and an introductory Inner Child Workshop “Awakening My Little One”. \nStarts January 9th and runs through February 13th. Each session lasts 2 hours. \nClick HERE to view all of the information you will need for Ready Set Go! (RSG) \nNote that our Tuesday Morning series starts January 7th and runs through February 11th.
URL:https://acawso.org/calendar/ready-set-go-evening-series-16/2025-02-06/
CATEGORIES:events
END:VEVENT
BEGIN:VEVENT
DTSTART;TZID=America/New_York:20250206T200000
DTEND;TZID=America/New_York:20250206T213000
DTSTAMP:20260421T185755
CREATED:20241219T125400Z
LAST-MODIFIED:20250113T184929Z
UID:10015069-1738872000-1738877400@acawso.org
SUMMARY:MSC Global Meet and Greet meeting
DESCRIPTION:MSC Global Meet and Greet meets on the first Thursday of the month at 8pm ET. This is an opportunity to meet some of our far eastern ACA members. Everyone is welcome! \nMSC zoom#2 Id:964 1415 5183\nPW: 308405 \nSponsored by Member Services Committee
URL:https://acawso.org/calendar/msc-global-meet-and-greet-meeting/
CATEGORIES:committees
END:VEVENT
BEGIN:VEVENT
DTSTART;TZID=America/New_York:20250207T180000
DTEND;TZID=America/New_York:20250207T190000
DTSTAMP:20260421T185755
CREATED:20250106T112532Z
LAST-MODIFIED:20250106T112619Z
UID:10009439-1738951200-1738954800@acawso.org
SUMMARY:Data Analysis Committee
DESCRIPTION:Meeting in February moved to 7th of February. Please email data@acawso.org or post in data_request in Slack if have a request. \nData Analysis Committee meets every third Friday the month at  3 PM PDT\, 4 PM MDT\, 5 PM CDT\, 6 PM EDT\, Saturday at 5 AM Thailand/Vietnam\, 6 AM Singapore/Taiwan/China\, 7 AM Japan \nFor information how to attend please contact the committee.
URL:https://acawso.org/calendar/data-analysis-committee-2-2-2-2-2/
CATEGORIES:committees
END:VEVENT
BEGIN:VEVENT
DTSTART;TZID=America/New_York:20250208T103000
DTEND;TZID=America/New_York:20250208T120000
DTSTAMP:20260421T185755
CREATED:20250129T174317Z
LAST-MODIFIED:20250129T175920Z
UID:10015587-1739010600-1739016000@acawso.org
SUMMARY:ABC Sustainability Study Sub-Committee
DESCRIPTION:We meet on the 1st & 3rd Saturday of each month from 10:30AM to Noon EDT. Always check the WSO Committee Calendar for any changes to this schedule. \nZoom URL: https://zoom.us/j/91045736882  \n    -or- \nMeeting ID: 910 4573 6882  \n    -and use- \nPasscode: 992748
URL:https://acawso.org/calendar/abc-sustainability-study-sub-committee-6-2/2025-02-08/
CATEGORIES:committees
END:VEVENT
BEGIN:VEVENT
DTSTART;TZID=America/New_York:20250208T150000
DTEND;TZID=America/New_York:20250208T160000
DTSTAMP:20260421T185755
CREATED:20250102T132850Z
LAST-MODIFIED:20250306T223502Z
UID:10014821-1739026800-1739030400@acawso.org
SUMMARY:Literature in Development Subcommittee
DESCRIPTION:The subcommittee meets once a month on the second Saturday of the month from 3-4 pm eastern time. Meetings will start on 11 January 2025. \nMeeting ID: 987 7225 8902\nPasscode: 744657
URL:https://acawso.org/calendar/literature-in-development-subcommittee-2/2025-02-08/
CATEGORIES:committees
END:VEVENT
BEGIN:VEVENT
DTSTART;TZID=America/New_York:20250208T200000
DTEND;TZID=America/New_York:20250208T213000
DTSTAMP:20260421T185755
CREATED:20241109T132041Z
LAST-MODIFIED:20241109T132042Z
UID:10012520-1739044800-1739050200@acawso.org
SUMMARY:Big Red Book Working Group
DESCRIPTION:Zoom 2 ACAWSO is inviting you to a scheduled Zoom meeting.\nTopic: BRB Revision Working Group- Global East\nTime: Every month on the second and fourth Saturday at 8 PM Eastern US \nJoin Zoom Meeting\nhttps://zoom.us/j/92423141348\nMeeting ID: 924 2314 1348\nPasscode: 112358 \nPlease download and import the following iCalendar (.ics) files to your calendar system.\nMonthly: https://zoom.us/meeting/tJYpdeqpqjopHtwsBMOyTO0tAY5XaN4QYv7-/ics?icsToken=98tyKuCqqjkpG9CUsx2PRowQBojob-vwiH5egrdKjz3ILDlnTVPiF9sXCrNRROnp
URL:https://acawso.org/calendar/brb-revision-working-group-global-east-3-2/2025-02-08/
CATEGORIES:committees
END:VEVENT
BEGIN:VEVENT
DTSTART;TZID=America/New_York:20250208T210000
DTEND;TZID=America/New_York:20250208T223000
DTSTAMP:20260421T185755
CREATED:20241218T064629Z
LAST-MODIFIED:20250207T074841Z
UID:10014624-1739048400-1739053800@acawso.org
SUMMARY:Ballot Presentation Town Hall
DESCRIPTION:To aid your group’s discussion of the 2024 ABC Ballot Proposals\, the following Question & Answer Ballot Proposal Presentations (Town Halls) are scheduled: \n\nSaturday\, February 8th at 9 pm Eastern US time.  Proposals 2\, 5 and 6\nSunday\, February 9th at 9 am Eastern US time.  Proposals 3\, 4 and 8\nFriday\, February 21st at 9 pm Eastern US time.  Proposals 1\, 11\, 12 and 13\nSaturday\, February 22nd at 9 am Eastern US time.  Proposals 7\, 9 and 10\n\nClick HERE to get more detailed information about the Presentations. \nThe Proposal submitters will have the opportunity to present information about their Proposals and attendees will be able to ask questions. \nThese meetings will be recorded and made available on our website: https://acawso.org/bpc/ \nJoin Zoom Meeting\nhttps://zoom.us/j/97974771894 \nMeeting ID: 979 7477 1894\nPasscode: 13579 \nFind your local number: https://zoom.us/u/aSgVHNtrU
URL:https://acawso.org/calendar/ballot-presentation-town-hall/2025-02-08/
CATEGORIES:events
END:VEVENT
BEGIN:VEVENT
DTSTART;TZID=America/New_York:20250209T090000
DTEND;TZID=America/New_York:20250209T103000
DTSTAMP:20260421T185755
CREATED:20250203T115804Z
LAST-MODIFIED:20250207T075651Z
UID:10014629-1739091600-1739097000@acawso.org
SUMMARY:Ballot Presentation Town Hall
DESCRIPTION:To aid your group’s discussion of the 2024 ABC Ballot Proposals\, the following Question & Answer Presentations (Town Halls) are scheduled: \n\nSaturday\, February 8th at 9 pm Eastern US time. Proposals 2\, 5 and 6\nSunday\, February 9th at 9 am Eastern US time. Proposals 3\, 4 and 8\nFriday\, February 21st at 9 pm Eastern US time. Proposals 1\, 11\, 12 and 13\nSaturday\, February 22nd at 9 am Eastern US time. Proposals 7\, 9 and 10\n\nThe Proposal submitters will have the opportunity to present information about their Proposals and attendees will be able to ask questions. \nClick HERE to get more detailed information about the Presentations. \nThese meetings will be recorded and made available on our website: https://acawso.org/bpc/ \nJoin Zoom Meeting\nhttps://zoom.us/j/97974771894 \nMeeting ID: 979 7477 1894\nPasscode: 13579 \nFind your local number: https://zoom.us/u/aSgVHNtrU
URL:https://acawso.org/calendar/ballot-presentation-town-hall-2/
CATEGORIES:events
END:VEVENT
BEGIN:VEVENT
DTSTART;TZID=America/New_York:20250210T120000
DTEND;TZID=America/New_York:20250210T130000
DTSTAMP:20260421T185755
CREATED:20240812T161857Z
LAST-MODIFIED:20240812T161858Z
UID:10012101-1739188800-1739192400@acawso.org
SUMMARY:IT Website Redesign Working Group
DESCRIPTION:IT website redesign working group meetings every Monday at 12:00pm ET (US) \nContact:  itchair@acawso.org \nJoin Zoom Meeting\nhttps://us02web.zoom.us/j/83771567325 \nMeeting ID: 837 7156 7325\nPasscode: 088655
URL:https://acawso.org/calendar/it-website-redesign-working-group-2-2-2/2025-02-10/
CATEGORIES:committees
END:VEVENT
BEGIN:VEVENT
DTSTART;TZID=America/New_York:20250210T160000
DTEND;TZID=America/New_York:20250210T173000
DTSTAMP:20260421T185755
CREATED:20240812T161937Z
LAST-MODIFIED:20240812T161938Z
UID:10007510-1739203200-1739208600@acawso.org
SUMMARY:IT Committee
DESCRIPTION:IT Committee meets weekly on Monday at 4:00pm ET (US) \ncontact: itchair@acawso.org \nJoin Zoom Meeting \nhttps://us02web.zoom.us/j/89520227175 \nMeeting ID: 895 2022 7175\nPasscode: 90755\nOne tap mobile\n+19292056099\,\,89520227175# US (New York)\n+13126266799\,\,89520227175# US (Chicago) \nDial by your location\n+1 929 205 6099 US (New York)\n+1 312 626 6799 US (Chicago)\n+1 301 715 8592 US (Washington DC)\n+1 253 215 8782 US (Tacoma)\n+1 346 248 7799 US (Houston)\n+1 669 900 6833 US (San Jose)\nMeeting ID: 895 2022 7175\nFind your local number: https://us02web.zoom.us/u/kdrkCQ8UuT
URL:https://acawso.org/calendar/it-committee-2023-07-19-2-2-2/2025-02-10/
CATEGORIES:committees
END:VEVENT
BEGIN:VEVENT
DTSTART;TZID=America/New_York:20250211T100000
DTEND;TZID=America/New_York:20250211T120000
DTSTAMP:20260421T185755
CREATED:20241123T171445Z
LAST-MODIFIED:20241123T171816Z
UID:10014404-1739268000-1739275200@acawso.org
SUMMARY:Ready Set GO!!  Morning Series
DESCRIPTION:Ready Set GO!! is a 6-week introductory program of the ACA program\, the ACA 12 Steps and an introductory Inner Child Workshop “Awakening My Little One”. \nStarts January 7th and runs through February 11th. Each session lasts 2 hours. \nClick HERE to view all of the information you will need for Ready Set Go! (RSG) \nNote that our Thursday Evening series starts January 9th and runs through February 13th.
URL:https://acawso.org/calendar/ready-set-go-morning-series-20/2025-02-11/
CATEGORIES:events
END:VEVENT
BEGIN:VEVENT
DTSTART;TZID=America/New_York:20250211T140000
DTEND;TZID=America/New_York:20250211T153000
DTSTAMP:20260421T185755
CREATED:20220902T154208Z
LAST-MODIFIED:20220902T154208Z
UID:10007889-1739282400-1739287800@acawso.org
SUMMARY:Archives Committee Meeting
DESCRIPTION:Join the Archives Committee at \nhttps://us02web.zoom.us/j/89913165113 \nMeeting ID: 899 1316 5113\nPasscode: 495053
URL:https://acawso.org/calendar/archives-committee-meeting/2025-02-11/
END:VEVENT
BEGIN:VEVENT
DTSTART;TZID=America/New_York:20250211T170000
DTEND;TZID=America/New_York:20250211T183000
DTSTAMP:20260421T185755
CREATED:20240814T181038Z
LAST-MODIFIED:20251216T233353Z
UID:10013819-1739293200-1739298600@acawso.org
SUMMARY:ABC Study
DESCRIPTION:Please see our subcommittee homepage for more information \nThis Study Group meets weekly on Tuesdays at 5:00 pm Eastern. \nMeeting ID: 993 7036 0615\nPasscode: 182011 \nIf you have questions\, please email us at abcstudy@acawso.org.
URL:https://acawso.org/calendar/abc-study-4-2-2/2025-02-11/
CATEGORIES:committees
END:VEVENT
BEGIN:VEVENT
DTSTART;TZID=America/New_York:20250212T180000
DTEND;TZID=America/New_York:20250212T193000
DTSTAMP:20260421T185755
CREATED:20241118T174342Z
LAST-MODIFIED:20250616T172454Z
UID:10014256-1739383200-1739388600@acawso.org
SUMMARY:Policy and Structure Collaboration Committee
DESCRIPTION:We meet on the 2nd Wednesday of each month at 6pm ET. \nMeeting ID: 985 6030 4755\nPasscode: 658839
URL:https://acawso.org/calendar/policy-and-structure-collaboration-committee-2-2-2-2-2/2025-02-12/
CATEGORIES:committees
END:VEVENT
BEGIN:VEVENT
DTSTART;TZID=America/New_York:20250213T100000
DTEND;TZID=America/New_York:20250213T120000
DTSTAMP:20260421T185755
CREATED:20250108T165726Z
LAST-MODIFIED:20250108T165726Z
UID:10015068-1739440800-1739448000@acawso.org
SUMMARY:Celebrating Love Within
DESCRIPTION:Fearless Souls Intergroup invites you to our yearly Workshop. \nTopic: Celebrating Love Within\nTime: Feb 13\, 2025 04:00 PM Brussels\nJoin Zoom Meeting\nhttps://zoom.us/j/94833322295?pwd=h9GPVRUabsFI7FLUd8hhoUo9X3XdiI.1 \nMeeting ID: 948 3332 2295\nPasscode: LOVE \nThis will be a chance to celebrate our inner children and show them how much we love them.\nWe will also make a Valentine’s card with the help of our inner family. So bring the arts & crafts you would like to play with. \nEveryone is welcome! \nAre you dialling in? Find your local number: https://zoom.us/u/arXet2Nnp \nSponsored by IG#754
URL:https://acawso.org/calendar/celebrating-love-within-2/
CATEGORIES:events
END:VEVENT
BEGIN:VEVENT
DTSTART;TZID=America/New_York:20250213T143000
DTEND;TZID=America/New_York:20250213T160000
DTSTAMP:20260421T185755
CREATED:20221215T201448Z
LAST-MODIFIED:20221215T201448Z
UID:10005789-1739457000-1739462400@acawso.org
SUMMARY:Finance Committee
DESCRIPTION:The finance committee meets Thursdays from 2:30 pm ET – 4:00pm ET.  We are looking for members with business\, finance\, or bookkeeping experience. \n  \nPlease contact treasurer@adultchildren.org or finance@acawso.org if you are interested in visiting or joining the finance committee.
URL:https://acawso.org/calendar/finance-committee/2025-02-13/
CATEGORIES:committees
END:VEVENT
BEGIN:VEVENT
DTSTART;TZID=America/New_York:20250213T180000
DTEND;TZID=America/New_York:20250213T193000
DTSTAMP:20260421T185755
CREATED:20241213T194151Z
LAST-MODIFIED:20241213T194520Z
UID:10014539-1739469600-1739475000@acawso.org
SUMMARY:Ballot Prep Committee
DESCRIPTION:All are welcome. \nFor more information\, contact the committee at bpc@adultchildren.org \nZoom 2 ACAWSO is inviting you to a scheduled Zoom meeting. \nhttps://zoom.us/j/81531189155 \nMeeting ID: 815 3118 9155\nPasscode: 90755
URL:https://acawso.org/calendar/ballot-prep-committee-5/2025-02-13/
CATEGORIES:committees
END:VEVENT
BEGIN:VEVENT
DTSTART;TZID=America/New_York:20250213T190000
DTEND;TZID=America/New_York:20250213T210000
DTSTAMP:20260421T185755
CREATED:20241123T172329Z
LAST-MODIFIED:20241123T172329Z
UID:10014422-1739473200-1739480400@acawso.org
SUMMARY:Ready Set Go!! Evening Series
DESCRIPTION:Ready Set GO!! is a 6-week introductory program of the ACA program\, the ACA 12 Steps and an introductory Inner Child Workshop “Awakening My Little One”. \nStarts January 9th and runs through February 13th. Each session lasts 2 hours. \nClick HERE to view all of the information you will need for Ready Set Go! (RSG) \nNote that our Tuesday Morning series starts January 7th and runs through February 11th.
URL:https://acawso.org/calendar/ready-set-go-evening-series-16/2025-02-13/
CATEGORIES:events
END:VEVENT
BEGIN:VEVENT
DTSTART;TZID=America/New_York:20250214T050000
DTEND;TZID=America/New_York:20250215T030000
DTSTAMP:20260421T185755
CREATED:20250201T152703Z
LAST-MODIFIED:20250201T152703Z
UID:10015774-1739509200-1739588400@acawso.org
SUMMARY:Valentine's Day Marathon
DESCRIPTION:Valentine’s Day Marathon\nGroup Tel 0427\nHolidays can be a difficult time for adult children. On Valentine’s Day\, there will be 22 hours of back to back meetings. Please share this phone meeting in your groups and fellow travelers.\nTo Attend:\nTime: 5:00 am EST February 14 until. 3:00 am EST February 15.\nCall-in number: 712-432-8808 access code 247676#\nWant to boost your recovery? Consider doing service as a Moderator\, Back-Up Moderator\, or Timekeeper.\nFor the signup link or a moderator script please text Tim (see contact info below).\nPlease do not hesitate to contact us with any questions. Moderator code will be sent out 24hrs before the marathon starts.\nXO\nIn-Service\,\nTim & Christa\n773-510-0622 email: aca.service2023@gmail.com
URL:https://acawso.org/calendar/valentines-day-marathon/
CATEGORIES:events
END:VEVENT
BEGIN:VEVENT
DTSTART;TZID=America/New_York:20250215T103000
DTEND;TZID=America/New_York:20250215T120000
DTSTAMP:20260421T185755
CREATED:20250129T174317Z
LAST-MODIFIED:20250129T175920Z
UID:10015456-1739615400-1739620800@acawso.org
SUMMARY:ABC Sustainability Study Sub-Committee
DESCRIPTION:We meet on the 1st & 3rd Saturday of each month from 10:30AM to Noon EDT. Always check the WSO Committee Calendar for any changes to this schedule. \nZoom URL: https://zoom.us/j/91045736882  \n    -or- \nMeeting ID: 910 4573 6882  \n    -and use- \nPasscode: 992748
URL:https://acawso.org/calendar/abc-sustainability-study-sub-committee-6-2/2025-02-15/
CATEGORIES:committees
END:VEVENT
BEGIN:VEVENT
DTSTART;TZID=America/New_York:20250215T123000
DTEND;TZID=America/New_York:20250215T140000
DTSTAMP:20260421T185755
CREATED:20250108T155957Z
LAST-MODIFIED:20250129T193322Z
UID:10015009-1739622600-1739628000@acawso.org
SUMMARY:ABC/QDM Committee
DESCRIPTION:The ABC/AWC committee meets first and third Saturday from 12:30 to 2 pm EDT \nJoin Zoom Meeting\nhttps://us02web.zoom.us/j/87582913615?pwd=dWpPNVJPcVNiVjJxbGgzbFVwY05EZz09 \nMeeting ID: 875 8291 3615\nPasscode: ABC2022 \nContact abc@adultchildren.org for more details. \n 
URL:https://acawso.org/calendar/abc-awc-committee-4-2/2025-02-15/
CATEGORIES:committees
END:VEVENT
END:VCALENDAR