BEGIN:VCALENDAR
VERSION:2.0
PRODID:-//ACA WSO - ECPv6.15.20//NONSGML v1.0//EN
CALSCALE:GREGORIAN
METHOD:PUBLISH
X-WR-CALNAME:ACA WSO
X-ORIGINAL-URL:https://acawso.org
X-WR-CALDESC:Events for ACA WSO
REFRESH-INTERVAL;VALUE=DURATION:PT1H
X-Robots-Tag:noindex
X-PUBLISHED-TTL:PT1H
BEGIN:VTIMEZONE
TZID:America/New_York
BEGIN:DAYLIGHT
TZOFFSETFROM:-0500
TZOFFSETTO:-0400
TZNAME:EDT
DTSTART:20240310T070000
END:DAYLIGHT
BEGIN:STANDARD
TZOFFSETFROM:-0400
TZOFFSETTO:-0500
TZNAME:EST
DTSTART:20241103T060000
END:STANDARD
BEGIN:DAYLIGHT
TZOFFSETFROM:-0500
TZOFFSETTO:-0400
TZNAME:EDT
DTSTART:20250309T070000
END:DAYLIGHT
BEGIN:STANDARD
TZOFFSETFROM:-0400
TZOFFSETTO:-0500
TZNAME:EST
DTSTART:20251102T060000
END:STANDARD
BEGIN:DAYLIGHT
TZOFFSETFROM:-0500
TZOFFSETTO:-0400
TZNAME:EDT
DTSTART:20260308T070000
END:DAYLIGHT
BEGIN:STANDARD
TZOFFSETFROM:-0400
TZOFFSETTO:-0500
TZNAME:EST
DTSTART:20261101T060000
END:STANDARD
END:VTIMEZONE
BEGIN:VEVENT
DTSTART;TZID=America/New_York:20250123T143000
DTEND;TZID=America/New_York:20250123T160000
DTSTAMP:20260422T190646
CREATED:20221215T201448Z
LAST-MODIFIED:20221215T201448Z
UID:10005786-1737642600-1737648000@acawso.org
SUMMARY:Finance Committee
DESCRIPTION:The finance committee meets Thursdays from 2:30 pm ET – 4:00pm ET.  We are looking for members with business\, finance\, or bookkeeping experience. \n  \nPlease contact treasurer@adultchildren.org or finance@acawso.org if you are interested in visiting or joining the finance committee.
URL:https://acawso.org/calendar/finance-committee/2025-01-23/
CATEGORIES:committees
END:VEVENT
BEGIN:VEVENT
DTSTART;TZID=America/New_York:20250123T161500
DTEND;TZID=America/New_York:20250123T171500
DTSTAMP:20260422T190646
CREATED:20250121T173955Z
LAST-MODIFIED:20250121T174008Z
UID:10013164-1737648900-1737652500@acawso.org
SUMMARY:Oral History Committee
DESCRIPTION:Oral History Committee meets on third Thursday of each month at 4:15pm Eastern. \nhttps://zoom.us/j/87931864867 \nMeeting ID: 879 3186 4867 \nPasscode: 076406
URL:https://acawso.org/calendar/oral-history-committee-2-2-2/
CATEGORIES:committees
END:VEVENT
BEGIN:VEVENT
DTSTART;TZID=America/New_York:20250123T180000
DTEND;TZID=America/New_York:20250123T193000
DTSTAMP:20260422T190646
CREATED:20241213T194151Z
LAST-MODIFIED:20241213T194520Z
UID:10014536-1737655200-1737660600@acawso.org
SUMMARY:Ballot Prep Committee
DESCRIPTION:All are welcome. \nFor more information\, contact the committee at bpc@adultchildren.org \nZoom 2 ACAWSO is inviting you to a scheduled Zoom meeting. \nhttps://zoom.us/j/81531189155 \nMeeting ID: 815 3118 9155\nPasscode: 90755
URL:https://acawso.org/calendar/ballot-prep-committee-5/2025-01-23/
CATEGORIES:committees
END:VEVENT
BEGIN:VEVENT
DTSTART;TZID=America/New_York:20250123T190000
DTEND;TZID=America/New_York:20250123T210000
DTSTAMP:20260422T190646
CREATED:20241123T172329Z
LAST-MODIFIED:20241123T172329Z
UID:10014419-1737658800-1737666000@acawso.org
SUMMARY:Ready Set Go!! Evening Series
DESCRIPTION:Ready Set GO!! is a 6-week introductory program of the ACA program\, the ACA 12 Steps and an introductory Inner Child Workshop “Awakening My Little One”. \nStarts January 9th and runs through February 13th. Each session lasts 2 hours. \nClick HERE to view all of the information you will need for Ready Set Go! (RSG) \nNote that our Tuesday Morning series starts January 7th and runs through February 11th.
URL:https://acawso.org/calendar/ready-set-go-evening-series-16/2025-01-23/
CATEGORIES:events
END:VEVENT
BEGIN:VEVENT
DTSTART;TZID=America/New_York:20250124T093000
DTEND;TZID=America/New_York:20250124T113000
DTSTAMP:20260422T190646
CREATED:20241126T175646Z
LAST-MODIFIED:20241126T175646Z
UID:10014457-1737711000-1737718200@acawso.org
SUMMARY:Publishing Committee
DESCRIPTION:Publishing Committee \nWe meet on Fridays once a month on the 4th Friday of each month. \n \nTime: 6:30 am PDT\, 9:30 am EDT\, 2:30 pm UK/GBST\, 3:30 pm CET \, 3:30 pm SAST\, 7:00 pm India \nMeeting ID: 857 7189 3168\nPasscode: 382777 \nAny questions\, contact Sue V at publishingchair@acawso.org  or on slack \n 
URL:https://acawso.org/calendar/publishing-committee-3/2025-01-24/
CATEGORIES:committees
END:VEVENT
BEGIN:VEVENT
DTSTART;TZID=America/New_York:20250124T170000
DTEND;TZID=America/New_York:20250124T180000
DTSTAMP:20260422T190646
CREATED:20250115T180508Z
LAST-MODIFIED:20250115T180508Z
UID:10015132-1737738000-1737741600@acawso.org
SUMMARY:My 12 Steps Into ACA Speaker Meeting
DESCRIPTION:Many of us come from or participate in other 12-step programs\, not just ACA. Lauren V. will share her experience\, strength and hope of how AA and ACA recovery have worked for her. \nSponsored by CA1181
URL:https://acawso.org/calendar/my-12-steps-into-aca-speaker-meeting/
CATEGORIES:events
END:VEVENT
BEGIN:VEVENT
DTSTART;TZID=America/New_York:20250125T103000
DTEND;TZID=America/New_York:20250125T120000
DTSTAMP:20260422T190646
CREATED:20250108T155403Z
LAST-MODIFIED:20250108T155404Z
UID:10015008-1737801000-1737806400@acawso.org
SUMMARY:ABC Sustainability Study Sub-Committee
DESCRIPTION:We are currently meeting the 1st & 3rd Saturday of (generally) every month\, at 12:30AM-2 EDT (always check with the WSO Committee Calendar) \nZoom URL: https://zoom.us/j/91045736882  \n    -or- \nMeeting ID: 910 4573 6882  \n    -and use- \nPasscode: 992748
URL:https://acawso.org/calendar/abc-sustainability-study-sub-committee-2-2-2/2025-01-25/
CATEGORIES:committees
END:VEVENT
BEGIN:VEVENT
DTSTART;TZID=America/New_York:20250125T200000
DTEND;TZID=America/New_York:20250125T213000
DTSTAMP:20260422T190646
CREATED:20240212T162730Z
LAST-MODIFIED:20240212T162730Z
UID:10012398-1737835200-1737840600@acawso.org
SUMMARY:Big Red Book Working Group
DESCRIPTION:Zoom 2 ACAWSO is inviting you to a scheduled Zoom meeting.\nTopic: BRB Revision Working Group- Global East\nTime: Every month on the second and fourth Saturday at 8 PM Eastern US \nJoin Zoom Meeting\nhttps://zoom.us/j/92423141348\nMeeting ID: 924 2314 1348\nPasscode: 112358 \nPlease download and import the following iCalendar (.ics) files to your calendar system.\nMonthly: https://zoom.us/meeting/tJYpdeqpqjopHtwsBMOyTO0tAY5XaN4QYv7-/ics?icsToken=98tyKuCqqjkpG9CUsx2PRowQBojob-vwiH5egrdKjz3ILDlnTVPiF9sXCrNRROnp
URL:https://acawso.org/calendar/big-red-book-working-group/2025-01-25/
CATEGORIES:committees
END:VEVENT
BEGIN:VEVENT
DTSTART;TZID=America/New_York:20250127T110000
DTEND;TZID=America/New_York:20250127T123000
DTSTAMP:20260422T190646
CREATED:20241230T113323Z
LAST-MODIFIED:20241230T113324Z
UID:10014638-1737975600-1737981000@acawso.org
SUMMARY:Regions Intergroups Subcommittee
DESCRIPTION:Regions Intergroups Subcommittee meets every month on the fourth Monday for approximately one hour by Zoom teleconference at 11:00AM Eastern Time. \nhttps://zoom.us/j/96414155183\nMeeting ID: 964 1415 5183\nPasscode: 308405
URL:https://acawso.org/calendar/regions-subcommittee-2-2-2-2-2/2025-01-27/
CATEGORIES:committees
END:VEVENT
BEGIN:VEVENT
DTSTART;TZID=America/New_York:20250127T110000
DTEND;TZID=America/New_York:20250127T123000
DTSTAMP:20260422T190646
CREATED:20241230T113423Z
LAST-MODIFIED:20241230T113424Z
UID:10014698-1737975600-1737981000@acawso.org
SUMMARY:Members Services Committee
DESCRIPTION:The WSO Member Services Committee (MSC) is looking for volunteers to help assist\, support\, and communicate with the worldwide ACA membership. \nWe meet every month on the fourth Monday for approximately one hour by Zoom teleconference at 11:00AM Eastern Time. \n. \n\n\n\n\n\n\n\n\n\n\n\n\n\n\n\n\n\n\n\n\nJoin Zoom Meeting\nhttps://zoom.us/j/96414155183\nMeeting ID: 964 1415 5183\nPasscode: 308405
URL:https://acawso.org/calendar/members-services-re-vision-3-2-2-2/2025-01-27/
CATEGORIES:committees
END:VEVENT
BEGIN:VEVENT
DTSTART;TZID=America/New_York:20250127T110000
DTEND;TZID=America/New_York:20250127T123000
DTSTAMP:20260422T190646
CREATED:20241230T113530Z
LAST-MODIFIED:20241230T113531Z
UID:10014758-1737975600-1737981000@acawso.org
SUMMARY:Young Adults & Teens Subcommittee
DESCRIPTION:YAT SC meeting is on every 4th Monday of the month on Zoom 2 – from 11:00AM to 12:30AM Eeastern \n  \nhttps://zoom.us/j/96414155183\nMeeting ID: 964 1415 5183\nPasscode: 308405
URL:https://acawso.org/calendar/young-adults-teens-subcommittee-2-2-2-2-2/2025-01-27/
CATEGORIES:committees
END:VEVENT
BEGIN:VEVENT
DTSTART;TZID=America/New_York:20250127T120000
DTEND;TZID=America/New_York:20250127T130000
DTSTAMP:20260422T190646
CREATED:20240812T161857Z
LAST-MODIFIED:20240812T161858Z
UID:10012099-1737979200-1737982800@acawso.org
SUMMARY:IT Website Redesign Working Group
DESCRIPTION:IT website redesign working group meetings every Monday at 12:00pm ET (US) \nContact:  itchair@acawso.org \nJoin Zoom Meeting\nhttps://us02web.zoom.us/j/83771567325 \nMeeting ID: 837 7156 7325\nPasscode: 088655
URL:https://acawso.org/calendar/it-website-redesign-working-group-2-2-2/2025-01-27/
CATEGORIES:committees
END:VEVENT
BEGIN:VEVENT
DTSTART;TZID=America/New_York:20250127T160000
DTEND;TZID=America/New_York:20250127T173000
DTSTAMP:20260422T190646
CREATED:20240812T161937Z
LAST-MODIFIED:20240812T161938Z
UID:10007508-1737993600-1737999000@acawso.org
SUMMARY:IT Committee
DESCRIPTION:IT Committee meets weekly on Monday at 4:00pm ET (US) \ncontact: itchair@acawso.org \nJoin Zoom Meeting \nhttps://us02web.zoom.us/j/89520227175 \nMeeting ID: 895 2022 7175\nPasscode: 90755\nOne tap mobile\n+19292056099\,\,89520227175# US (New York)\n+13126266799\,\,89520227175# US (Chicago) \nDial by your location\n+1 929 205 6099 US (New York)\n+1 312 626 6799 US (Chicago)\n+1 301 715 8592 US (Washington DC)\n+1 253 215 8782 US (Tacoma)\n+1 346 248 7799 US (Houston)\n+1 669 900 6833 US (San Jose)\nMeeting ID: 895 2022 7175\nFind your local number: https://us02web.zoom.us/u/kdrkCQ8UuT
URL:https://acawso.org/calendar/it-committee-2023-07-19-2-2-2/2025-01-27/
CATEGORIES:committees
END:VEVENT
BEGIN:VEVENT
DTSTART;TZID=America/New_York:20250128T100000
DTEND;TZID=America/New_York:20250128T120000
DTSTAMP:20260422T190646
CREATED:20241123T171445Z
LAST-MODIFIED:20241123T171816Z
UID:10014402-1738058400-1738065600@acawso.org
SUMMARY:Ready Set GO!!  Morning Series
DESCRIPTION:Ready Set GO!! is a 6-week introductory program of the ACA program\, the ACA 12 Steps and an introductory Inner Child Workshop “Awakening My Little One”. \nStarts January 7th and runs through February 11th. Each session lasts 2 hours. \nClick HERE to view all of the information you will need for Ready Set Go! (RSG) \nNote that our Thursday Evening series starts January 9th and runs through February 13th.
URL:https://acawso.org/calendar/ready-set-go-morning-series-20/2025-01-28/
CATEGORIES:events
END:VEVENT
BEGIN:VEVENT
DTSTART;TZID=America/New_York:20250128T170000
DTEND;TZID=America/New_York:20250128T183000
DTSTAMP:20260422T190646
CREATED:20240814T181038Z
LAST-MODIFIED:20251216T233353Z
UID:10013818-1738083600-1738089000@acawso.org
SUMMARY:ABC Study
DESCRIPTION:Please see our subcommittee homepage for more information \nThis Study Group meets weekly on Tuesdays at 5:00 pm Eastern. \nMeeting ID: 993 7036 0615\nPasscode: 182011 \nIf you have questions\, please email us at abcstudy@acawso.org.
URL:https://acawso.org/calendar/abc-study-4-2-2/2025-01-28/
CATEGORIES:committees
END:VEVENT
BEGIN:VEVENT
DTSTART;TZID=America/New_York:20250130T143000
DTEND;TZID=America/New_York:20250130T160000
DTSTAMP:20260422T190646
CREATED:20221215T201448Z
LAST-MODIFIED:20221215T201448Z
UID:10005787-1738247400-1738252800@acawso.org
SUMMARY:Finance Committee
DESCRIPTION:The finance committee meets Thursdays from 2:30 pm ET – 4:00pm ET.  We are looking for members with business\, finance\, or bookkeeping experience. \n  \nPlease contact treasurer@adultchildren.org or finance@acawso.org if you are interested in visiting or joining the finance committee.
URL:https://acawso.org/calendar/finance-committee/2025-01-30/
CATEGORIES:committees
END:VEVENT
BEGIN:VEVENT
DTSTART;TZID=America/New_York:20250130T180000
DTEND;TZID=America/New_York:20250130T193000
DTSTAMP:20260422T190646
CREATED:20241213T194151Z
LAST-MODIFIED:20241213T194520Z
UID:10014537-1738260000-1738265400@acawso.org
SUMMARY:Ballot Prep Committee
DESCRIPTION:All are welcome. \nFor more information\, contact the committee at bpc@adultchildren.org \nZoom 2 ACAWSO is inviting you to a scheduled Zoom meeting. \nhttps://zoom.us/j/81531189155 \nMeeting ID: 815 3118 9155\nPasscode: 90755
URL:https://acawso.org/calendar/ballot-prep-committee-5/2025-01-30/
CATEGORIES:committees
END:VEVENT
BEGIN:VEVENT
DTSTART;TZID=America/New_York:20250130T190000
DTEND;TZID=America/New_York:20250130T210000
DTSTAMP:20260422T190646
CREATED:20241123T172329Z
LAST-MODIFIED:20241123T172329Z
UID:10014420-1738263600-1738270800@acawso.org
SUMMARY:Ready Set Go!! Evening Series
DESCRIPTION:Ready Set GO!! is a 6-week introductory program of the ACA program\, the ACA 12 Steps and an introductory Inner Child Workshop “Awakening My Little One”. \nStarts January 9th and runs through February 13th. Each session lasts 2 hours. \nClick HERE to view all of the information you will need for Ready Set Go! (RSG) \nNote that our Tuesday Morning series starts January 7th and runs through February 11th.
URL:https://acawso.org/calendar/ready-set-go-evening-series-16/2025-01-30/
CATEGORIES:events
END:VEVENT
BEGIN:VEVENT
DTSTART;TZID=America/New_York:20250201T124500
DTEND;TZID=America/New_York:20250201T134500
DTSTAMP:20260422T190646
CREATED:20210626T131806Z
LAST-MODIFIED:20260115T115550Z
UID:10007269-1738413900-1738417500@acawso.org
SUMMARY:Lit Evaluation Subcommittee
DESCRIPTION:Literature Evaluation meets the 1st Saturday of each month\, 12:45pm-1:45pm ET. \ncontact: liteval@acawso.org \nhttps://us02web.zoom.us/j/86113897454?pwd=UitVN2tHb1E1STJ5YXlWYU1mZXZ5Zz09 \nMeeting ID: 861 1389 7454\nPasscode: 127253
URL:https://acawso.org/calendar/lit-evaluation-subcommittee-3/2025-02-01/
CATEGORIES:committees
END:VEVENT
BEGIN:VEVENT
DTSTART;TZID=America/New_York:20250201T160000
DTEND;TZID=America/New_York:20250201T173000
DTSTAMP:20260422T190646
CREATED:20220716T210629Z
LAST-MODIFIED:20231031T133925Z
UID:10011414-1738425600-1738431000@acawso.org
SUMMARY:SRC Committee Meeting
DESCRIPTION:Service Resources Committee meets on the 1st and 3rd Saturday of the month at 4pm ET. \nZoom 2 ACAWSO is inviting you to a scheduled Zoom meeting. \nTopic: SRC Committee Meeting\nJoin Zoom Meeting\nhttps://us02web.zoom.us/j/82077851277 \nMeeting ID: 820 7785 1277\nPasscode: 987321 \n  \nPlease download and import the following iCalendar (.ics) files to your calendar system.\nWeekly: https://us02web.zoom.us/meeting/tZYtcO6gqzooHdN_nSsMjGe-HFnItRpAbjLl/ics?icsToken=98tyKuGqrjwtEtGUsh6ARpwQAo_CKPzwmH5BgqdzoxHWEA1ZRQa7HsRMG6ZNAPnS
URL:https://acawso.org/calendar/mssc-committee-meeting-2/2025-02-01/
CATEGORIES:committees
END:VEVENT
BEGIN:VEVENT
DTSTART;TZID=America/New_York:20250203T120000
DTEND;TZID=America/New_York:20250203T130000
DTSTAMP:20260422T190646
CREATED:20240812T161857Z
LAST-MODIFIED:20240812T161858Z
UID:10012100-1738584000-1738587600@acawso.org
SUMMARY:IT Website Redesign Working Group
DESCRIPTION:IT website redesign working group meetings every Monday at 12:00pm ET (US) \nContact:  itchair@acawso.org \nJoin Zoom Meeting\nhttps://us02web.zoom.us/j/83771567325 \nMeeting ID: 837 7156 7325\nPasscode: 088655
URL:https://acawso.org/calendar/it-website-redesign-working-group-2-2-2/2025-02-03/
CATEGORIES:committees
END:VEVENT
BEGIN:VEVENT
DTSTART;TZID=America/New_York:20250203T160000
DTEND;TZID=America/New_York:20250203T173000
DTSTAMP:20260422T190646
CREATED:20240812T161937Z
LAST-MODIFIED:20240812T161938Z
UID:10007509-1738598400-1738603800@acawso.org
SUMMARY:IT Committee
DESCRIPTION:IT Committee meets weekly on Monday at 4:00pm ET (US) \ncontact: itchair@acawso.org \nJoin Zoom Meeting \nhttps://us02web.zoom.us/j/89520227175 \nMeeting ID: 895 2022 7175\nPasscode: 90755\nOne tap mobile\n+19292056099\,\,89520227175# US (New York)\n+13126266799\,\,89520227175# US (Chicago) \nDial by your location\n+1 929 205 6099 US (New York)\n+1 312 626 6799 US (Chicago)\n+1 301 715 8592 US (Washington DC)\n+1 253 215 8782 US (Tacoma)\n+1 346 248 7799 US (Houston)\n+1 669 900 6833 US (San Jose)\nMeeting ID: 895 2022 7175\nFind your local number: https://us02web.zoom.us/u/kdrkCQ8UuT
URL:https://acawso.org/calendar/it-committee-2023-07-19-2-2-2/2025-02-03/
CATEGORIES:committees
END:VEVENT
BEGIN:VEVENT
DTSTART;TZID=America/New_York:20250204T100000
DTEND;TZID=America/New_York:20250204T120000
DTSTAMP:20260422T190646
CREATED:20241123T171445Z
LAST-MODIFIED:20241123T171816Z
UID:10014403-1738663200-1738670400@acawso.org
SUMMARY:Ready Set GO!!  Morning Series
DESCRIPTION:Ready Set GO!! is a 6-week introductory program of the ACA program\, the ACA 12 Steps and an introductory Inner Child Workshop “Awakening My Little One”. \nStarts January 7th and runs through February 11th. Each session lasts 2 hours. \nClick HERE to view all of the information you will need for Ready Set Go! (RSG) \nNote that our Thursday Evening series starts January 9th and runs through February 13th.
URL:https://acawso.org/calendar/ready-set-go-morning-series-20/2025-02-04/
CATEGORIES:events
END:VEVENT
BEGIN:VEVENT
DTSTART;TZID=America/New_York:20250204T133000
DTEND;TZID=America/New_York:20250204T143000
DTSTAMP:20260422T190646
CREATED:20250107T111344Z
LAST-MODIFIED:20250107T111417Z
UID:10014946-1738675800-1738679400@acawso.org
SUMMARY:European Committee
DESCRIPTION:The monthly meeting is hosted by Zoom the First Tuesday of the month at 19:30 Central European Time / 18:30 UK / 20:30 Baltics / Helsinki / 21:30 Moscow time / 1:30pm ET \nhttps://us02web.zoom.us/j/83834372326 \nMeeting ID: 838 3437 2326\nPasscode: 437668 \nMore information about the European Committee can be found at https://acawso.org/category/european-connection/
URL:https://acawso.org/calendar/european-committee-2-2/2025-02-04/
CATEGORIES:committees
END:VEVENT
BEGIN:VEVENT
DTSTART;TZID=America/New_York:20250204T170000
DTEND;TZID=America/New_York:20250204T183000
DTSTAMP:20260422T190646
CREATED:20240814T181038Z
LAST-MODIFIED:20251216T233353Z
UID:10011744-1738688400-1738693800@acawso.org
SUMMARY:ABC Study
DESCRIPTION:Please see our subcommittee homepage for more information \nThis Study Group meets weekly on Tuesdays at 5:00 pm Eastern. \nMeeting ID: 993 7036 0615\nPasscode: 182011 \nIf you have questions\, please email us at abcstudy@acawso.org.
URL:https://acawso.org/calendar/abc-study-4-2-2/2025-02-04/
CATEGORIES:committees
END:VEVENT
BEGIN:VEVENT
DTSTART;TZID=America/New_York:20250206T123000
DTEND;TZID=America/New_York:20250206T140000
DTSTAMP:20260422T190646
CREATED:20230524T174025Z
LAST-MODIFIED:20230524T174025Z
UID:10004724-1738845000-1738850400@acawso.org
SUMMARY:Board Executive Committee
DESCRIPTION:The WSO Board’s Executive committee meets twice a month on the 1st and 3rd Thursdays at 12:30pm Eastern Time
URL:https://acawso.org/calendar/board-executive-committee/2025-02-06/
END:VEVENT
BEGIN:VEVENT
DTSTART;TZID=America/New_York:20250206T143000
DTEND;TZID=America/New_York:20250206T160000
DTSTAMP:20260422T190646
CREATED:20221215T201448Z
LAST-MODIFIED:20221215T201448Z
UID:10005788-1738852200-1738857600@acawso.org
SUMMARY:Finance Committee
DESCRIPTION:The finance committee meets Thursdays from 2:30 pm ET – 4:00pm ET.  We are looking for members with business\, finance\, or bookkeeping experience. \n  \nPlease contact treasurer@adultchildren.org or finance@acawso.org if you are interested in visiting or joining the finance committee.
URL:https://acawso.org/calendar/finance-committee/2025-02-06/
CATEGORIES:committees
END:VEVENT
BEGIN:VEVENT
DTSTART;TZID=America/New_York:20250206T173000
DTEND;TZID=America/New_York:20250206T190000
DTSTAMP:20260422T190646
CREATED:20240710T202917Z
LAST-MODIFIED:20240710T202917Z
UID:10009763-1738863000-1738868400@acawso.org
SUMMARY:Concepts Study
DESCRIPTION:This ad hoc committee was created by the 2022 ABC. \nAll ACA’s are welcome \nZoom information: \nhttps://zoom.us/j/83429248013 \nMeeting ID: 834 2924 8013\nPasscode: 90755 \nCommittee’s page
URL:https://acawso.org/calendar/concepts-ii-and-vi-study-2-2-2/2025-02-06/
CATEGORIES:committees
END:VEVENT
BEGIN:VEVENT
DTSTART;TZID=America/New_York:20250206T180000
DTEND;TZID=America/New_York:20250206T193000
DTSTAMP:20260422T190646
CREATED:20241213T194151Z
LAST-MODIFIED:20241213T194520Z
UID:10014538-1738864800-1738870200@acawso.org
SUMMARY:Ballot Prep Committee
DESCRIPTION:All are welcome. \nFor more information\, contact the committee at bpc@adultchildren.org \nZoom 2 ACAWSO is inviting you to a scheduled Zoom meeting. \nhttps://zoom.us/j/81531189155 \nMeeting ID: 815 3118 9155\nPasscode: 90755
URL:https://acawso.org/calendar/ballot-prep-committee-5/2025-02-06/
CATEGORIES:committees
END:VEVENT
BEGIN:VEVENT
DTSTART;TZID=America/New_York:20250206T190000
DTEND;TZID=America/New_York:20250206T210000
DTSTAMP:20260422T190646
CREATED:20241123T172329Z
LAST-MODIFIED:20241123T172329Z
UID:10014421-1738868400-1738875600@acawso.org
SUMMARY:Ready Set Go!! Evening Series
DESCRIPTION:Ready Set GO!! is a 6-week introductory program of the ACA program\, the ACA 12 Steps and an introductory Inner Child Workshop “Awakening My Little One”. \nStarts January 9th and runs through February 13th. Each session lasts 2 hours. \nClick HERE to view all of the information you will need for Ready Set Go! (RSG) \nNote that our Tuesday Morning series starts January 7th and runs through February 11th.
URL:https://acawso.org/calendar/ready-set-go-evening-series-16/2025-02-06/
CATEGORIES:events
END:VEVENT
END:VCALENDAR