BEGIN:VCALENDAR
VERSION:2.0
PRODID:-//ACA WSO - ECPv6.15.20//NONSGML v1.0//EN
CALSCALE:GREGORIAN
METHOD:PUBLISH
X-ORIGINAL-URL:https://acawso.org
X-WR-CALDESC:Events for ACA WSO
REFRESH-INTERVAL;VALUE=DURATION:PT1H
X-Robots-Tag:noindex
X-PUBLISHED-TTL:PT1H
BEGIN:VTIMEZONE
TZID:America/New_York
BEGIN:DAYLIGHT
TZOFFSETFROM:-0500
TZOFFSETTO:-0400
TZNAME:EDT
DTSTART:20250309T070000
END:DAYLIGHT
BEGIN:STANDARD
TZOFFSETFROM:-0400
TZOFFSETTO:-0500
TZNAME:EST
DTSTART:20251102T060000
END:STANDARD
BEGIN:DAYLIGHT
TZOFFSETFROM:-0500
TZOFFSETTO:-0400
TZNAME:EDT
DTSTART:20260308T070000
END:DAYLIGHT
BEGIN:STANDARD
TZOFFSETFROM:-0400
TZOFFSETTO:-0500
TZNAME:EST
DTSTART:20261101T060000
END:STANDARD
BEGIN:DAYLIGHT
TZOFFSETFROM:-0500
TZOFFSETTO:-0400
TZNAME:EDT
DTSTART:20270314T070000
END:DAYLIGHT
BEGIN:STANDARD
TZOFFSETFROM:-0400
TZOFFSETTO:-0500
TZNAME:EST
DTSTART:20271107T060000
END:STANDARD
END:VTIMEZONE
BEGIN:VEVENT
DTSTART;TZID=America/New_York:20260801T103000
DTEND;TZID=America/New_York:20260801T120000
DTSTAMP:20260421T031417
CREATED:20251031T215409Z
LAST-MODIFIED:20260228T184519Z
UID:10016712-1785580200-1785585600@acawso.org
SUMMARY:ABC Sustainability Study Sub-Committee
DESCRIPTION:We generally meet on the 1st & 3rd Saturday of each month from 10:30AM to Noon EDT. \nAlways check this WSO Committee Calendar for any changes to our schedule. \nWe meet on Zoom 2: \nZoom URL: https://zoom.us/j/91045736882  \nMeeting ID: 910 4573 6882 \nPasscode: 992748
URL:https://acawso.org/calendar/abc-sustainability-study-sub-committee-7-2/2026-08-01/
CATEGORIES:committees
END:VEVENT
BEGIN:VEVENT
DTSTART;TZID=America/New_York:20260801T123000
DTEND;TZID=America/New_York:20260801T140000
DTSTAMP:20260421T031417
CREATED:20250129T193225Z
LAST-MODIFIED:20250510T175944Z
UID:10015732-1785587400-1785592800@acawso.org
SUMMARY:ABC/QDM Committee
DESCRIPTION:The ABC/AWC committee meets first and third Saturdays from 12:30 to 2 pm EDT \nJoin Zoom Meeting\nhttps://us02web.zoom.us/j/87582913615?pwd=dWpPNVJPcVNiVjJxbGgzbFVwY05EZz09 \nMeeting ID: 875 8291 3615\nPasscode: ABC2022 \nContact abc@adultchildren.org for more details.
URL:https://acawso.org/calendar/abc-awc-committee-5/2026-08-01/
CATEGORIES:committees
END:VEVENT
BEGIN:VEVENT
DTSTART;TZID=America/New_York:20260801T130000
DTEND;TZID=America/New_York:20260801T141500
DTSTAMP:20260421T031417
CREATED:20260122T112954Z
LAST-MODIFIED:20260128T201831Z
UID:10018320-1785589200-1785593700@acawso.org
SUMMARY:Lit Evaluation Subcommittee
DESCRIPTION:Literature Evaluation meets the 1st Saturday of each month\, 1:00pm-2:15pm ET. \ncontact: liteval@acawso.org \nhttps://us02web.zoom.us/j/86113897454?pwd=UitVN2tHb1E1STJ5YXlWYU1mZXZ5Zz09 \nMeeting ID: 861 1389 7454\nPasscode: 127253
URL:https://acawso.org/calendar/lit-evaluation-subcommittee-3-2/2026-08-01/
CATEGORIES:committees
END:VEVENT
BEGIN:VEVENT
DTSTART;TZID=America/New_York:20260801T160000
DTEND;TZID=America/New_York:20260801T173000
DTSTAMP:20260421T031417
CREATED:20250315T203407Z
LAST-MODIFIED:20250315T203408Z
UID:10011432-1785600000-1785605400@acawso.org
SUMMARY:SRC Committee Meeting
DESCRIPTION:Service Resources Committee meets on the 1st and 3rd Saturday of the month at 4pm ET. \nZoom 2 ACAWSO is inviting you to a scheduled Zoom meeting. \nTopic: SRC Committee Meeting\nJoin Zoom Meeting\nhttps://us02web.zoom.us/j/82077851277 \nMeeting ID: 820 7785 1277\nPasscode: 987321 \n  \nPlease download and import the following iCalendar (.ics) files to your calendar system.\nWeekly: https://us02web.zoom.us/meeting/tZYtcO6gqzooHdN_nSsMjGe-HFnItRpAbjLl/ics?icsToken=98tyKuGqrjwtEtGUsh6ARpwQAo_CKPzwmH5BgqdzoxHWEA1ZRQa7HsRMG6ZNAPnS
URL:https://acawso.org/calendar/mssc-committee-meeting-2-2/2026-08-01/
CATEGORIES:committees
END:VEVENT
BEGIN:VEVENT
DTSTART;TZID=America/New_York:20260803T120000
DTEND;TZID=America/New_York:20260803T133000
DTSTAMP:20260421T031417
CREATED:20250801T144133Z
LAST-MODIFIED:20250801T144134Z
UID:10012178-1785758400-1785763800@acawso.org
SUMMARY:IT Website Redesign Working Group
DESCRIPTION:IT website redesign working group meetings every Monday at 12:00pm ET (US) \nContact:  itchair@acawso.org \nJoin Zoom Meeting\nhttps://us02web.zoom.us/j/83771567325 \nMeeting ID: 837 7156 7325\nPasscode: 088655
URL:https://acawso.org/calendar/it-website-redesign-working-group-2-2-2-2/2026-08-03/
CATEGORIES:committees
END:VEVENT
BEGIN:VEVENT
DTSTART;TZID=America/New_York:20260803T160000
DTEND;TZID=America/New_York:20260803T173000
DTSTAMP:20260421T031417
CREATED:20251119T192005Z
LAST-MODIFIED:20251119T192007Z
UID:10010229-1785772800-1785778200@acawso.org
SUMMARY:IT Committee
DESCRIPTION:IT Committee meets as and when needed on Mondays at 4:00pm ET (US). Please contact the IT Chair before attending the meeting to find out if it meets in a given week. \ncontact: itchair@acawso.org \nJoin Zoom Meeting \nhttps://us02web.zoom.us/j/89520227175 \nMeeting ID: 895 2022 7175\nPasscode: 90755
URL:https://acawso.org/calendar/it-committee-2023-07-19-2-2-2-2/2026-08-03/
CATEGORIES:committees
END:VEVENT
BEGIN:VEVENT
DTSTART;TZID=America/New_York:20260804T133000
DTEND;TZID=America/New_York:20260804T143000
DTSTAMP:20260421T031417
CREATED:20250107T111344Z
LAST-MODIFIED:20250107T111417Z
UID:10014964-1785850200-1785853800@acawso.org
SUMMARY:European Committee
DESCRIPTION:The monthly meeting is hosted by Zoom the First Tuesday of the month at 19:30 Central European Time / 18:30 UK / 20:30 Baltics / Helsinki / 21:30 Moscow time / 1:30pm ET \nhttps://us02web.zoom.us/j/83834372326 \nMeeting ID: 838 3437 2326\nPasscode: 437668 \nMore information about the European Committee can be found at https://acawso.org/category/european-connection/
URL:https://acawso.org/calendar/european-committee-2-2/2026-08-04/
CATEGORIES:committees
END:VEVENT
BEGIN:VEVENT
DTSTART;TZID=America/New_York:20260804T170000
DTEND;TZID=America/New_York:20260804T183000
DTSTAMP:20260421T031417
CREATED:20260206T175655Z
LAST-MODIFIED:20260206T175656Z
UID:10011762-1785862800-1785868200@acawso.org
SUMMARY:Charter Ad Hoc Committee
DESCRIPTION:Please see our Committee homepage for more information \nThis Study Group meets weekly on Tuesdays at 5:00 pm Eastern. \nMeeting ID: 993 7036 0615\nPasscode: 182011 \nIf you have questions\, please email us at abcstudy@acawso.org.
URL:https://acawso.org/calendar/abc-study-4-2-2-2/2026-08-04/
CATEGORIES:committees
END:VEVENT
BEGIN:VEVENT
DTSTART;TZID=America/New_York:20260806T160000
DTEND;TZID=America/New_York:20260806T173000
DTSTAMP:20260421T031417
CREATED:20260407T102823Z
LAST-MODIFIED:20260409T172137Z
UID:10019114-1786032000-1786037400@acawso.org
SUMMARY:Concepts Study
DESCRIPTION:This ad hoc committee was created by the 2022 ABC. \nAll ACA’s are welcome \nZoom information: \nMeeting ID: 955 2372 8529Passcode: 26623787
URL:https://acawso.org/calendar/concepts-study/2026-08-06/
CATEGORIES:committees
END:VEVENT
BEGIN:VEVENT
DTSTART;TZID=America/New_York:20260808T120000
DTEND;TZID=America/New_York:20260808T130000
DTSTAMP:20260421T031417
CREATED:20260101T175833Z
LAST-MODIFIED:20260217T160844Z
UID:10018410-1786190400-1786194000@acawso.org
SUMMARY:Sponsorship
DESCRIPTION:Sponsorship Workshop invites newcomers and old timers to meet. Newcomers can ask questions and Old timers can offer suggestions. The Sponsorship Workshop will be held every 2nd Saturday at 9 am PST noon EST. \nSponsored by Region 6 and IG#640
URL:https://acawso.org/calendar/sponsorship/2026-08-08/
CATEGORIES:events
END:VEVENT
BEGIN:VEVENT
DTSTART;TZID=America/New_York:20260808T200000
DTEND;TZID=America/New_York:20260808T213000
DTSTAMP:20260421T031417
CREATED:20241109T132041Z
LAST-MODIFIED:20241109T132042Z
UID:10012538-1786219200-1786224600@acawso.org
SUMMARY:Big Red Book Working Group
DESCRIPTION:Zoom 2 ACAWSO is inviting you to a scheduled Zoom meeting.\nTopic: BRB Revision Working Group- Global East\nTime: Every month on the second and fourth Saturday at 8 PM Eastern US \nJoin Zoom Meeting\nhttps://zoom.us/j/92423141348\nMeeting ID: 924 2314 1348\nPasscode: 112358 \nPlease download and import the following iCalendar (.ics) files to your calendar system.\nMonthly: https://zoom.us/meeting/tJYpdeqpqjopHtwsBMOyTO0tAY5XaN4QYv7-/ics?icsToken=98tyKuCqqjkpG9CUsx2PRowQBojob-vwiH5egrdKjz3ILDlnTVPiF9sXCrNRROnp
URL:https://acawso.org/calendar/brb-revision-working-group-global-east-3-2/2026-08-08/
CATEGORIES:committees
END:VEVENT
BEGIN:VEVENT
DTSTART;TZID=America/New_York:20260810T120000
DTEND;TZID=America/New_York:20260810T133000
DTSTAMP:20260421T031417
CREATED:20250801T144133Z
LAST-MODIFIED:20250801T144134Z
UID:10012179-1786363200-1786368600@acawso.org
SUMMARY:IT Website Redesign Working Group
DESCRIPTION:IT website redesign working group meetings every Monday at 12:00pm ET (US) \nContact:  itchair@acawso.org \nJoin Zoom Meeting\nhttps://us02web.zoom.us/j/83771567325 \nMeeting ID: 837 7156 7325\nPasscode: 088655
URL:https://acawso.org/calendar/it-website-redesign-working-group-2-2-2-2/2026-08-10/
CATEGORIES:committees
END:VEVENT
BEGIN:VEVENT
DTSTART;TZID=America/New_York:20260810T160000
DTEND;TZID=America/New_York:20260810T173000
DTSTAMP:20260421T031417
CREATED:20251119T192005Z
LAST-MODIFIED:20251119T192007Z
UID:10010230-1786377600-1786383000@acawso.org
SUMMARY:IT Committee
DESCRIPTION:IT Committee meets as and when needed on Mondays at 4:00pm ET (US). Please contact the IT Chair before attending the meeting to find out if it meets in a given week. \ncontact: itchair@acawso.org \nJoin Zoom Meeting \nhttps://us02web.zoom.us/j/89520227175 \nMeeting ID: 895 2022 7175\nPasscode: 90755
URL:https://acawso.org/calendar/it-committee-2023-07-19-2-2-2-2/2026-08-10/
CATEGORIES:committees
END:VEVENT
BEGIN:VEVENT
DTSTART;TZID=America/New_York:20260811T170000
DTEND;TZID=America/New_York:20260811T183000
DTSTAMP:20260421T031417
CREATED:20260206T175655Z
LAST-MODIFIED:20260206T175656Z
UID:10013879-1786467600-1786473000@acawso.org
SUMMARY:Charter Ad Hoc Committee
DESCRIPTION:Please see our Committee homepage for more information \nThis Study Group meets weekly on Tuesdays at 5:00 pm Eastern. \nMeeting ID: 993 7036 0615\nPasscode: 182011 \nIf you have questions\, please email us at abcstudy@acawso.org.
URL:https://acawso.org/calendar/abc-study-4-2-2-2/2026-08-11/
CATEGORIES:committees
END:VEVENT
BEGIN:VEVENT
DTSTART;TZID=America/New_York:20260813T160000
DTEND;TZID=America/New_York:20260813T173000
DTSTAMP:20260421T031417
CREATED:20260306T145257Z
LAST-MODIFIED:20260306T145429Z
UID:10018626-1786636800-1786642200@acawso.org
SUMMARY:Finance Committee
DESCRIPTION:The finance committee meets Thursdays from 4:00 pm ET – 5:30pm ET.  We are looking for members with business\, finance\, or bookkeeping experience. \n  \nPlease contact treasurer@adultchildren.org or finance@acawso.org if you are interested in visiting or joining the finance committee.
URL:https://acawso.org/calendar/finance-committee-3/2026-08-13/
CATEGORIES:committees
END:VEVENT
BEGIN:VEVENT
DTSTART;TZID=America/New_York:20260815T103000
DTEND;TZID=America/New_York:20260815T120000
DTSTAMP:20260421T031417
CREATED:20260117T154318Z
LAST-MODIFIED:20260119T114552Z
UID:10017359-1786789800-1786795200@acawso.org
SUMMARY:ABC Sustainability Study Sub-Committee
DESCRIPTION:NOTE:  In January we are meeting on the 18th instead of the 17th. \nWe usually meet on the 1st & 3rd Saturday of each month from 10:30AM to Noon EDT. We recommend that you check the WSO Committee Calendar for any changes to this schedule. \nZoom URL: https://zoom.us/j/91045736882  \nMeeting ID: 910 4573 6882 \nPasscode: 992748
URL:https://acawso.org/calendar/abc-sustainability-study-sub-committee-6-3/2026-08-15/
CATEGORIES:committees
END:VEVENT
BEGIN:VEVENT
DTSTART;TZID=America/New_York:20260815T123000
DTEND;TZID=America/New_York:20260815T140000
DTSTAMP:20260421T031417
CREATED:20250426T032033Z
LAST-MODIFIED:20250827T230724Z
UID:10017603-1786797000-1786802400@acawso.org
SUMMARY:ABC/QDM Committee
DESCRIPTION:The ABC/AWC committee meets first and third Saturday from 12:30 to 2 pm EDT \nJoin Zoom Meeting\nhttps://us02web.zoom.us/j/87582913615?pwd=dWpPNVJPcVNiVjJxbGgzbFVwY05EZz09 \nMeeting ID: 875 8291 3615\nPasscode: ABC2022 \nContact abc@adultchildren.org for more details. \n 
URL:https://acawso.org/calendar/abc-awc-committee-4-2-3/2026-08-15/
CATEGORIES:committees
END:VEVENT
BEGIN:VEVENT
DTSTART;TZID=America/New_York:20260817T120000
DTEND;TZID=America/New_York:20260817T133000
DTSTAMP:20260421T031417
CREATED:20250801T144133Z
LAST-MODIFIED:20250801T144134Z
UID:10012180-1786968000-1786973400@acawso.org
SUMMARY:IT Website Redesign Working Group
DESCRIPTION:IT website redesign working group meetings every Monday at 12:00pm ET (US) \nContact:  itchair@acawso.org \nJoin Zoom Meeting\nhttps://us02web.zoom.us/j/83771567325 \nMeeting ID: 837 7156 7325\nPasscode: 088655
URL:https://acawso.org/calendar/it-website-redesign-working-group-2-2-2-2/2026-08-17/
CATEGORIES:committees
END:VEVENT
BEGIN:VEVENT
DTSTART;TZID=America/New_York:20260817T160000
DTEND;TZID=America/New_York:20260817T173000
DTSTAMP:20260421T031417
CREATED:20251119T192005Z
LAST-MODIFIED:20251119T192007Z
UID:10010231-1786982400-1786987800@acawso.org
SUMMARY:IT Committee
DESCRIPTION:IT Committee meets as and when needed on Mondays at 4:00pm ET (US). Please contact the IT Chair before attending the meeting to find out if it meets in a given week. \ncontact: itchair@acawso.org \nJoin Zoom Meeting \nhttps://us02web.zoom.us/j/89520227175 \nMeeting ID: 895 2022 7175\nPasscode: 90755
URL:https://acawso.org/calendar/it-committee-2023-07-19-2-2-2-2/2026-08-17/
CATEGORIES:committees
END:VEVENT
BEGIN:VEVENT
DTSTART;TZID=America/New_York:20260818T170000
DTEND;TZID=America/New_York:20260818T183000
DTSTAMP:20260421T031417
CREATED:20260206T175655Z
LAST-MODIFIED:20260206T175656Z
UID:10013880-1787072400-1787077800@acawso.org
SUMMARY:Charter Ad Hoc Committee
DESCRIPTION:Please see our Committee homepage for more information \nThis Study Group meets weekly on Tuesdays at 5:00 pm Eastern. \nMeeting ID: 993 7036 0615\nPasscode: 182011 \nIf you have questions\, please email us at abcstudy@acawso.org.
URL:https://acawso.org/calendar/abc-study-4-2-2-2/2026-08-18/
CATEGORIES:committees
END:VEVENT
BEGIN:VEVENT
DTSTART;TZID=America/New_York:20260819T130000
DTEND;TZID=America/New_York:20260819T140000
DTSTAMP:20260421T031417
CREATED:20251217T165807Z
LAST-MODIFIED:20251217T165808Z
UID:10012624-1787144400-1787148000@acawso.org
SUMMARY:Translations Subcommittee
DESCRIPTION:Translation Subcommittee meets every 3rd Wednesday of the month at \n1 pm ET New York\, USA\n12 pm CT Mexico City\, Mexico\n10 am PT Los Angeles\, USA\n6 pm GMT London\, UK\n7 pm CET Madrid\, Spain\n9 pm MK Moscow\, Russia\n11:30pm IST New Delhi\, India\n3 am JT Tokyo\, Japan\n5 am AET Sydney\, AUS \n  \nMeeting ID: 879 0590 2057\nPasscode: 969814 \nAll are welcome!
URL:https://acawso.org/calendar/translations-subcommittee-2-3/2026-08-19/
CATEGORIES:committees
END:VEVENT
BEGIN:VEVENT
DTSTART;TZID=America/New_York:20260820T160000
DTEND;TZID=America/New_York:20260820T173000
DTSTAMP:20260421T031417
CREATED:20260407T103035Z
LAST-MODIFIED:20260409T172029Z
UID:10019297-1787241600-1787247000@acawso.org
SUMMARY:Concepts Study
DESCRIPTION:This ad hoc committee was created by the 2022 ABC. \nAll ACA’s are welcome \nZoom information: \nMeeting ID: 955 2372 8529Passcode: 26623787
URL:https://acawso.org/calendar/concepts-study-2-2/2026-08-20/
CATEGORIES:committees
END:VEVENT
BEGIN:VEVENT
DTSTART;TZID=America/New_York:20260820T161500
DTEND;TZID=America/New_York:20260820T171500
DTSTAMP:20260421T031417
CREATED:20240610T105549Z
LAST-MODIFIED:20240722T102939Z
UID:10012862-1787242500-1787246100@acawso.org
SUMMARY:Oral History Committee
DESCRIPTION:Oral History Committee meets on third Thursday of each month at 4:15pm Eastern. \nhttps://zoom.us/j/87931864867 \nMeeting ID: 879 3186 4867 \nPasscode: 076406
URL:https://acawso.org/calendar/oral-history-committee-2-2/2026-08-20/
CATEGORIES:committees
END:VEVENT
BEGIN:VEVENT
DTSTART;TZID=America/New_York:20260821T180000
DTEND;TZID=America/New_York:20260821T190000
DTSTAMP:20260421T031417
CREATED:20250816T110018Z
LAST-MODIFIED:20260302T110304Z
UID:10009455-1787335200-1787338800@acawso.org
SUMMARY:Data Analysis Committee
DESCRIPTION:  \nData Analysis Committee meets every third Friday the month at  3 PM PDT\, 4 PM MDT\, 5 PM CDT\, 6 PM EDT\, Saturday at 5 AM Thailand/Vietnam\, 6 AM Singapore/Taiwan/China\, 7 AM Japan \nFor information how to attend please contact the committee.
URL:https://acawso.org/calendar/data-analysis-committee-2-2-2-2-3/2026-08-21/
CATEGORIES:committees
END:VEVENT
BEGIN:VEVENT
DTSTART;TZID=America/New_York:20260822T200000
DTEND;TZID=America/New_York:20260822T213000
DTSTAMP:20260421T031417
CREATED:20240212T162730Z
LAST-MODIFIED:20240212T162730Z
UID:10012417-1787428800-1787434200@acawso.org
SUMMARY:Big Red Book Working Group
DESCRIPTION:Zoom 2 ACAWSO is inviting you to a scheduled Zoom meeting.\nTopic: BRB Revision Working Group- Global East\nTime: Every month on the second and fourth Saturday at 8 PM Eastern US \nJoin Zoom Meeting\nhttps://zoom.us/j/92423141348\nMeeting ID: 924 2314 1348\nPasscode: 112358 \nPlease download and import the following iCalendar (.ics) files to your calendar system.\nMonthly: https://zoom.us/meeting/tJYpdeqpqjopHtwsBMOyTO0tAY5XaN4QYv7-/ics?icsToken=98tyKuCqqjkpG9CUsx2PRowQBojob-vwiH5egrdKjz3ILDlnTVPiF9sXCrNRROnp
URL:https://acawso.org/calendar/big-red-book-working-group/2026-08-22/
CATEGORIES:committees
END:VEVENT
BEGIN:VEVENT
DTSTART;TZID=America/New_York:20260824T120000
DTEND;TZID=America/New_York:20260824T133000
DTSTAMP:20260421T031417
CREATED:20250801T144133Z
LAST-MODIFIED:20250801T144134Z
UID:10012181-1787572800-1787578200@acawso.org
SUMMARY:IT Website Redesign Working Group
DESCRIPTION:IT website redesign working group meetings every Monday at 12:00pm ET (US) \nContact:  itchair@acawso.org \nJoin Zoom Meeting\nhttps://us02web.zoom.us/j/83771567325 \nMeeting ID: 837 7156 7325\nPasscode: 088655
URL:https://acawso.org/calendar/it-website-redesign-working-group-2-2-2-2/2026-08-24/
CATEGORIES:committees
END:VEVENT
BEGIN:VEVENT
DTSTART;TZID=America/New_York:20260824T160000
DTEND;TZID=America/New_York:20260824T173000
DTSTAMP:20260421T031417
CREATED:20251119T192005Z
LAST-MODIFIED:20251119T192007Z
UID:10010232-1787587200-1787592600@acawso.org
SUMMARY:IT Committee
DESCRIPTION:IT Committee meets as and when needed on Mondays at 4:00pm ET (US). Please contact the IT Chair before attending the meeting to find out if it meets in a given week. \ncontact: itchair@acawso.org \nJoin Zoom Meeting \nhttps://us02web.zoom.us/j/89520227175 \nMeeting ID: 895 2022 7175\nPasscode: 90755
URL:https://acawso.org/calendar/it-committee-2023-07-19-2-2-2-2/2026-08-24/
CATEGORIES:committees
END:VEVENT
BEGIN:VEVENT
DTSTART;TZID=America/New_York:20260825T170000
DTEND;TZID=America/New_York:20260825T183000
DTSTAMP:20260421T031417
CREATED:20260206T175655Z
LAST-MODIFIED:20260206T175656Z
UID:10013881-1787677200-1787682600@acawso.org
SUMMARY:Charter Ad Hoc Committee
DESCRIPTION:Please see our Committee homepage for more information \nThis Study Group meets weekly on Tuesdays at 5:00 pm Eastern. \nMeeting ID: 993 7036 0615\nPasscode: 182011 \nIf you have questions\, please email us at abcstudy@acawso.org.
URL:https://acawso.org/calendar/abc-study-4-2-2-2/2026-08-25/
CATEGORIES:committees
END:VEVENT
BEGIN:VEVENT
DTSTART;TZID=America/New_York:20260827T160000
DTEND;TZID=America/New_York:20260827T173000
DTSTAMP:20260421T031417
CREATED:20260306T144231Z
LAST-MODIFIED:20260306T144231Z
UID:10018565-1787846400-1787851800@acawso.org
SUMMARY:Finance Committee
DESCRIPTION:The finance committee meets Thursdays from 4:00 pm ET – 5:30pm ET.  We are looking for members with business\, finance\, or bookkeeping experience. \n  \nPlease contact treasurer@adultchildren.org or finance@acawso.org if you are interested in visiting or joining the finance committee.
URL:https://acawso.org/calendar/finance-committee-3-2/2026-08-27/
CATEGORIES:committees
END:VEVENT
BEGIN:VEVENT
DTSTART;TZID=America/New_York:20260828T093000
DTEND;TZID=America/New_York:20260828T113000
DTSTAMP:20260421T031417
CREATED:20260227T195846Z
LAST-MODIFIED:20260227T200704Z
UID:10017998-1787909400-1787916600@acawso.org
SUMMARY:Publishing Committee
DESCRIPTION:Publishing Committee \nWe meet on Fridays once a month on the 4th Friday of each month. \n \nTime: 6:30 am PDT\, 9:30 am EDT\, 2:30 pm UK/GBST\, 3:30 pm CET \, 3:30 pm SAST\, 7:00 pm India \nMeeting ID: 857 7189 3168\nPasscode: 382777 \nAny questions\, contact Sue V at publishingchair@acawso.org  or on slack \n 
URL:https://acawso.org/calendar/publishing-committee-3-2-3-2-3/2026-08-28/
CATEGORIES:committees
END:VEVENT
END:VCALENDAR