BEGIN:VCALENDAR
VERSION:2.0
PRODID:-//ACA WSO - ECPv6.15.20//NONSGML v1.0//EN
CALSCALE:GREGORIAN
METHOD:PUBLISH
X-ORIGINAL-URL:https://acawso.org
X-WR-CALDESC:Events for ACA WSO
REFRESH-INTERVAL;VALUE=DURATION:PT1H
X-Robots-Tag:noindex
X-PUBLISHED-TTL:PT1H
BEGIN:VTIMEZONE
TZID:America/New_York
BEGIN:DAYLIGHT
TZOFFSETFROM:-0500
TZOFFSETTO:-0400
TZNAME:EDT
DTSTART:20230312T070000
END:DAYLIGHT
BEGIN:STANDARD
TZOFFSETFROM:-0400
TZOFFSETTO:-0500
TZNAME:EST
DTSTART:20231105T060000
END:STANDARD
BEGIN:DAYLIGHT
TZOFFSETFROM:-0500
TZOFFSETTO:-0400
TZNAME:EDT
DTSTART:20240310T070000
END:DAYLIGHT
BEGIN:STANDARD
TZOFFSETFROM:-0400
TZOFFSETTO:-0500
TZNAME:EST
DTSTART:20241103T060000
END:STANDARD
BEGIN:DAYLIGHT
TZOFFSETFROM:-0500
TZOFFSETTO:-0400
TZNAME:EDT
DTSTART:20250309T070000
END:DAYLIGHT
BEGIN:STANDARD
TZOFFSETFROM:-0400
TZOFFSETTO:-0500
TZNAME:EST
DTSTART:20251102T060000
END:STANDARD
END:VTIMEZONE
BEGIN:VEVENT
DTSTART;TZID=America/New_York:20240413T100000
DTEND;TZID=America/New_York:20240413T180000
DTSTAMP:20260420T183157
CREATED:20240328T171244Z
LAST-MODIFIED:20240328T171244Z
UID:10012656-1713002400-1713031200@acawso.org
SUMMARY:One Day Ready Set GO!! Workshop in Toronto
DESCRIPTION:The ACA Regional Intergroup Greater Toronto and Area (IG# 558) is inviting you to: \nREADY SET GO!! ONE DAY WORKSHOP \nSaturday\, April 13\, 2024 10am—6pm EST \nSt. Andrew’s United Church\n117 Bloor St E\, Toronto\, ON M4W 1A9 \nReady Set GO! is an interactive\, experiential introduction to the 12 Steps of ACA and the ACA Solution:\nBecoming your own Loving Parent and developing a healing relationship with your Inner Child. \nRegistration opens at 9:30 am\nThere will be a 60-minute break for lunch \nFor more information and to register\, visit https://acatoronto.org/ready-set-go-workshop/\nQuestions? Contact us at acatorontoevents@gmail.com \nSponsored by IG#558 \nDownloadable flyer.
URL:https://acawso.org/calendar/one-day-ready-set-go-workshop-in-toronto/
CATEGORIES:events
END:VEVENT
END:VCALENDAR