BEGIN:VCALENDAR
VERSION:2.0
PRODID:-//ACA WSO - ECPv6.15.20//NONSGML v1.0//EN
CALSCALE:GREGORIAN
METHOD:PUBLISH
X-WR-CALNAME:ACA WSO
X-ORIGINAL-URL:https://acawso.org
X-WR-CALDESC:Events for ACA WSO
REFRESH-INTERVAL;VALUE=DURATION:PT1H
X-Robots-Tag:noindex
X-PUBLISHED-TTL:PT1H
BEGIN:VTIMEZONE
TZID:America/New_York
BEGIN:DAYLIGHT
TZOFFSETFROM:-0500
TZOFFSETTO:-0400
TZNAME:EDT
DTSTART:20240310T070000
END:DAYLIGHT
BEGIN:STANDARD
TZOFFSETFROM:-0400
TZOFFSETTO:-0500
TZNAME:EST
DTSTART:20241103T060000
END:STANDARD
BEGIN:DAYLIGHT
TZOFFSETFROM:-0500
TZOFFSETTO:-0400
TZNAME:EDT
DTSTART:20250309T070000
END:DAYLIGHT
BEGIN:STANDARD
TZOFFSETFROM:-0400
TZOFFSETTO:-0500
TZNAME:EST
DTSTART:20251102T060000
END:STANDARD
BEGIN:DAYLIGHT
TZOFFSETFROM:-0500
TZOFFSETTO:-0400
TZNAME:EDT
DTSTART:20260308T070000
END:DAYLIGHT
BEGIN:STANDARD
TZOFFSETFROM:-0400
TZOFFSETTO:-0500
TZNAME:EST
DTSTART:20261101T060000
END:STANDARD
END:VTIMEZONE
BEGIN:VEVENT
DTSTART;TZID=America/New_York:20251108T210000
DTEND;TZID=America/New_York:20251108T230000
DTSTAMP:20260423T052420
CREATED:20251025T104653Z
LAST-MODIFIED:20251025T104653Z
UID:10017669-1762635600-1762642800@acawso.org
SUMMARY:Thriving Through the Holidays
DESCRIPTION:Thriving Through the Holidays is a supportive 2-hour virtual workshop where you’ll get practical tools for emotional wellness and strategies for navigating challenging family dynamics\, plus insights from two guest speakers. \nNeed help navigating the holidays? As members of ACA\, we don’t have to just survive the season—we can thrive through it\, together. \nWe invite you to join us for a brand-new ACA event hosted by the Colorado ACA Intergroup! Thriving Through the Holidays is a supportive 2-hour virtual workshop where you’ll get practical tools for emotional wellness and strategies for navigating challenging family dynamics\, plus insights from two guest speakers. \nTo get a link to join us\, email events@coacaig.org \nSponsored by IG#605
URL:https://acawso.org/calendar/thriving-through-the-holidays/
CATEGORIES:events
END:VEVENT
END:VCALENDAR