BEGIN:VCALENDAR
VERSION:2.0
PRODID:-//ACA WSO - ECPv6.15.20//NONSGML v1.0//EN
CALSCALE:GREGORIAN
METHOD:PUBLISH
X-WR-CALNAME:ACA WSO
X-ORIGINAL-URL:https://acawso.org
X-WR-CALDESC:Events for ACA WSO
REFRESH-INTERVAL;VALUE=DURATION:PT1H
X-Robots-Tag:noindex
X-PUBLISHED-TTL:PT1H
BEGIN:VTIMEZONE
TZID:America/New_York
BEGIN:DAYLIGHT
TZOFFSETFROM:-0500
TZOFFSETTO:-0400
TZNAME:EDT
DTSTART:20230312T070000
END:DAYLIGHT
BEGIN:STANDARD
TZOFFSETFROM:-0400
TZOFFSETTO:-0500
TZNAME:EST
DTSTART:20231105T060000
END:STANDARD
BEGIN:DAYLIGHT
TZOFFSETFROM:-0500
TZOFFSETTO:-0400
TZNAME:EDT
DTSTART:20240310T070000
END:DAYLIGHT
BEGIN:STANDARD
TZOFFSETFROM:-0400
TZOFFSETTO:-0500
TZNAME:EST
DTSTART:20241103T060000
END:STANDARD
BEGIN:DAYLIGHT
TZOFFSETFROM:-0500
TZOFFSETTO:-0400
TZNAME:EDT
DTSTART:20250309T070000
END:DAYLIGHT
BEGIN:STANDARD
TZOFFSETFROM:-0400
TZOFFSETTO:-0500
TZNAME:EST
DTSTART:20251102T060000
END:STANDARD
END:VTIMEZONE
BEGIN:VEVENT
DTSTART;TZID=America/New_York:20240311T180000
DTEND;TZID=America/New_York:20240311T200000
DTSTAMP:20260420T233436
CREATED:20240305T165028Z
LAST-MODIFIED:20240305T165028Z
UID:10012571-1710180000-1710187200@acawso.org
SUMMARY:9th Anniversary Meeting
DESCRIPTION:Greetings! \nMA063 is celebrating its 9th anniversary on the evening of Monday the 11th of March\, at the Leominster United Methodist Church – 77 Hall St. Leominster\, MA 01453. We will gather for fellowship at 6:00 PM and begin the Zoom session at 6:30 PM. We will have two speakers\, and there will be ample time for fellow travelers to share. Food will be served! All are invited to attend! \nThis is a hybrid meeting\, so if you are unable to attend in person please join us virtually on Zoom meeting ID 536 856 7242 (see meeting contact for passcode). Email for passcode: elizabeth.lademan@gmail.com \nSponsored by MA063
URL:https://acawso.org/calendar/9th-anniversary-meeting/
CATEGORIES:events
END:VEVENT
END:VCALENDAR