BEGIN:VCALENDAR
VERSION:2.0
PRODID:-//ACA WSO - ECPv6.15.20//NONSGML v1.0//EN
CALSCALE:GREGORIAN
METHOD:PUBLISH
X-WR-CALNAME:ACA WSO
X-ORIGINAL-URL:https://acawso.org
X-WR-CALDESC:Events for ACA WSO
REFRESH-INTERVAL;VALUE=DURATION:PT1H
X-Robots-Tag:noindex
X-PUBLISHED-TTL:PT1H
BEGIN:VTIMEZONE
TZID:America/New_York
BEGIN:DAYLIGHT
TZOFFSETFROM:-0500
TZOFFSETTO:-0400
TZNAME:EDT
DTSTART:20200308T070000
END:DAYLIGHT
BEGIN:STANDARD
TZOFFSETFROM:-0400
TZOFFSETTO:-0500
TZNAME:EST
DTSTART:20201101T060000
END:STANDARD
BEGIN:DAYLIGHT
TZOFFSETFROM:-0500
TZOFFSETTO:-0400
TZNAME:EDT
DTSTART:20210314T070000
END:DAYLIGHT
BEGIN:STANDARD
TZOFFSETFROM:-0400
TZOFFSETTO:-0500
TZNAME:EST
DTSTART:20211107T060000
END:STANDARD
BEGIN:DAYLIGHT
TZOFFSETFROM:-0500
TZOFFSETTO:-0400
TZNAME:EDT
DTSTART:20220313T070000
END:DAYLIGHT
BEGIN:STANDARD
TZOFFSETFROM:-0400
TZOFFSETTO:-0500
TZNAME:EST
DTSTART:20221106T060000
END:STANDARD
END:VTIMEZONE
BEGIN:VEVENT
DTSTART;TZID=America/New_York:20210616T120000
DTEND;TZID=America/New_York:20210616T150000
DTSTAMP:20260420T041812
CREATED:20210607T150122Z
LAST-MODIFIED:20210607T150122Z
UID:10004630-1623844800-1623855600@acawso.org
SUMMARY:Let's Flip It!
DESCRIPTION:Click Here to Download Flyer \n		\n			\n			\n		\n\n		 \nSponsored by WEB0532 \nJune 16\, 2021 from 6:00 – 9:00 pm (CEST) \nDear Fellow World Traveller\,\nThe ACoA Experience is inviting you to the ACA Workshop – Let’s Flip It \nWhen: June 16\, 2021\, 06 pm CEST/ 05 pm UK/ 09 am PT / 12pm ET – 150 to 180 mins \nJoin Zoom Meeting\nhttps://us02web.zoom.us/j/82532720669?pwd=VyszN1lOT2R0TEhRQkxkYUJFVHJ3Zz09\nMeeting ID: 825 3272 0669\nPasscode: Recovery\nFind your local number: https://us02web.zoom.us/u/kdDO57fBd \nLet’s Flip It!\nFrom:\nFear to Love.\nDissociation Game – Cycle of Violence to Presence – Connection Cycle.\nSurvival to Thriving\nEmotional Intoxication to Emotional Sobriety.\nHurting to Healing to Helping \nContact:\nacoacarlat@gmail.com
URL:https://acawso.org/calendar/lets-flip-it/
CATEGORIES:events
ORGANIZER;CN="WEB0532":MAILTO:acoacarlat@gmail.com
END:VEVENT
END:VCALENDAR